BEGIN:VCALENDAR
VERSION:2.0
PRODID:-//Grandscape - ECPv6.15.16//NONSGML v1.0//EN
CALSCALE:GREGORIAN
METHOD:PUBLISH
X-WR-CALNAME:Grandscape
X-ORIGINAL-URL:https://www.grandscape.com
X-WR-CALDESC:Events for Grandscape
REFRESH-INTERVAL;VALUE=DURATION:PT1H
X-Robots-Tag:noindex
X-PUBLISHED-TTL:PT1H
BEGIN:VTIMEZONE
TZID:America/New_York
BEGIN:DAYLIGHT
TZOFFSETFROM:-0500
TZOFFSETTO:-0400
TZNAME:EDT
DTSTART:20240310T070000
END:DAYLIGHT
BEGIN:STANDARD
TZOFFSETFROM:-0400
TZOFFSETTO:-0500
TZNAME:EST
DTSTART:20241103T060000
END:STANDARD
BEGIN:DAYLIGHT
TZOFFSETFROM:-0500
TZOFFSETTO:-0400
TZNAME:EDT
DTSTART:20250309T070000
END:DAYLIGHT
BEGIN:STANDARD
TZOFFSETFROM:-0400
TZOFFSETTO:-0500
TZNAME:EST
DTSTART:20251102T060000
END:STANDARD
BEGIN:DAYLIGHT
TZOFFSETFROM:-0500
TZOFFSETTO:-0400
TZNAME:EDT
DTSTART:20260308T070000
END:DAYLIGHT
BEGIN:STANDARD
TZOFFSETFROM:-0400
TZOFFSETTO:-0500
TZNAME:EST
DTSTART:20261101T060000
END:STANDARD
END:VTIMEZONE
BEGIN:VEVENT
DTSTART;TZID=America/New_York:20251209T140000
DTEND;TZID=America/New_York:20251209T160000
DTSTAMP:20260422T104645
CREATED:20251118T194116Z
LAST-MODIFIED:20251118T194116Z
UID:15854-1765288800-1765296000@www.grandscape.com
SUMMARY:Champions League: Tottenham vs. Slavia Praha at Cosm
DESCRIPTION:Be a part of the action as Tottenham takes on Slavia Praha in Shared Reality at Cosm. Get ready to experience the Champions League like never before as you’re transported onto the pitch. [Time subject to change*]\nTottenham and Slavia Praha meet in Europe’s top competition for the first time. Spurs enter the Champions League as the reigning Europa League champions. Winners of the Czech First League last season\, Slavia Praha are back in the Champions League for the first time since the 2019-2020 season. Wrap yourself in all the action of the Champions League at Cosm\, where every shot\, goal\, and save comes to life.\n*Event times hosted by Cosm may be subject to change due to scheduling conflicts. Cosm reserves the right\, at its sole discretion\, to adjust the start or end time of your event\, without notice\, which may differ from the time listed on your original ticket.
URL:https://www.grandscape.com/event/champions-league-tottenham-vs-slavia-praha-at-cosm/2025-12-09/
LOCATION:Cosm
CATEGORIES:Sports
ATTACH;FMTTYPE=image/webp:https://www.grandscape.com/wp-content/uploads/2025/11/251209_UEFA_TOTvSLA-scaled.webp
END:VEVENT
END:VCALENDAR