BEGIN:VCALENDAR
VERSION:2.0
PRODID:-//Grandscape - ECPv6.15.16//NONSGML v1.0//EN
CALSCALE:GREGORIAN
METHOD:PUBLISH
X-WR-CALNAME:Grandscape
X-ORIGINAL-URL:https://www.grandscape.com
X-WR-CALDESC:Events for Grandscape
REFRESH-INTERVAL;VALUE=DURATION:PT1H
X-Robots-Tag:noindex
X-PUBLISHED-TTL:PT1H
BEGIN:VTIMEZONE
TZID:America/Chicago
BEGIN:DAYLIGHT
TZOFFSETFROM:-0600
TZOFFSETTO:-0500
TZNAME:CDT
DTSTART:20250309T080000
END:DAYLIGHT
BEGIN:STANDARD
TZOFFSETFROM:-0500
TZOFFSETTO:-0600
TZNAME:CST
DTSTART:20251102T070000
END:STANDARD
BEGIN:DAYLIGHT
TZOFFSETFROM:-0600
TZOFFSETTO:-0500
TZNAME:CDT
DTSTART:20260308T080000
END:DAYLIGHT
BEGIN:STANDARD
TZOFFSETFROM:-0500
TZOFFSETTO:-0600
TZNAME:CST
DTSTART:20261101T070000
END:STANDARD
BEGIN:DAYLIGHT
TZOFFSETFROM:-0600
TZOFFSETTO:-0500
TZNAME:CDT
DTSTART:20270314T080000
END:DAYLIGHT
BEGIN:STANDARD
TZOFFSETFROM:-0500
TZOFFSETTO:-0600
TZNAME:CST
DTSTART:20271107T070000
END:STANDARD
END:VTIMEZONE
BEGIN:VEVENT
DTSTART;TZID=America/Chicago:20260305T160000
DTEND;TZID=America/Chicago:20260326T190000
DTSTAMP:20260422T045827
CREATED:20260226T165601Z
LAST-MODIFIED:20260302T170042Z
UID:16450-1772726400-1774551600@www.grandscape.com
SUMMARY:Ladies Night in the Grotto
DESCRIPTION:POV: Ladies Night makes it out the group chat!\n\nGrab your girlfriends\, put on your most feel good outfit and join us at Grandscape every Thursday in March starting at 4:00pm for Ladies Night in The Grotto\, presented by NFM! Enjoy live music until 7:00pm\, explore happy hour specials from participating restaurants\, or order your favorites to go and dine al fresco under the stars in The Grotto. \n\nCome for a drink\, stay for the good vibes! Live music. Pretty drinks. Zero rush.\n\nFeatured Happy Hours:\n\n	JĀKÖ Cocina y Agave: 4:00 – 6:00pm\, & live DJ Sets from 9pm – Close\n	Quartino Ristorante: At the bar from 4:00 – 6:00pm\n	Seven Doors Kitchen & Cocktails: 3:00 – 6:30pm & Latin Night from 6:30 – 9:00pm featuring dancing and $6 margaritas\n	Tande Thai: 4:00 – 6:00pm\n	Thirsty Lion: 3:00 – 6:00pm and 9:00 – 11:00pm | $2 off cocktails and wine\, food menu starting at $7.95\n	Walk-On’s Sports Bistreaux: 2:00 – 7:00pm and 9:00 – 11:00pm | $3 off Signature Drinks\, $7 Appetizers\n	Windmills Craftworks: 3:00 – 6:00pm | $5-7-9 food selections\, $6 glasses of wine\n\nBe sure to check happy hour requirements for each restaurant. Enjoy the cocktails\, mocktails\, and everything in between\, but remember: pace yourself\, grab some bites\, and make sure you and your besties get home safely.
URL:https://www.grandscape.com/event/ladies-night-in-the-grotto/2026-03-05/
LOCATION:The Grotto
CATEGORIES:Food & Drink
ATTACH;FMTTYPE=image/jpeg:https://www.grandscape.com/wp-content/uploads/2026/02/GS_Ladies-Night_Website_960x500.jpg
END:VEVENT
END:VCALENDAR