BEGIN:VCALENDAR
VERSION:2.0
PRODID:-//Grandscape - ECPv6.15.16//NONSGML v1.0//EN
CALSCALE:GREGORIAN
METHOD:PUBLISH
X-WR-CALNAME:Grandscape
X-ORIGINAL-URL:https://www.grandscape.com
X-WR-CALDESC:Events for Grandscape
REFRESH-INTERVAL;VALUE=DURATION:PT1H
X-Robots-Tag:noindex
X-PUBLISHED-TTL:PT1H
BEGIN:VTIMEZONE
TZID:America/Chicago
BEGIN:DAYLIGHT
TZOFFSETFROM:-0600
TZOFFSETTO:-0500
TZNAME:CDT
DTSTART:20250309T080000
END:DAYLIGHT
BEGIN:STANDARD
TZOFFSETFROM:-0500
TZOFFSETTO:-0600
TZNAME:CST
DTSTART:20251102T070000
END:STANDARD
BEGIN:DAYLIGHT
TZOFFSETFROM:-0600
TZOFFSETTO:-0500
TZNAME:CDT
DTSTART:20260308T080000
END:DAYLIGHT
BEGIN:STANDARD
TZOFFSETFROM:-0500
TZOFFSETTO:-0600
TZNAME:CST
DTSTART:20261101T070000
END:STANDARD
BEGIN:DAYLIGHT
TZOFFSETFROM:-0600
TZOFFSETTO:-0500
TZNAME:CDT
DTSTART:20270314T080000
END:DAYLIGHT
BEGIN:STANDARD
TZOFFSETFROM:-0500
TZOFFSETTO:-0600
TZNAME:CST
DTSTART:20271107T070000
END:STANDARD
END:VTIMEZONE
BEGIN:VEVENT
DTSTART;TZID=America/Chicago:20260214T160000
DTEND;TZID=America/Chicago:20260214T180000
DTSTAMP:20260422T123252
CREATED:20260115T160901Z
LAST-MODIFIED:20260115T160901Z
UID:16229-1771084800-1771092000@www.grandscape.com
SUMMARY:NBA: All-Star Saturday Night at Cosm
DESCRIPTION:Be a part of the action from NBA All-Star Saturday Night in Shared Reality at Cosm. [Time subject to change*]\nTake NBA All-Star Saturday Night to a new level where every play comes to life\, putting you right on the court for a series of competitions showcasing the skills of the NBA’s best players. Get ready to experience the Kia Skills Challenge\, STARRY 3-Point Contest\, and the AT&T Slam Dunk Contest like never before.\nThe content shown at this Event is protected by copyright. The use of cell phones or any other recording devices to live-stream or otherwise materially copy the on-screen Event presentation is strictly prohibited. If you do so\, you consent to your immediate removal from the Event and the forfeiture of any Event content in your possession. Thank you for your understanding and cooperation.\n*Event times hosted by Cosm may be subject to change due to scheduling conflicts. Cosm reserves the right\, at its sole discretion\, to adjust the start or end time of your event\, without notice\, which may differ from the time listed on your original ticket.
URL:https://www.grandscape.com/event/nba-all-star-saturday-night-at-cosm/2026-02-14/
LOCATION:Cosm
CATEGORIES:Sports
ATTACH;FMTTYPE=image/webp:https://www.grandscape.com/wp-content/uploads/2026/01/021426-NBA-AllStarSaturday-scaled.webp
END:VEVENT
END:VCALENDAR