BEGIN:VCALENDAR
VERSION:2.0
PRODID:-//Grandscape - ECPv6.15.16//NONSGML v1.0//EN
CALSCALE:GREGORIAN
METHOD:PUBLISH
X-WR-CALNAME:Grandscape
X-ORIGINAL-URL:https://www.grandscape.com
X-WR-CALDESC:Events for Grandscape
REFRESH-INTERVAL;VALUE=DURATION:PT1H
X-Robots-Tag:noindex
X-PUBLISHED-TTL:PT1H
BEGIN:VTIMEZONE
TZID:America/Chicago
BEGIN:DAYLIGHT
TZOFFSETFROM:-0600
TZOFFSETTO:-0500
TZNAME:CDT
DTSTART:20240310T080000
END:DAYLIGHT
BEGIN:STANDARD
TZOFFSETFROM:-0500
TZOFFSETTO:-0600
TZNAME:CST
DTSTART:20241103T070000
END:STANDARD
BEGIN:DAYLIGHT
TZOFFSETFROM:-0600
TZOFFSETTO:-0500
TZNAME:CDT
DTSTART:20250309T080000
END:DAYLIGHT
BEGIN:STANDARD
TZOFFSETFROM:-0500
TZOFFSETTO:-0600
TZNAME:CST
DTSTART:20251102T070000
END:STANDARD
BEGIN:DAYLIGHT
TZOFFSETFROM:-0600
TZOFFSETTO:-0500
TZNAME:CDT
DTSTART:20260308T080000
END:DAYLIGHT
BEGIN:STANDARD
TZOFFSETFROM:-0500
TZOFFSETTO:-0600
TZNAME:CST
DTSTART:20261101T070000
END:STANDARD
END:VTIMEZONE
BEGIN:VEVENT
DTSTART;TZID=America/Chicago:20251225T160000
DTEND;TZID=America/Chicago:20251225T180000
DTSTAMP:20260420T120311
CREATED:20251202T214657Z
LAST-MODIFIED:20251219T160712Z
UID:15942-1766678400-1766685600@www.grandscape.com
SUMMARY:NBA: Mavericks @ Warriors at Cosm
DESCRIPTION:Be part of the action as the Dallas Mavericks take on the Golden State Warriors in Shared Reality at Cosm. Take the NBA to a new level where every play comes to life\, putting you right on the court. [Time subject to change*]\nWrap yourself in the heart-pounding action of every foul\, three-pointer\, and dunk. Experience the game like never before.\n*Event times hosted by Cosm may be subject to change due to scheduling conflicts. Cosm reserves the right\, at its sole discretion\, to adjust the start or end time of your event\, without notice\, which may differ from the time listed on your original ticket.
URL:https://www.grandscape.com/event/nba-mavericks-warriors-at-cosm-2/2025-12-25/
LOCATION:Cosm
CATEGORIES:Sports
ATTACH;FMTTYPE=image/webp:https://www.grandscape.com/wp-content/uploads/2025/12/122525-NBA-DALvGSW-1-scaled.webp
END:VEVENT
END:VCALENDAR