BEGIN:VCALENDAR
VERSION:2.0
PRODID:-//Grandscape - ECPv6.15.16//NONSGML v1.0//EN
CALSCALE:GREGORIAN
METHOD:PUBLISH
X-WR-CALNAME:Grandscape
X-ORIGINAL-URL:https://www.grandscape.com
X-WR-CALDESC:Events for Grandscape
REFRESH-INTERVAL;VALUE=DURATION:PT1H
X-Robots-Tag:noindex
X-PUBLISHED-TTL:PT1H
BEGIN:VTIMEZONE
TZID:America/Chicago
BEGIN:DAYLIGHT
TZOFFSETFROM:-0600
TZOFFSETTO:-0500
TZNAME:CDT
DTSTART:20240310T080000
END:DAYLIGHT
BEGIN:STANDARD
TZOFFSETFROM:-0500
TZOFFSETTO:-0600
TZNAME:CST
DTSTART:20241103T070000
END:STANDARD
BEGIN:DAYLIGHT
TZOFFSETFROM:-0600
TZOFFSETTO:-0500
TZNAME:CDT
DTSTART:20250309T080000
END:DAYLIGHT
BEGIN:STANDARD
TZOFFSETFROM:-0500
TZOFFSETTO:-0600
TZNAME:CST
DTSTART:20251102T070000
END:STANDARD
BEGIN:DAYLIGHT
TZOFFSETFROM:-0600
TZOFFSETTO:-0500
TZNAME:CDT
DTSTART:20260308T080000
END:DAYLIGHT
BEGIN:STANDARD
TZOFFSETFROM:-0500
TZOFFSETTO:-0600
TZNAME:CST
DTSTART:20261101T070000
END:STANDARD
END:VTIMEZONE
BEGIN:VEVENT
DTSTART;TZID=America/Chicago:20250824T180000
DTEND;TZID=America/Chicago:20250824T200000
DTSTAMP:20260421T095356
CREATED:20250731T201540Z
LAST-MODIFIED:20250804T182903Z
UID:14883-1756058400-1756065600@www.grandscape.com
SUMMARY:New Moon Vision Board Workshop at Soul Stonz
DESCRIPTION:Join us for a magical evening of intention-setting\, creativity\, and self-discovery just one day after the August New Moon—a powerful time to plant the seeds for your next chapter.\nIn this soulful\, hands-on workshop\, you’ll receive everything you need to create a beautiful vision board\, plus:\n🌟 Self-discovery exercises to help you clarify your goals\n💎 A special crystal intuitively chosen to support your intentions\n🖼️ Guided support to build a vision board that speaks to your heart\n🌓 New moon wisdom and practices to amplify your manifesting energy\nWhether you’re craving a fresh start or want to stay aligned with your dreams\, this evening will leave you inspired\, grounded\, and connected to your inner vision.\nThis workshop will be a creative practice to help you identify your goals\, understand your whys\, and begin crafting a life you love.\nCome prepared for self some self discovery work\, honest evaluations\, and preparing yourself for your next steps.  You will cut\, glue\, draw\, write\, and visualize a life you’re excited by. \nA great activity to do for yourself\, with a friend\, spouse or even a mature child. Become comfortable with talking about your goals out loud and to others – the universe is listening.\nExperience:\n\n	Sound Bowl.\n	Leave with a special crystal and intuitive message to help guide your journey.\n	All Materials needed to create your beautiful Vision Board. (not cheap magazine pics)\n	Clarity & Visualizing Exercises including worksheets.\n	All guests receive 15% OFF anything purchased in store during event.
URL:https://www.grandscape.com/event/new-moon-vision-board-workshop-at-soul-stonz/2025-08-24/
LOCATION:Soul Stonz
CATEGORIES:Workshop
ATTACH;FMTTYPE=image/png:https://www.grandscape.com/wp-content/uploads/2025/07/image008.png
END:VEVENT
END:VCALENDAR