BEGIN:VCALENDAR
VERSION:2.0
PRODID:-//Grandscape - ECPv6.15.16//NONSGML v1.0//EN
CALSCALE:GREGORIAN
METHOD:PUBLISH
X-ORIGINAL-URL:https://www.grandscape.com
X-WR-CALDESC:Events for Grandscape
REFRESH-INTERVAL;VALUE=DURATION:PT1H
X-Robots-Tag:noindex
X-PUBLISHED-TTL:PT1H
BEGIN:VTIMEZONE
TZID:America/Chicago
BEGIN:DAYLIGHT
TZOFFSETFROM:-0600
TZOFFSETTO:-0500
TZNAME:CDT
DTSTART:20250309T080000
END:DAYLIGHT
BEGIN:STANDARD
TZOFFSETFROM:-0500
TZOFFSETTO:-0600
TZNAME:CST
DTSTART:20251102T070000
END:STANDARD
BEGIN:DAYLIGHT
TZOFFSETFROM:-0600
TZOFFSETTO:-0500
TZNAME:CDT
DTSTART:20260308T080000
END:DAYLIGHT
BEGIN:STANDARD
TZOFFSETFROM:-0500
TZOFFSETTO:-0600
TZNAME:CST
DTSTART:20261101T070000
END:STANDARD
BEGIN:DAYLIGHT
TZOFFSETFROM:-0600
TZOFFSETTO:-0500
TZNAME:CDT
DTSTART:20270314T080000
END:DAYLIGHT
BEGIN:STANDARD
TZOFFSETFROM:-0500
TZOFFSETTO:-0600
TZNAME:CST
DTSTART:20271107T070000
END:STANDARD
END:VTIMEZONE
BEGIN:VEVENT
DTSTART;TZID=America/Chicago:20260318T203000
DTEND;TZID=America/Chicago:20260318T223000
DTSTAMP:20260424T073700
CREATED:20260302T203642Z
LAST-MODIFIED:20260302T203642Z
UID:16528-1773865800-1773873000@www.grandscape.com
SUMMARY:NHL: Stars @ Avalanche at Cosm
DESCRIPTION:Be a part of the action as the Dallas Stars take on the Colorado Avalanche in Shared Reality. Go beyond the glass from Ball Arena as you’re immersed in every hit\, save\, and slapshot. [Time subject to change*]\nTwo Western Conference heavyweights face off in Denver. The Stars and Avalanche are bona fide Stanley Cup contenders challenging for the Central Division title. Experience the NHL like never before at Cosm.\nWalk-ins welcome. Subject to availability.\nEvent times hosted by Cosm may be subject to change due to scheduling conflicts. Cosm reserves the right\, at its sole discretion\, to adjust the start or end time of your event\, without notice\, which may differ from the time listed on your original ticket.
URL:https://www.grandscape.com/event/nhl-stars-avalanche-at-cosm/2026-03-18/
LOCATION:Cosm
CATEGORIES:Sports
ATTACH;FMTTYPE=image/webp:https://www.grandscape.com/wp-content/uploads/2026/03/011326-NHL-DALvCOL-1-scaled.webp
END:VEVENT
END:VCALENDAR