BEGIN:VCALENDAR
VERSION:2.0
PRODID:-//Grandscape - ECPv6.15.16//NONSGML v1.0//EN
CALSCALE:GREGORIAN
METHOD:PUBLISH
X-ORIGINAL-URL:https://www.grandscape.com
X-WR-CALDESC:Events for Grandscape
REFRESH-INTERVAL;VALUE=DURATION:PT1H
X-Robots-Tag:noindex
X-PUBLISHED-TTL:PT1H
BEGIN:VTIMEZONE
TZID:America/New_York
BEGIN:DAYLIGHT
TZOFFSETFROM:-0500
TZOFFSETTO:-0400
TZNAME:EDT
DTSTART:20240310T070000
END:DAYLIGHT
BEGIN:STANDARD
TZOFFSETFROM:-0400
TZOFFSETTO:-0500
TZNAME:EST
DTSTART:20241103T060000
END:STANDARD
BEGIN:DAYLIGHT
TZOFFSETFROM:-0500
TZOFFSETTO:-0400
TZNAME:EDT
DTSTART:20250309T070000
END:DAYLIGHT
BEGIN:STANDARD
TZOFFSETFROM:-0400
TZOFFSETTO:-0500
TZNAME:EST
DTSTART:20251102T060000
END:STANDARD
BEGIN:DAYLIGHT
TZOFFSETFROM:-0500
TZOFFSETTO:-0400
TZNAME:EDT
DTSTART:20260308T070000
END:DAYLIGHT
BEGIN:STANDARD
TZOFFSETFROM:-0400
TZOFFSETTO:-0500
TZNAME:EST
DTSTART:20261101T060000
END:STANDARD
END:VTIMEZONE
BEGIN:VEVENT
DTSTART;TZID=America/New_York:20250824T144500
DTEND;TZID=America/New_York:20250824T163000
DTSTAMP:20260423T081015
CREATED:20250716T144753Z
LAST-MODIFIED:20250716T144753Z
UID:14787-1756046700-1756053000@www.grandscape.com
SUMMARY:PBR Teams: Gambler Days (Day 3) at Cosm
DESCRIPTION:Be a part of the action at Day 3 of PBR Teams: Gambler Days in Shared Reality at Cosm. Take professional bull riding to a new level\, putting you in the chute with the riders at the Moody Center in Austin. [Time subject to change*]\nCome along for the ride and hang on tight as the world’s best riders team up for the ultimate bull riding competition. Surround yourself in the adrenaline-filled action of the most intense 8 seconds in sports. Experience PBR Teams like never before.\nDates\, Times\, and Matchups are subject to change.\n*Event times hosted by Cosm may be subject to change due to scheduling conflicts. Cosm reserves the right\, at its sole discretion\, to adjust the start or end time of your event\, without notice\, which may differ from the time listed on your original ticket.
URL:https://www.grandscape.com/event/pbr-teams-gambler-days-day-3-at-cosm/2025-08-24/
LOCATION:Cosm
CATEGORIES:Sports
ATTACH;FMTTYPE=image/webp:https://www.grandscape.com/wp-content/uploads/2025/07/250824_PBRTeams_Austin_1920x1080-scaled.webp
END:VEVENT
END:VCALENDAR