BEGIN:VCALENDAR
VERSION:2.0
PRODID:-//Grandscape - ECPv6.15.16//NONSGML v1.0//EN
CALSCALE:GREGORIAN
METHOD:PUBLISH
X-WR-CALNAME:Grandscape
X-ORIGINAL-URL:https://www.grandscape.com
X-WR-CALDESC:Events for Grandscape
REFRESH-INTERVAL;VALUE=DURATION:PT1H
X-Robots-Tag:noindex
X-PUBLISHED-TTL:PT1H
BEGIN:VTIMEZONE
TZID:America/Chicago
BEGIN:DAYLIGHT
TZOFFSETFROM:-0600
TZOFFSETTO:-0500
TZNAME:CDT
DTSTART:20240310T080000
END:DAYLIGHT
BEGIN:STANDARD
TZOFFSETFROM:-0500
TZOFFSETTO:-0600
TZNAME:CST
DTSTART:20241103T070000
END:STANDARD
BEGIN:DAYLIGHT
TZOFFSETFROM:-0600
TZOFFSETTO:-0500
TZNAME:CDT
DTSTART:20250309T080000
END:DAYLIGHT
BEGIN:STANDARD
TZOFFSETFROM:-0500
TZOFFSETTO:-0600
TZNAME:CST
DTSTART:20251102T070000
END:STANDARD
BEGIN:DAYLIGHT
TZOFFSETFROM:-0600
TZOFFSETTO:-0500
TZNAME:CDT
DTSTART:20260308T080000
END:DAYLIGHT
BEGIN:STANDARD
TZOFFSETFROM:-0500
TZOFFSETTO:-0600
TZNAME:CST
DTSTART:20261101T070000
END:STANDARD
END:VTIMEZONE
BEGIN:VEVENT
DTSTART;TZID=America/Chicago:20250711T200000
DTEND;TZID=America/Chicago:20250711T220000
DTSTAMP:20260425T120656
CREATED:20250605T200838Z
LAST-MODIFIED:20250619T202908Z
UID:14530-1752264000-1752271200@www.grandscape.com
SUMMARY:Sounds of Summer: El Grupo Cache
DESCRIPTION:Get ready to feel the rhythm\, live the passion\, and dance the night away! \nJoin us for a night filled with salsa\, merengue\, cumbia\, and nonstop energy as El Grupo Cache will be LIVE on stage on July 11 from 8:00-10:00pm\, presented by Corona. \nCan’t make it to this concert? No worries! Grandscape’s Sounds of Summer series is every Friday\, June through August\, from 8:00-10:00pm! \nThis show is FREE to the public. Enjoy the concert from our vast lawn by bringing a blanket or lawn chair! \nNo outside alcohol or coolers are allowed. Please visit event faq for more information. \nLooking for parking? Use our free parking garage. \nGrandscape is a large outdoor shopping center with plenty of food and dining options to enjoy before the concert. 
URL:https://www.grandscape.com/event/sounds-of-summer-el-grupo-cache/2025-07-11/
LOCATION:Corona Stage & Lawn
CATEGORIES:Concert
ATTACH;FMTTYPE=image/jpeg:https://www.grandscape.com/wp-content/uploads/2025/06/GS_Sounds-of-Summer_Generic-Website_960x500.jpg
END:VEVENT
END:VCALENDAR