BEGIN:VCALENDAR
VERSION:2.0
PRODID:-//Grandscape - ECPv6.15.16//NONSGML v1.0//EN
CALSCALE:GREGORIAN
METHOD:PUBLISH
X-ORIGINAL-URL:https://www.grandscape.com
X-WR-CALDESC:Events for Grandscape
REFRESH-INTERVAL;VALUE=DURATION:PT1H
X-Robots-Tag:noindex
X-PUBLISHED-TTL:PT1H
BEGIN:VTIMEZONE
TZID:UTC
BEGIN:STANDARD
TZOFFSETFROM:+0000
TZOFFSETTO:+0000
TZNAME:UTC
DTSTART:20200101T000000
END:STANDARD
END:VTIMEZONE
BEGIN:VEVENT
DTSTART;TZID=UTC:20210311T110000
DTEND;TZID=UTC:20210311T120000
DTSTAMP:20260421T103303
CREATED:20210226T074253Z
LAST-MODIFIED:20210226T074253Z
UID:3655-1615460400-1615464000@www.grandscape.com
SUMMARY:Spring Break Storytime with The Colony Public Library
DESCRIPTION:Come out and join The Colony Public Library in the Terrace at Grandscape for our Spring Break Storytime on Thursday\, March 11th and Thursday\, March 18th from 11am-12pm. The events include readings of some of your favorite kids’ stories as well as sing-alongs and a pickup craft to take home. With plenty of space we are happy to provide a safe environment for you and your kids to have some fun outdoors during spring break.\n\nStories will be told at 11am and 11:30am each date.\n\nThe Terrace is located next to Parry’s Pizza and across from the Stage and the Lawn.
URL:https://www.grandscape.com/event/spring-break-storytime-with-the-colony-public-library/2021-03-11/
LOCATION:The Stage at Grandscape
ATTACH;FMTTYPE=image/jpeg:https://www.grandscape.com/wp-content/uploads/2021/02/story-time.jpg
END:VEVENT
END:VCALENDAR