BEGIN:VCALENDAR
VERSION:2.0
PRODID:-//Grandscape - ECPv6.15.16//NONSGML v1.0//EN
CALSCALE:GREGORIAN
METHOD:PUBLISH
X-ORIGINAL-URL:https://www.grandscape.com
X-WR-CALDESC:Events for Grandscape
REFRESH-INTERVAL;VALUE=DURATION:PT1H
X-Robots-Tag:noindex
X-PUBLISHED-TTL:PT1H
BEGIN:VTIMEZONE
TZID:America/Chicago
BEGIN:DAYLIGHT
TZOFFSETFROM:-0600
TZOFFSETTO:-0500
TZNAME:CDT
DTSTART:20230312T080000
END:DAYLIGHT
BEGIN:STANDARD
TZOFFSETFROM:-0500
TZOFFSETTO:-0600
TZNAME:CST
DTSTART:20231105T070000
END:STANDARD
BEGIN:DAYLIGHT
TZOFFSETFROM:-0600
TZOFFSETTO:-0500
TZNAME:CDT
DTSTART:20240310T080000
END:DAYLIGHT
BEGIN:STANDARD
TZOFFSETFROM:-0500
TZOFFSETTO:-0600
TZNAME:CST
DTSTART:20241103T070000
END:STANDARD
BEGIN:DAYLIGHT
TZOFFSETFROM:-0600
TZOFFSETTO:-0500
TZNAME:CDT
DTSTART:20250309T080000
END:DAYLIGHT
BEGIN:STANDARD
TZOFFSETFROM:-0500
TZOFFSETTO:-0600
TZNAME:CST
DTSTART:20251102T070000
END:STANDARD
END:VTIMEZONE
BEGIN:VEVENT
DTSTART;VALUE=DATE:20240317
DTEND;VALUE=DATE:20240318
DTSTAMP:20260422T091706
CREATED:20240301T222016Z
LAST-MODIFIED:20240301T222016Z
UID:11306-1710633600-1710719999@www.grandscape.com
SUMMARY:St. Patrick's Weekend Celebration at Thirsty Lion Gastropub
DESCRIPTION:Join Thirsty Lion Gastropub on Saturday\, March 16th and Sunday\, March 17th for our biggest event of the year – St. Patrick’s Day weekend! Guests will enjoy authentic Irish dancers\, bagpipers in full regalia\, themed decor and giveaways\, beer tastings with The Guiness Girls\, plus specialty menu items and hand-crafted cocktails. Our St. Patrick’s Day menu\, available starting February 29th\, will include classic Irish favorites like Beer Braised Corned Beef & Cabbage\, Irish Shepherd’s Pie and Whiskey Bing Cherry Bread Pudding. And don’t forget the drinks! In addition to your favorite Irish beers – green or not! – we’ll be featuring craft cocktails like the Baileys Chocolate Espresso Martini\, Irish Old Fashioned and the Irish Mule\, a portion of which will benefit the St. Baldrick’s Foundation. Bring your clan and get a taste of the Emerald Isle at Thirsty Lion Gastropub! For full details and to make a reservation\, visit thirstyliongastropub.com…or just come on by! The luck of the Irish awaits you.
URL:https://www.grandscape.com/event/st-patricks-weekend-celebration-at-thirsty-lion-gastropub-2/2024-03-17/
LOCATION:Thirsty Lion Gastropub
CATEGORIES:Food & Drink
ATTACH;FMTTYPE=image/jpeg:https://www.grandscape.com/wp-content/uploads/2024/03/image-2.jpg
END:VEVENT
END:VCALENDAR