BEGIN:VCALENDAR
VERSION:2.0
PRODID:-//Grandscape - ECPv6.15.16//NONSGML v1.0//EN
CALSCALE:GREGORIAN
METHOD:PUBLISH
X-ORIGINAL-URL:https://www.grandscape.com
X-WR-CALDESC:Events for Grandscape
REFRESH-INTERVAL;VALUE=DURATION:PT1H
X-Robots-Tag:noindex
X-PUBLISHED-TTL:PT1H
BEGIN:VTIMEZONE
TZID:America/Chicago
BEGIN:DAYLIGHT
TZOFFSETFROM:-0600
TZOFFSETTO:-0500
TZNAME:CDT
DTSTART:20250309T080000
END:DAYLIGHT
BEGIN:STANDARD
TZOFFSETFROM:-0500
TZOFFSETTO:-0600
TZNAME:CST
DTSTART:20251102T070000
END:STANDARD
BEGIN:DAYLIGHT
TZOFFSETFROM:-0600
TZOFFSETTO:-0500
TZNAME:CDT
DTSTART:20260308T080000
END:DAYLIGHT
BEGIN:STANDARD
TZOFFSETFROM:-0500
TZOFFSETTO:-0600
TZNAME:CST
DTSTART:20261101T070000
END:STANDARD
BEGIN:DAYLIGHT
TZOFFSETFROM:-0600
TZOFFSETTO:-0500
TZNAME:CDT
DTSTART:20270314T080000
END:DAYLIGHT
BEGIN:STANDARD
TZOFFSETFROM:-0500
TZOFFSETTO:-0600
TZNAME:CST
DTSTART:20271107T070000
END:STANDARD
END:VTIMEZONE
BEGIN:VEVENT
DTSTART;TZID=America/Chicago:20260503T110000
DTEND;TZID=America/Chicago:20260503T150000
DTSTAMP:20260420T083745
CREATED:20260413T155502Z
LAST-MODIFIED:20260413T155502Z
UID:16801-1777806000-1777820400@www.grandscape.com
SUMMARY:Touch-A-Truck
DESCRIPTION:Beep Beep! Join us for Touch-A-Truck where kids will have the opportunity to discover a variety of vehicles from throughout our community\, including public service\, emergency\, utility\, construction\, transportation\, and some that are just plain cool — all in one place. Children will have the opportunity to climb aboard\, honk horns\, and meet the friendly professionals who operate these amazing machines. \nWe will also be implementing a “No Horn Hour” from 11am-12pm for children with auditory sensitivities. No horns or sirens will be used during this time. \nParticipants include: \n\n	The Colony Fire Department\n	The Colony Police Department\n	NFM\n	Grandscape\n	Andretti\n	 Fox 4\n	Ghostbusters Texas Rangers Division\n	Lewisville Independent School District\n	Oscar Mayer Wienermobile\n	Texas Department of Public Safety\n	The City of The Colony\n	US Military\n	and more!\n\n 
URL:https://www.grandscape.com/event/touch-a-truck/2026-05-03/
LOCATION:NFM
CATEGORIES:Kid Friendly
ATTACH;FMTTYPE=image/jpeg:https://www.grandscape.com/wp-content/uploads/2026/04/Touch-a-Truck_FB-Event_1920x1005.jpg
END:VEVENT
END:VCALENDAR