BEGIN:VCALENDAR
VERSION:2.0
PRODID:-//Grandscape - ECPv6.15.16//NONSGML v1.0//EN
CALSCALE:GREGORIAN
METHOD:PUBLISH
X-ORIGINAL-URL:https://www.grandscape.com
X-WR-CALDESC:Events for Grandscape
REFRESH-INTERVAL;VALUE=DURATION:PT1H
X-Robots-Tag:noindex
X-PUBLISHED-TTL:PT1H
BEGIN:VTIMEZONE
TZID:America/Chicago
BEGIN:DAYLIGHT
TZOFFSETFROM:-0600
TZOFFSETTO:-0500
TZNAME:CDT
DTSTART:20230312T080000
END:DAYLIGHT
BEGIN:STANDARD
TZOFFSETFROM:-0500
TZOFFSETTO:-0600
TZNAME:CST
DTSTART:20231105T070000
END:STANDARD
BEGIN:DAYLIGHT
TZOFFSETFROM:-0600
TZOFFSETTO:-0500
TZNAME:CDT
DTSTART:20240310T080000
END:DAYLIGHT
BEGIN:STANDARD
TZOFFSETFROM:-0500
TZOFFSETTO:-0600
TZNAME:CST
DTSTART:20241103T070000
END:STANDARD
BEGIN:DAYLIGHT
TZOFFSETFROM:-0600
TZOFFSETTO:-0500
TZNAME:CDT
DTSTART:20250309T080000
END:DAYLIGHT
BEGIN:STANDARD
TZOFFSETFROM:-0500
TZOFFSETTO:-0600
TZNAME:CST
DTSTART:20251102T070000
END:STANDARD
END:VTIMEZONE
BEGIN:VEVENT
DTSTART;TZID=America/Chicago:20241031T170000
DTEND;TZID=America/Chicago:20241031T210000
DTSTAMP:20260421T072013
CREATED:20240927T155315Z
LAST-MODIFIED:20240927T155315Z
UID:12488-1730394000-1730408400@www.grandscape.com
SUMMARY:Trick-or-Treat Extravaganza
DESCRIPTION:Join us if you dare for a Halloween scare on Thursday\, October 31 from 5:00-9:00pm at our Trick or Treat Extravaganza\, Presented by InTouch Credit Union! This family friendly event will take guests throughout the center for all kinds of tricks\, treats\, and even some surprises along the way.\nThe event will include:\n\n	Trick-or-treating stops throughout Grandscape\n	Character meet and greets\n	Live DJ\n	Plus\, “I Put a Spell on You” stage performances from your three favorite witches!\n\nDon’t miss out on all the fun as we enjoy a BOO-tiful Halloween night. We’ll see you there!\nCandy will be available while supplies last. \n“I Put a Spell on You” stage performances will take place at 6:00pm and 8:00pm.\nLooking for parking? Use our free parking garage. \nGrandscape is a large outdoor shopping center with endless food and dining. Please feel free to shop around The Homestead and grab a bite to eat at one of our many restaurants before or after the event!
URL:https://www.grandscape.com/event/trick-or-treat-extravaganza/2024-10-31/
LOCATION:Stage & Lawn\, 5752 Grandscape Blvd.\, The Colony\, TX\, 75056\, United States
CATEGORIES:Kid Friendly
ATTACH;FMTTYPE=image/jpeg:https://www.grandscape.com/wp-content/uploads/2024/09/GS_Trick-or-Treat-Extravaganza_Website_960x500.jpg
END:VEVENT
END:VCALENDAR