BEGIN:VCALENDAR
VERSION:2.0
PRODID:-//Grandscape - ECPv6.15.16//NONSGML v1.0//EN
CALSCALE:GREGORIAN
METHOD:PUBLISH
X-ORIGINAL-URL:https://www.grandscape.com
X-WR-CALDESC:Events for Grandscape
REFRESH-INTERVAL;VALUE=DURATION:PT1H
X-Robots-Tag:noindex
X-PUBLISHED-TTL:PT1H
BEGIN:VTIMEZONE
TZID:America/Chicago
BEGIN:DAYLIGHT
TZOFFSETFROM:-0600
TZOFFSETTO:-0500
TZNAME:CDT
DTSTART:20250309T080000
END:DAYLIGHT
BEGIN:STANDARD
TZOFFSETFROM:-0500
TZOFFSETTO:-0600
TZNAME:CST
DTSTART:20251102T070000
END:STANDARD
BEGIN:DAYLIGHT
TZOFFSETFROM:-0600
TZOFFSETTO:-0500
TZNAME:CDT
DTSTART:20260308T080000
END:DAYLIGHT
BEGIN:STANDARD
TZOFFSETFROM:-0500
TZOFFSETTO:-0600
TZNAME:CST
DTSTART:20261101T070000
END:STANDARD
BEGIN:DAYLIGHT
TZOFFSETFROM:-0600
TZOFFSETTO:-0500
TZNAME:CDT
DTSTART:20270314T080000
END:DAYLIGHT
BEGIN:STANDARD
TZOFFSETFROM:-0500
TZOFFSETTO:-0600
TZNAME:CST
DTSTART:20271107T070000
END:STANDARD
END:VTIMEZONE
BEGIN:VEVENT
DTSTART;TZID=America/Chicago:20260310T190000
DTEND;TZID=America/Chicago:20260310T210000
DTSTAMP:20260420T195956
CREATED:20260302T181753Z
LAST-MODIFIED:20260302T181753Z
UID:16526-1773169200-1773176400@www.grandscape.com
SUMMARY:World Baseball Classic: Mexico vs. USA at Cosm
DESCRIPTION:Be a part of the action as Mexico takes on the USA in the World Baseball Classic. Go beyond the front row and step into the batter’s box in Shared Reality at Cosm. [Time subject to change*]\nGet immersed in every pitch\, hit\, and home run from baseball’s premier international competition. Be there when Aaron Judge captains Team USA against rival Mexico in a rematch of USA’s 11-5 defeat in 2023. Take the game to a new level and experience the World Baseball Classic like never before.\n*Event times hosted by Cosm may be subject to change due to scheduling conflicts. Cosm reserves the right\, at its sole discretion\, to adjust the start or end time of your event\, without notice\, which may differ from the time listed on your original ticket.
URL:https://www.grandscape.com/event/world-baseball-classic-mexico-vs-usa-at-cosm/2026-03-10/
LOCATION:Cosm
CATEGORIES:Sports
ATTACH;FMTTYPE=image/webp:https://www.grandscape.com/wp-content/uploads/2026/03/030926_WorldBaseball_MEXvUSA_v1-scaled.webp
END:VEVENT
END:VCALENDAR