BEGIN:VCALENDAR
VERSION:2.0
PRODID:-//Grandscape - ECPv6.15.16//NONSGML v1.0//EN
CALSCALE:GREGORIAN
METHOD:PUBLISH
X-ORIGINAL-URL:https://www.grandscape.com
X-WR-CALDESC:Events for Grandscape
REFRESH-INTERVAL;VALUE=DURATION:PT1H
X-Robots-Tag:noindex
X-PUBLISHED-TTL:PT1H
BEGIN:VTIMEZONE
TZID:UTC
BEGIN:STANDARD
TZOFFSETFROM:+0000
TZOFFSETTO:+0000
TZNAME:UTC
DTSTART:20200101T000000
END:STANDARD
END:VTIMEZONE
BEGIN:VEVENT
DTSTART;TZID=UTC:20210123T103000
DTEND;TZID=UTC:20210123T120000
DTSTAMP:20260424T062921
CREATED:20210107T224008Z
LAST-MODIFIED:20210107T224801Z
UID:3353-1611397800-1611403200@www.grandscape.com
SUMMARY:NEW YEAR\, NEW OUTLOOK: 2021 FITNESS EXTRAVAGANZA
DESCRIPTION:Come out to The Lawn at Grandscape to enjoy our New Year\, New Outlook: 2021 Fitness Extravaganza!\n\nThe event will include: three 21-minute cardio workouts\, health and fitness vendors\, door prizes\, and more!\n\nCelebrate the New Year with this cardio based workout event on Saturday\, January 23rd at 10:30am. We hope to see you there!
URL:https://www.grandscape.com/event/new-year-new-outlook-2021-fitness-extravaganza/
LOCATION:The Stage at Grandscape
ATTACH;FMTTYPE=image/jpeg:https://www.grandscape.com/wp-content/uploads/2021/01/fitness-extravaganza.jpg
END:VEVENT
END:VCALENDAR