BEGIN:VCALENDAR
VERSION:2.0
PRODID:-//Grandscape - ECPv6.15.16//NONSGML v1.0//EN
CALSCALE:GREGORIAN
METHOD:PUBLISH
X-WR-CALNAME:Grandscape
X-ORIGINAL-URL:https://www.grandscape.com
X-WR-CALDESC:Events for Grandscape
REFRESH-INTERVAL;VALUE=DURATION:PT1H
X-Robots-Tag:noindex
X-PUBLISHED-TTL:PT1H
BEGIN:VTIMEZONE
TZID:America/Chicago
BEGIN:DAYLIGHT
TZOFFSETFROM:-0600
TZOFFSETTO:-0500
TZNAME:CDT
DTSTART:20220313T080000
END:DAYLIGHT
BEGIN:STANDARD
TZOFFSETFROM:-0500
TZOFFSETTO:-0600
TZNAME:CST
DTSTART:20221106T070000
END:STANDARD
BEGIN:DAYLIGHT
TZOFFSETFROM:-0600
TZOFFSETTO:-0500
TZNAME:CDT
DTSTART:20230312T080000
END:DAYLIGHT
BEGIN:STANDARD
TZOFFSETFROM:-0500
TZOFFSETTO:-0600
TZNAME:CST
DTSTART:20231105T070000
END:STANDARD
BEGIN:DAYLIGHT
TZOFFSETFROM:-0600
TZOFFSETTO:-0500
TZNAME:CDT
DTSTART:20240310T080000
END:DAYLIGHT
BEGIN:STANDARD
TZOFFSETFROM:-0500
TZOFFSETTO:-0600
TZNAME:CST
DTSTART:20241103T070000
END:STANDARD
END:VTIMEZONE
BEGIN:VEVENT
DTSTART;TZID=America/Chicago:20230607T193000
DTEND;TZID=America/Chicago:20230607T210000
DTSTAMP:20260423T123157
CREATED:20230502T205417Z
LAST-MODIFIED:20230508T135818Z
UID:9515-1686166200-1686171600@www.grandscape.com
SUMMARY:Watch Party Wednesdays: Parks and Recreation
DESCRIPTION:Get ready to TREAT YO-SELF to some Parks & Rec on Wednesday\, June 7 from 7:30-9:00pm.\nBring your blankets and lawn chairs and enjoy some waffles while we show four of your favorite episodes of Parks & Recreation. Enter our raffle for a chance to meet Pawnee’s most beloved celebrity\, Lil’ Sebastian!* We’ll have special performances from Mouse Rat in between episodes so you definitely don’t want to miss out! Waffles and other snacks will be available for purchase at the event.\nIn the words of Chris Traeger\, this will LITERALLY be the best night ever.\n*Contest entry will be in the form of a text-to-win. Entry will only be available between 7:30-9:00pm. Must be 18+ to participate. A total of 10 winners will be pulled at 9:00pm. Must be present to win. Private Lil’ Sebastian meet & greet will be after the event from 9:00-9:30pm on June 7\, 2023. More details will be available the night of the event.
URL:https://www.grandscape.com/event/watch-party-wednesday-parks-and-recreation/2023-06-07/
LOCATION:Stage & Lawn\, 5752 Grandscape Blvd.\, The Colony\, TX\, 75056\, United States
CATEGORIES:Watch Parties
ATTACH;FMTTYPE=image/jpeg:https://www.grandscape.com/wp-content/uploads/2023/05/GS_WPW_Parks-and-Rec_Website_960x500.jpg
END:VEVENT
END:VCALENDAR