BEGIN:VCALENDAR
VERSION:2.0
PRODID:-//Grandscape - ECPv6.15.16//NONSGML v1.0//EN
CALSCALE:GREGORIAN
METHOD:PUBLISH
X-WR-CALNAME:Grandscape
X-ORIGINAL-URL:https://www.grandscape.com
X-WR-CALDESC:Events for Grandscape
REFRESH-INTERVAL;VALUE=DURATION:PT1H
X-Robots-Tag:noindex
X-PUBLISHED-TTL:PT1H
BEGIN:VTIMEZONE
TZID:America/Chicago
BEGIN:DAYLIGHT
TZOFFSETFROM:-0600
TZOFFSETTO:-0500
TZNAME:CDT
DTSTART:20250309T080000
END:DAYLIGHT
BEGIN:STANDARD
TZOFFSETFROM:-0500
TZOFFSETTO:-0600
TZNAME:CST
DTSTART:20251102T070000
END:STANDARD
BEGIN:DAYLIGHT
TZOFFSETFROM:-0600
TZOFFSETTO:-0500
TZNAME:CDT
DTSTART:20260308T080000
END:DAYLIGHT
BEGIN:STANDARD
TZOFFSETFROM:-0500
TZOFFSETTO:-0600
TZNAME:CST
DTSTART:20261101T070000
END:STANDARD
BEGIN:DAYLIGHT
TZOFFSETFROM:-0600
TZOFFSETTO:-0500
TZNAME:CDT
DTSTART:20270314T080000
END:DAYLIGHT
BEGIN:STANDARD
TZOFFSETFROM:-0500
TZOFFSETTO:-0600
TZNAME:CST
DTSTART:20271107T070000
END:STANDARD
END:VTIMEZONE
BEGIN:VEVENT
DTSTART;TZID=America/Chicago:20260328T063000
DTEND;TZID=America/Chicago:20260425T140000
DTSTAMP:20260422T051040
CREATED:20260327T174602Z
LAST-MODIFIED:20260327T174740Z
UID:16653-1774679400-1777125600@www.grandscape.com
SUMMARY:Soccer Saturdays at Toca Social
DESCRIPTION:Watch your team the right way at TOCA Social! From early Premier League kickoffs to the biggest European and international showdowns\, we’re bringing you every televised match (match clash permitting) with full match audio and an unbeatable atmosphere.\n\nTimings:\nEPL games from 6:30am-2:00pm
URL:https://www.grandscape.com/event/soccer-saturdays-at-toca-social/2026-03-28/
CATEGORIES:Sports
ATTACH;FMTTYPE=image/jpeg:https://www.grandscape.com/wp-content/uploads/2026/03/WhatsApp-Image-2026-03-01-at-10.40.29.jpeg
END:VEVENT
BEGIN:VEVENT
DTSTART;TZID=America/Chicago:20260404T063000
DTEND;TZID=America/Chicago:20260502T140000
DTSTAMP:20260422T051040
CREATED:20260327T174602Z
LAST-MODIFIED:20260327T174740Z
UID:16655-1775284200-1777730400@www.grandscape.com
SUMMARY:Soccer Saturdays at Toca Social
DESCRIPTION:Watch your team the right way at TOCA Social! From early Premier League kickoffs to the biggest European and international showdowns\, we’re bringing you every televised match (match clash permitting) with full match audio and an unbeatable atmosphere.\n\nTimings:\nEPL games from 6:30am-2:00pm
URL:https://www.grandscape.com/event/soccer-saturdays-at-toca-social/2026-04-04/
CATEGORIES:Sports
ATTACH;FMTTYPE=image/jpeg:https://www.grandscape.com/wp-content/uploads/2026/03/WhatsApp-Image-2026-03-01-at-10.40.29.jpeg
END:VEVENT
BEGIN:VEVENT
DTSTART;TZID=America/Chicago:20260411T063000
DTEND;TZID=America/Chicago:20260509T140000
DTSTAMP:20260422T051040
CREATED:20260327T174602Z
LAST-MODIFIED:20260327T174741Z
UID:16656-1775889000-1778335200@www.grandscape.com
SUMMARY:Soccer Saturdays at Toca Social
DESCRIPTION:Watch your team the right way at TOCA Social! From early Premier League kickoffs to the biggest European and international showdowns\, we’re bringing you every televised match (match clash permitting) with full match audio and an unbeatable atmosphere.\n\nTimings:\nEPL games from 6:30am-2:00pm
URL:https://www.grandscape.com/event/soccer-saturdays-at-toca-social/2026-04-11/
CATEGORIES:Sports
ATTACH;FMTTYPE=image/jpeg:https://www.grandscape.com/wp-content/uploads/2026/03/WhatsApp-Image-2026-03-01-at-10.40.29.jpeg
END:VEVENT
BEGIN:VEVENT
DTSTART;TZID=America/Chicago:20260418T063000
DTEND;TZID=America/Chicago:20260516T140000
DTSTAMP:20260422T051040
CREATED:20260327T174602Z
LAST-MODIFIED:20260327T174742Z
UID:16657-1776493800-1778940000@www.grandscape.com
SUMMARY:Soccer Saturdays at Toca Social
DESCRIPTION:Watch your team the right way at TOCA Social! From early Premier League kickoffs to the biggest European and international showdowns\, we’re bringing you every televised match (match clash permitting) with full match audio and an unbeatable atmosphere.\n\nTimings:\nEPL games from 6:30am-2:00pm
URL:https://www.grandscape.com/event/soccer-saturdays-at-toca-social/2026-04-18/
CATEGORIES:Sports
ATTACH;FMTTYPE=image/jpeg:https://www.grandscape.com/wp-content/uploads/2026/03/WhatsApp-Image-2026-03-01-at-10.40.29.jpeg
END:VEVENT
BEGIN:VEVENT
DTSTART;TZID=America/Chicago:20260422T183000
DTEND;TZID=America/Chicago:20260422T193000
DTSTAMP:20260422T051040
CREATED:20260401T160445Z
LAST-MODIFIED:20260402T142919Z
UID:16716-1776882600-1776886200@www.grandscape.com
SUMMARY:Sunset Fitness: Pilates Sculpt with Vybe5
DESCRIPTION:Join us on the lawn at Grandscape on Wednesday\, April 22 from 6:30-7:30pm to strengthen\, sculpt\, and ignite your core through controlled\, powerful movement.\n\nDon’t forget to bring your mat\, water\, and good vibes. We’ll see you there!\nLooking for parking? Use our free Crest Auto Parking Garage.\n\nGrandscape is a large outdoor shopping center with plenty of food and dining. Please feel free to shop around The Homestead and grab a bite to eat at one of our many restaurants after the event!\n\n 
URL:https://www.grandscape.com/event/sunset-fitness-pilates-sculpt-with-vybe5/2026-04-22/
LOCATION:The Lawn at Grandscape\, 5752 Grandscape Blvd\, The Colony\, TX\, United States
ATTACH;FMTTYPE=image/jpeg:https://www.grandscape.com/wp-content/uploads/2026/04/GS_Sunset-Fitness_Web-Event_960x500.jpg
END:VEVENT
BEGIN:VEVENT
DTSTART;TZID=America/Chicago:20260422T183000
DTEND;TZID=America/Chicago:20260422T203000
DTSTAMP:20260422T051040
CREATED:20260331T204252Z
LAST-MODIFIED:20260331T204252Z
UID:16709-1776882600-1776889800@www.grandscape.com
SUMMARY:Smooth Sessions Jazz Series
DESCRIPTION:Ease into the evening with soulful sounds and signature grooves.\nSmooth Sessions Jazz returns this spring\, bringing soulful jazz music by Vandell Andrew to The Grotto. If you’re looking for the perfect midweek escape\, this is your place to be.\nThe Smooth Sessions Jazz series is every 2nd and 4th Wednesday of the month\, April & May\, from 6:30-8:30pm in The Grotto!\nThis show is FREE to the public. Enjoy the concert from one of our Grotto tenant’s patios or from any of the open seating in the area!\nNo outside alcohol or coolers are allowed. Please visit our Event FAQ for more information.\nWondering what The Grotto is? Unwind\, dine\, and delight in this outdoor oasis located between the Kaleidoscope and Grandscape Blvd. Explore the lower and upper levels of The Grotto with unique dining experiences and patio scenes you won’t want to miss.
URL:https://www.grandscape.com/event/smooth-sessions-jazz-series/2026-04-22/
LOCATION:The Grotto
CATEGORIES:Concert
ATTACH;FMTTYPE=image/jpeg:https://www.grandscape.com/wp-content/uploads/2026/03/GS_Smooth-Sessions-Jazz-Series_Website_960x500.jpg
END:VEVENT
END:VCALENDAR