BEGIN:VCALENDAR
VERSION:2.0
PRODID:-//Grandscape - ECPv6.15.16//NONSGML v1.0//EN
CALSCALE:GREGORIAN
METHOD:PUBLISH
X-ORIGINAL-URL:https://www.grandscape.com
X-WR-CALDESC:Events for Grandscape
REFRESH-INTERVAL;VALUE=DURATION:PT1H
X-Robots-Tag:noindex
X-PUBLISHED-TTL:PT1H
BEGIN:VTIMEZONE
TZID:America/Chicago
BEGIN:DAYLIGHT
TZOFFSETFROM:-0600
TZOFFSETTO:-0500
TZNAME:CDT
DTSTART:20220313T080000
END:DAYLIGHT
BEGIN:STANDARD
TZOFFSETFROM:-0500
TZOFFSETTO:-0600
TZNAME:CST
DTSTART:20221106T070000
END:STANDARD
BEGIN:DAYLIGHT
TZOFFSETFROM:-0600
TZOFFSETTO:-0500
TZNAME:CDT
DTSTART:20230312T080000
END:DAYLIGHT
BEGIN:STANDARD
TZOFFSETFROM:-0500
TZOFFSETTO:-0600
TZNAME:CST
DTSTART:20231105T070000
END:STANDARD
BEGIN:DAYLIGHT
TZOFFSETFROM:-0600
TZOFFSETTO:-0500
TZNAME:CDT
DTSTART:20240310T080000
END:DAYLIGHT
BEGIN:STANDARD
TZOFFSETFROM:-0500
TZOFFSETTO:-0600
TZNAME:CST
DTSTART:20241103T070000
END:STANDARD
END:VTIMEZONE
BEGIN:VEVENT
DTSTART;TZID=America/Chicago:20231210T110000
DTEND;TZID=America/Chicago:20231210T150000
DTSTAMP:20260421T090359
CREATED:20231114T153131Z
LAST-MODIFIED:20231114T153131Z
UID:10536-1702206000-1702220400@www.grandscape.com
SUMMARY:Santa Photo Experience at NFM
DESCRIPTION:Santa’s Here!\nShare your wish list and get a FREE photo with Father Christmas himself!\nOn-site photographer will capture the magic moment and send a copy straight to your phone or email. One of Santa’s helpers will also be on hand to help encourage smiles from little ones!\nMore info for NFM’s Holiday events can be found at www.nfm.com/holiday-events.  
URL:https://www.grandscape.com/event/santa-photo-experience-at-nfm-2/2023-12-10/
LOCATION:NFM
CATEGORIES:Kid Friendly
ATTACH;FMTTYPE=image/jpeg:https://www.grandscape.com/wp-content/uploads/2023/11/SantaPhotoExperience_1920_1080.jpg
END:VEVENT
BEGIN:VEVENT
DTSTART;TZID=America/Chicago:20231122T120000
DTEND;TZID=America/Chicago:20231122T150000
DTSTAMP:20260421T090359
CREATED:20231018T202546Z
LAST-MODIFIED:20231108T163749Z
UID:10329-1700654400-1700665200@www.grandscape.com
SUMMARY:Grandscape Stole Christmas
DESCRIPTION:*TICKETS SOLD OUT*\n“Santa\, don’t forget the Grinch. I know he’s mean and hairy and smelly\, and his hands are cold and clammy\, but I think he’s kinda… sweet.” — Cindy Lou Who\n\nWe welcome all Whos\, far & near! Join us at Grandscape on Wednesday\, November 22 from 12:00-3:00pm as we host Grandscape Stole Christmas. Come out for your chance to meet the Grinch! Plus\, while you’re here\, stop by our FREE interactive Gel Blaster Experience on the Grandscape Lawn.\nPhotos with The Grinch are $5 per photo and include a Grinch themed craft. Parents must accompany children while meeting The Grinch.\nGrinch theme sweets (available for purchase).\nGuests must reserve a time slot via Eventbrite and space is limited.\nPhotos with the Grinch will be located in The Terrace behind the Grandscape Lawn.\n\nPlease visit event faq for more information. Looking for parking? Use our free parking garage! 
URL:https://www.grandscape.com/event/grandscape-stole-christmas-2/2023-11-22/
LOCATION:The Lawn at Grandscape\, 5752 Grandscape Blvd\, The Colony\, TX\, United States
CATEGORIES:Holiday Events,Kid Friendly
ATTACH;FMTTYPE=image/jpeg:https://www.grandscape.com/wp-content/uploads/2023/10/Grandscape-Stole-Xmas_Website_960x500.jpg
END:VEVENT
BEGIN:VEVENT
DTSTART;TZID=America/Chicago:20231031T180000
DTEND;TZID=America/Chicago:20231031T210000
DTSTAMP:20260421T090359
CREATED:20230907T205618Z
LAST-MODIFIED:20231002T135825Z
UID:10139-1698775200-1698786000@www.grandscape.com
SUMMARY:Spooktacular Trick-or-Treat
DESCRIPTION:Ready for a frightfully fun time?\nJoin us at Grandscape for our second annual Spooktacular Trick-or-Treat presented by FNBO on Tuesday\, October 31 from 6:00-9:00pm. You’re going to be goblin’ up candy all night long!\nEvent is FREE and includes:\n\n	\nTrick-or-Treating throughout Grandscape\n\n	\nFace painting\n\n	\nPalm reading\n\n\n*While supplies last. Lines will be cut off once event capacity has been reached.\nLooking for parking? Use our free parking garage.\nGrandscape is a large outdoor shopping center with plenty of food and dining. Please feel free to shop around The Homestead and grab a bite to eat at one of our many restaurants before or after the event!
URL:https://www.grandscape.com/event/spooktacular-trick-or-treat/2023-10-31/
LOCATION:The Lawn at Grandscape\, 5752 Grandscape Blvd\, The Colony\, TX\, United States
CATEGORIES:Kid Friendly
ATTACH;FMTTYPE=image/jpeg:https://www.grandscape.com/wp-content/uploads/2023/09/GS_Spooktacular_Website_960x500.jpg
END:VEVENT
BEGIN:VEVENT
DTSTART;TZID=America/Chicago:20230923T160000
DTEND;TZID=America/Chicago:20230923T180000
DTSTAMP:20260421T090359
CREATED:20230914T152213Z
LAST-MODIFIED:20230914T152317Z
UID:10176-1695484800-1695492000@www.grandscape.com
SUMMARY:Junior Golf Clinic
DESCRIPTION:Hosted at the Grandscape Lawn on Saturday\, September 23 at 4:00pm\, juniors ages 6-16 can learn the basics of golf from First Tee of Dallas instructors and special guest LPGA Tour superstar Brittany Lang. Participants will have the opportunity to ask questions\, get autographs\, and get hands-on golf instruction through a variety of golf stations.\nThis event is free to join and spots are limited so secure your spot today. Register here
URL:https://www.grandscape.com/event/junior-golf-clinic/2023-09-23/
LOCATION:The Lawn at Grandscape\, 5752 Grandscape Blvd\, The Colony\, TX\, United States
CATEGORIES:Kid Friendly,Sports
ATTACH;FMTTYPE=image/jpeg:https://www.grandscape.com/wp-content/uploads/2023/09/ASC-23_59-Grandscape-Junior-Golf-Clinic-Invite_R2.jpg
END:VEVENT
BEGIN:VEVENT
DTSTART;TZID=America/Chicago:20230725T100000
DTEND;TZID=America/Chicago:20230725T120000
DTSTAMP:20260421T090359
CREATED:20230519T155400Z
LAST-MODIFIED:20230724T175149Z
UID:9585-1690279200-1690286400@www.grandscape.com
SUMMARY:Fun in the Sun: Christmas in July
DESCRIPTION:WEATHER UPDATE: This event has been moved to Galaxy Theatres due to the forecasted heat tomorrow!\nHO HO HO! Who needs snow?\nTis the season for sunscreen and shades. Join us at Grandscape as we celebrate Christmas in July on Tuesday\, July 25 from 10:00am-12:00pm. This FREE event includes a craft\, giveaways and a photo with Santa and Mrs. Claus\, as they take some time away from their Summer vacation to meet with guests and take notes on everyone’s early Christmas wishes!*\nEvent location – Galaxy Theatres\n*Lines will be cut once event capacity has been reached. Crafts are limited to the first 200 kids.
URL:https://www.grandscape.com/event/fun-in-the-sun-christmas-in-july-2/2023-07-25/
LOCATION:Galaxy Theatres\, 5740 Grandscape Blvd\, Suite 100\, The Colony\, TX\, 75056
CATEGORIES:Kid Friendly
ATTACH;FMTTYPE=image/jpeg:https://www.grandscape.com/wp-content/uploads/2023/05/GS_Fun-in-the-Sun_Website_960x500_Christmas-in-July.jpg
END:VEVENT
BEGIN:VEVENT
DTSTART;TZID=America/Chicago:20230718T100000
DTEND;TZID=America/Chicago:20230718T120000
DTSTAMP:20260421T090359
CREATED:20230502T152354Z
LAST-MODIFIED:20230502T152354Z
UID:9501-1689674400-1689681600@www.grandscape.com
SUMMARY:Fun in the Sun: Splashscape
DESCRIPTION:SPLISH SPLASH! Join us at Grandscape as we host Fun in the Sun: Spashscape presented by FNBO on Tuesday\, July 18 from 10:00am-12:00pm.  Bring a towel and come beat the heat.\nEvent includes:\n\n	\nWater games and activities\n\n\nLines may close once event capacity has been reached.\nEvent location – Lawn\nLooking for parking?  Use our free parking garage. https://www.grandscape.com/visit/?fbclid=IwAR1kgsxwHNGtIAO_8FUFyjMJlIXyHpnHDOvmZZcSuSizRbBeQ5hGK9NNw1w#parking-garage\n 
URL:https://www.grandscape.com/event/fun-in-the-sun-splashscape/2023-07-18/
LOCATION:The Lawn at Grandscape\, 5752 Grandscape Blvd\, The Colony\, TX\, United States
CATEGORIES:Kid Friendly
ATTACH;FMTTYPE=image/jpeg:https://www.grandscape.com/wp-content/uploads/2023/05/GS_Fun-in-the-Sun_Website_960x500_Splashscape.jpg
END:VEVENT
BEGIN:VEVENT
DTSTART;TZID=America/Chicago:20230714T080000
DTEND;TZID=America/Chicago:20230714T170000
DTSTAMP:20260421T090359
CREATED:20230626T165227Z
LAST-MODIFIED:20230721T084737Z
UID:9783-1689321600-1689354000@www.grandscape.com
SUMMARY:Go Loco for Coconuts at Truck Yard
DESCRIPTION:Aloha! It’s that time of year again for Truck Yard’s Loco for Coconuts celebration.\nThe party starts Friday\, July 14th @ 5PM and lasts all day Saturday\, July 15th! Grab your best TROPICAL ATTIRE and we’ll see you there!\nStep 1). Grab your favorite coconut\nStep 2). Go LOCO on that nut *crack it open*\nStep 3). Pick your luau drink\nGo cocoNUTS with us because we’re going all out with:\n-THEMED DRINKS\n-HULA DANCERS Friday & Saturday\n-FIRE DANCERS Friday & Saturday\n-PIG ROAST (Saturday only)\n-THEMED LIVE MUSIC\nTHEMED DRINKS INCLUDE: Lada Colada\, Frozen Coconut Key Lime Pie\, Skinny Painkiller\, Coconut Water\nTruck Yard’s Annual Loco for Coconut party! Free admission – no ticket required. Kid/Dog Friendly.
URL:https://www.grandscape.com/event/go-loco-for-coconuts-at-truck-yard-2/2023-07-14/
LOCATION:Truck Yard
CATEGORIES:Kid Friendly,Pet Friendly
ATTACH;FMTTYPE=image/jpeg:https://www.grandscape.com/wp-content/uploads/2023/06/2307-TY-Loco-For-Coconut-Party-Grandscape-Newsletter-COLONY.jpg
END:VEVENT
BEGIN:VEVENT
DTSTART;TZID=America/Chicago:20230711T100000
DTEND;TZID=America/Chicago:20230711T120000
DTSTAMP:20260421T090359
CREATED:20230502T140949Z
LAST-MODIFIED:20230502T152845Z
UID:9499-1689069600-1689076800@www.grandscape.com
SUMMARY:Fun in the Sun: Zoofari
DESCRIPTION:It’s going to be WILD this week!  Join us at Grandscape as we continue our Fun in the Sun Series with Zoofari on Tuesday\, July 11 from 10:00am-12:00pm presented by FNBO.  Come learn about some of your favorite animals\, and hopefully see a few up close for a picture!\nAnimals include:\n\n	\nTegu\n\n	\nTortoise\n\n	\nBaby Crocodile\n\n	\nLemur\n\n	\nSpider Monkey\n\n\nEvent Location – Lawn\nEvent Cost – Free\, but limited.\n*LIMITED to the first 200 children.\n** Pictures will depend on the animals and will be at the handler’s discretion.  Grandscape is not able to guarantee each attendee will have the opportunity to take pictures.
URL:https://www.grandscape.com/event/fun-in-the-sun-zoofari/2023-07-11/
LOCATION:The Lawn at Grandscape\, 5752 Grandscape Blvd\, The Colony\, TX\, United States
CATEGORIES:Kid Friendly
ATTACH;FMTTYPE=image/jpeg:https://www.grandscape.com/wp-content/uploads/2023/05/GS_Fun-in-the-Sun_Website_960x500_Zoofari.jpg
END:VEVENT
BEGIN:VEVENT
DTSTART;TZID=America/Chicago:20230627T100000
DTEND;TZID=America/Chicago:20230627T120000
DTSTAMP:20260421T090359
CREATED:20230502T161557Z
LAST-MODIFIED:20230622T191238Z
UID:9508-1687860000-1687867200@www.grandscape.com
SUMMARY:Fun in the Sun: Arcade Party
DESCRIPTION:Heeeere weee GO! \nGrandscape just LEVELED UP! Put your game face on\, it’s time to play! Join us at Andretti on June 27 from 10:00am-12:00pm as we jump into the world of games Arcade Party Presented by FNBO.\nEvent Includes:\n– Live appearances by Mario and Princess Peach\n– FREE games for kids to play\n– Super Mario themed crafts\n-Coupons from Andretti for more game play afterwards\nEvent location – Andretti Grand Room (second floor)\nLooking for parking? Use our free parking garage.\nhttps://www.grandscape.com/visit/…\n 
URL:https://www.grandscape.com/event/fun-in-the-sun-arcade-party/2023-06-27/
LOCATION:Andretti Indoor Karting & Games\, TX\, United States
CATEGORIES:Kid Friendly
ATTACH;FMTTYPE=image/jpeg:https://www.grandscape.com/wp-content/uploads/2023/05/GS_Fun-in-the-Sun_Website_960x500_Arcade-Party.jpg
END:VEVENT
BEGIN:VEVENT
DTSTART;TZID=America/Chicago:20230620T100000
DTEND;TZID=America/Chicago:20230620T120000
DTSTAMP:20260421T090359
CREATED:20230502T160050Z
LAST-MODIFIED:20230607T153503Z
UID:9506-1687255200-1687262400@www.grandscape.com
SUMMARY:Fun in the Sun: Once Upon a Princess
DESCRIPTION:Once upon a time\, in a land called Grandscape…\nThere were four Princesses who couldn’t wait to meet some new friends.\nJoin us at Grandscape for Fun in the Sun: Once Upon a Princess presented by FNBO! Have special day with some of your favorite Princesses!\nCome dressed as your favorite royal character while you enjoy a performance from different princesses and learn all about inner beauty and ways that you can practice being a Princess at home!\nEvent location – Lawn\nLooking for parking?  Use our free parking garage. https://www.grandscape.com/visit/?fbclid=IwAR1kgsxwHNGtIAO_8FUFyjMJlIXyHpnHDOvmZZcSuSizRbBeQ5hGK9NNw1w#parking-garage\n 
URL:https://www.grandscape.com/event/fun-in-the-sun-once-upon-a-princess/2023-06-20/
LOCATION:The Lawn at Grandscape\, 5752 Grandscape Blvd\, The Colony\, TX\, United States
CATEGORIES:Kid Friendly
ATTACH;FMTTYPE=image/jpeg:https://www.grandscape.com/wp-content/uploads/2023/05/GS-Fun-in-the-Sun_Website_960x500_Once-Upon-a-Princess.jpg
END:VEVENT
BEGIN:VEVENT
DTSTART;TZID=America/Chicago:20230613T100000
DTEND;TZID=America/Chicago:20230613T120000
DTSTAMP:20260421T090359
CREATED:20230501T211729Z
LAST-MODIFIED:20230612T165622Z
UID:9497-1686650400-1686657600@www.grandscape.com
SUMMARY:Fun in the Sun: Dino Day
DESCRIPTION:RAWRRR!  Join us at Grandscape as we host Fun in the Sun: Dino Day presented by FNBO on Tuesday\, June 13 from 10:00am-12:00pm.  Come take pictures with your favorite dinosaurs\, search for dinosaur eggs\, and grab a FREE craft. \nEvent includes: \n\n	Pictures with dinosaurs\n	Dino activities & crafts\n\nAll event activities\, crafts are limited.  Lines will close once event capacity has been reached. \nEvent location – Lawn \nLooking for parking?  Use our free parking garage. https://www.grandscape.com/visit/?fbclid=IwAR1kgsxwHNGtIAO_8FUFyjMJlIXyHpnHDOvmZZcSuSizRbBeQ5hGK9NNw1w#parking-garage
URL:https://www.grandscape.com/event/fun-in-the-sun-dino-day-2/2023-06-13/
LOCATION:The Lawn at Grandscape\, 5752 Grandscape Blvd\, The Colony\, TX\, United States
CATEGORIES:Kid Friendly
ATTACH;FMTTYPE=image/jpeg:https://www.grandscape.com/wp-content/uploads/2023/05/GS_Fun-in-the-Sun_Website_960x500_Dino-Day.jpg
END:VEVENT
BEGIN:VEVENT
DTSTART;TZID=America/Chicago:20230408T100000
DTEND;TZID=America/Chicago:20230408T160000
DTSTAMP:20260421T090359
CREATED:20230308T170002Z
LAST-MODIFIED:20230403T154508Z
UID:9209-1680948000-1680969600@www.grandscape.com
SUMMARY:Spring Fling Eggstravaganza
DESCRIPTION:Hop on over to Grandscape for our Spring Fling EGGstravaganza presented by Olsson! FREE games and activities will be open to the public all day long! Don’t miss out on our Easter Egg Run and photos with the Easter Bunny!*\n\nSchedule of events:\n10:00am-4:00pm – Free games & activities located in The Homestead!\n10:00am-12:00pm – Photos with the Easter Bunny*\n11:30am – Check-in for Easter Egg Run begins\n12:30-2:30pm – Children’s Easter Egg Run events* (see below for age breakdown)\n\nEaster Egg Run Schedule (registration required):\n12:30pm – Egg Run: Ages 0-3 (with parental assistance)\n1:00pm – Egg Run: Ages 4-6\n1:30pm – Egg Run: Ages 7-11\n2:00pm – Egg Run: Ages 12+\n \n*Registration for Easter Bunny photos is $5 per family/photo. Registration for the Egg Run is $5 per child. Be on the lookout for an email from Grandscape on Friday\, April 7th regarding additional details about this event.\n \nEvent location:\n– FREE games and activities – The Homestead\n– Photos with the Easter Bunny – The Terrace\n– Egg Run – The Lawn\n \nLooking for parking? Use our free parking garage. https://www.grandscape.com/visit/
URL:https://www.grandscape.com/event/spring-fling-eggstravaganza-3/2023-04-08/
LOCATION:The Lawn at Grandscape\, 5752 Grandscape Blvd\, The Colony\, TX\, United States
CATEGORIES:Kid Friendly
ATTACH;FMTTYPE=image/jpeg:https://www.grandscape.com/wp-content/uploads/2023/03/GS_Spring-Fling_Web-Event_960x500-1.jpg
END:VEVENT
BEGIN:VEVENT
DTSTART;TZID=America/Chicago:20230403T170000
DTEND;TZID=America/Chicago:20230407T190000
DTSTAMP:20260421T090359
CREATED:20230313T175349Z
LAST-MODIFIED:20230313T175428Z
UID:9224-1680541200-1680894000@www.grandscape.com
SUMMARY:Bunny Daze
DESCRIPTION:Hop over to Grandscape for Bunny Daze\, presented by Olsson! All week long\, guests will visit the Easter Bunny in The Terrace from 5:00-7:00pm. Tickets are required per photo and may be purchased through Eventbrite. We will be hoppy to see you there!\n\n \nTickets include:\n\n• Printed picture with the Easter Bunny\n\n• Craft to take home\n\n \nLocation of Event – The Terrace
URL:https://www.grandscape.com/event/bunny-daze/2023-04-03/
CATEGORIES:Kid Friendly
ATTACH;FMTTYPE=image/jpeg:https://www.grandscape.com/wp-content/uploads/2023/03/GS_Bunny-Daze_Website-Event_960x500.jpg
END:VEVENT
BEGIN:VEVENT
DTSTART;TZID=America/Chicago:20230316T110000
DTEND;TZID=America/Chicago:20230316T130000
DTSTAMP:20260421T090359
CREATED:20230302T183250Z
LAST-MODIFIED:20230316T141849Z
UID:9098-1678964400-1678971600@www.grandscape.com
SUMMARY:Spring Break: Four Leaf Clover Hunt
DESCRIPTION:“Top o’ the Mornin’ to Ya!”\n\nJoin us at NFM at Grandscape on Thursday\, March 16 from 11:00-1:00pm as we host our Four Leaf Clover Hunt Presented by InTouch Credit Union. Search high and low\, and see if you have what it takes\, to find all the clovers that will be scattered throughout the center. After you find them all you might even be rewarded with your very own “pot-o-gold” prize.\n\nCome out and see if the “Luck of the Irish” is on your side and don’t forget to wear your green. We’ll see you there.\n\nFree “pot-o-gold” prizes will be available to the first 300 kids.\n\nEvent location – At NFM main entrance near Scooter’s Coffee.\n\nLooking for parking? Use our free parking garage.\nhttps://www.grandscape.com/visit/
URL:https://www.grandscape.com/event/spring-break-four-leaf-clover-hunt/2023-03-16/
LOCATION:NFM
CATEGORIES:Kid Friendly
ATTACH;FMTTYPE=image/jpeg:https://www.grandscape.com/wp-content/uploads/2023/03/GS_SB-Clover-Hunt_Website-Event_960x500.jpg
END:VEVENT
BEGIN:VEVENT
DTSTART;TZID=America/Chicago:20230315T120000
DTEND;TZID=America/Chicago:20230315T140000
DTSTAMP:20260421T090359
CREATED:20230302T180905Z
LAST-MODIFIED:20230309T195908Z
UID:9096-1678881600-1678888800@www.grandscape.com
SUMMARY:Spring Break: Jungle Journey
DESCRIPTION:We’ve gone WILD at Grandscape!\n\nJoin us for our Jungle Journey at Grandscape on Wednesday\, March 15 from 12:00-2:00pm.  Guests will enjoy an animal show on the stage\, along with fun jungle crafts for the entire family.\n\nEvent Includes:\n\n 	\nAnimal shows on the stage at 12:00pm and 1:00pm\n\n 	\nCrafts for kids\n\n\n \nCrafts will be limited to the first 100 kids.\n\nEvent Location – The Stage and Lawn\n 
URL:https://www.grandscape.com/event/spring-break-jungle-journey/2023-03-15/
LOCATION:The Lawn at Grandscape\, 5752 Grandscape Blvd\, The Colony\, TX\, United States
CATEGORIES:Kid Friendly
ATTACH;FMTTYPE=image/jpeg:https://www.grandscape.com/wp-content/uploads/2023/03/GS_SB-Jungle-Journey_Website-Event_960x500.jpg
END:VEVENT
BEGIN:VEVENT
DTSTART;TZID=America/Chicago:20230314T110000
DTEND;TZID=America/Chicago:20230314T130000
DTSTAMP:20260421T090359
CREATED:20230302T193746Z
LAST-MODIFIED:20230308T180934Z
UID:9102-1678791600-1678798800@www.grandscape.com
SUMMARY:Spring Break: Kid's Carnival
DESCRIPTION:Step right up!\n\n\nJoin us at Grandscape on Tuesday\, March 14 from 11:00-1:00pm for our Kid’s Carnival event presented by InTouch Credit Union. Try your luck at winning some prizes\, grab a corn dog\, and enjoy everything Grandscape has to offer.\n\n\nEvent Includes:\n– Carnival Games\n– Food available for purchase\n– Balloon Twisting\n– Magic show at 11:30am & 12:30pm\n\n\nLines may be cut once event capacity has been reached. Giveaways are limited to the first 200 kids.\n\n\nEvent Location – The Lawn\n\n\nLooking for parking? Use our free parking garage.\nhttps://www.grandscape.com/visit/
URL:https://www.grandscape.com/event/spring-break-kids-carnival/2023-03-14/
LOCATION:The Lawn at Grandscape\, 5752 Grandscape Blvd\, The Colony\, TX\, United States
CATEGORIES:Kid Friendly
ATTACH;FMTTYPE=image/jpeg:https://www.grandscape.com/wp-content/uploads/2023/03/GS_SB-Kids-Carnival_Website-Event_960x500.jpg
END:VEVENT
END:VCALENDAR