BEGIN:VCALENDAR
VERSION:2.0
PRODID:-//Grandscape - ECPv6.15.16//NONSGML v1.0//EN
CALSCALE:GREGORIAN
METHOD:PUBLISH
X-WR-CALNAME:Grandscape
X-ORIGINAL-URL:https://www.grandscape.com
X-WR-CALDESC:Events for Grandscape
REFRESH-INTERVAL;VALUE=DURATION:PT1H
X-Robots-Tag:noindex
X-PUBLISHED-TTL:PT1H
BEGIN:VTIMEZONE
TZID:America/Chicago
BEGIN:DAYLIGHT
TZOFFSETFROM:-0600
TZOFFSETTO:-0500
TZNAME:CDT
DTSTART:20210314T080000
END:DAYLIGHT
BEGIN:STANDARD
TZOFFSETFROM:-0500
TZOFFSETTO:-0600
TZNAME:CST
DTSTART:20211107T070000
END:STANDARD
BEGIN:DAYLIGHT
TZOFFSETFROM:-0600
TZOFFSETTO:-0500
TZNAME:CDT
DTSTART:20220313T080000
END:DAYLIGHT
BEGIN:STANDARD
TZOFFSETFROM:-0500
TZOFFSETTO:-0600
TZNAME:CST
DTSTART:20221106T070000
END:STANDARD
BEGIN:DAYLIGHT
TZOFFSETFROM:-0600
TZOFFSETTO:-0500
TZNAME:CDT
DTSTART:20230312T080000
END:DAYLIGHT
BEGIN:STANDARD
TZOFFSETFROM:-0500
TZOFFSETTO:-0600
TZNAME:CST
DTSTART:20231105T070000
END:STANDARD
END:VTIMEZONE
BEGIN:VEVENT
DTSTART;TZID=America/Chicago:20221109T183000
DTEND;TZID=America/Chicago:20221109T203000
DTSTAMP:20260421T115511
CREATED:20221007T191600Z
LAST-MODIFIED:20221007T191600Z
UID:8126-1668018600-1668025800@www.grandscape.com
SUMMARY:Grandscape Stole Christmas
DESCRIPTION:Calling all Whos to bring your cheer. We welcome all Whos\, far & near. Join us on Wednesday\, November 9th from 6:30 – 8:30pm as we host Grandscape Stole Christmas. This event is FREE and open to the public.\n\nEvent Includes:\n– Pictures with the Grinch\n– Whoville Hair Station\n– Grinch Face painting\n– Make your own Grinch ornament\n\n*Pictures\, hair styling\, ornaments and face painting may be limited. Lines will close at 8:00pm.\n\nLooking for parking? Use our free parking garage! https://www.grandscape.com/visit/#parking-garage
URL:https://www.grandscape.com/event/grandscape-stole-christmas/
LOCATION:The Lawn at Grandscape\, 5752 Grandscape Blvd\, The Colony\, TX\, United States
CATEGORIES:Kid Friendly
ATTACH;FMTTYPE=image/jpeg:https://www.grandscape.com/wp-content/uploads/2022/10/Grandscape-Stole-Xmas_Website-Event_960x500.jpg
END:VEVENT
BEGIN:VEVENT
DTSTART;TZID=America/Chicago:20221031T173000
DTEND;TZID=America/Chicago:20221031T203000
DTSTAMP:20260421T115511
CREATED:20220926T195010Z
LAST-MODIFIED:20220926T195010Z
UID:8029-1667237400-1667248200@www.grandscape.com
SUMMARY:Halloweek: Spooktacular Trick-or-Treat
DESCRIPTION:“Trick-or-treat smell my feet give me something good to eat.”\n\nLive on the fright side and join us for a spooky good time at our Spooktacular Trick-or-Treat event presented by FNBO on Monday\, October 31st from 5:30 – 8:30pm.\n\nGet into the Halloween spirit and come out to Grandscape to enjoy trick-or-treating throughout the center at participating shops and restaurants. The event will also include a DJ on the stage\, “Spot a Jack-o-Lantern” scavenger hunt\, pumpkin bounce house\, and more! PLUS\, don’t miss out on participating in our “Halloween Spooktacular” costume contest by tagging us on Instagram @GrandscapeTX with your most creative and original costumes!\n\nWill you get tricked or treated\, this Halloween? Come as you aren’t and join us for a howling good time!\n\n*Participants will need to tag us in pictures at Grandscape to be eligible to participate in the costume contest.\n\nLooking for parking? Use our free parking garage! https://www.grandscape.com/visit/#parking-garage
URL:https://www.grandscape.com/event/halloweek-spooktacular-trick-or-treat/
LOCATION:The Lawn at Grandscape\, 5752 Grandscape Blvd\, The Colony\, TX\, United States
CATEGORIES:Kid Friendly
ATTACH;FMTTYPE=image/jpeg:https://www.grandscape.com/wp-content/uploads/2022/09/GS_Spooktacular-Trick-or-Treat_WebsiteEventImg_960x500.jpg
END:VEVENT
BEGIN:VEVENT
DTSTART;TZID=America/Chicago:20221029T180000
DTEND;TZID=America/Chicago:20221029T210000
DTSTAMP:20260421T115511
CREATED:20220926T190906Z
LAST-MODIFIED:20220926T190906Z
UID:8019-1667066400-1667077200@www.grandscape.com
SUMMARY:Halloweek: Monster Mash Bash
DESCRIPTION:Party like a monSTAR at Grandscape’s Monster Mash Bash presented by FNBO!\n\n \n\nJoin us on Saturday\, October 29th from 6:00 – 9:00pm on the lawn. This family-friendly event is sure to be a BOOtiful night. We hope to see you there!\n\n \n\nEvent Includes:\n– Stage entertainment\n– Face Painters\n– Balloon Artists\n– Pumpkin Decorating*\n– Spook-Track-Ula Train Rides*\n– Blackout Halloween Maze (18+)*\n– IG-worthy photo ops\n– LOTS of candy!\n\n \n\n*The blackout maze\, pumpkin decorating and train rides will be ticketed. Tickets will be sold at the ticket booth located on the lawn. Limited tickets available.*\n\n \n\nNo outside alcohol or coolers are allowed. Please visit www.grandscape.com/event-faq/ for more information.\n\n \n\nLooking for parking? Use our free parking garage! https://www.grandscape.com/visit/#parking-garage
URL:https://www.grandscape.com/event/halloweek-monster-mash-bash/
LOCATION:Stage & Lawn\, 5752 Grandscape Blvd.\, The Colony\, TX\, 75056\, United States
CATEGORIES:Concert,Kid Friendly
ATTACH;FMTTYPE=image/jpeg:https://www.grandscape.com/wp-content/uploads/2022/09/GS_Monster-Mash-Bash_WebsiteEventImg_960x500.jpg
END:VEVENT
BEGIN:VEVENT
DTSTART;TZID=America/Chicago:20221029T100000
DTEND;TZID=America/Chicago:20221029T150000
DTSTAMP:20260421T115511
CREATED:20221013T163447Z
LAST-MODIFIED:20221014T145947Z
UID:8159-1667037600-1667055600@www.grandscape.com
SUMMARY:NFM's Halloween Spooktacular
DESCRIPTION:Do you feel a chill in the air and the eerie atmosphere? Something wicked fun is coming your way during NFM’s Halloween Spooktacular! Bring your boys\, girls\, and goblins along to NFM for a ghoulish good time Saturday\, October 29th from 10:00am – 3:00pm.\n\nSpooky activities will include:\n\n 	Fall market located outside the store\n 	Photos with costume characters\n\n 	10:00am – 1:00pm Marvel’s Spider-man and Captain Marvel\n 	1:00 – 3:00pm Fan Favorite Princesses\n\n\n 	Candy stations and activities throughout the store\n 	Face painting\n 	Kid’s craft kit sponsored by Kitchenaid\n 	plus MORE!\n\nBe sure to stop in for a frighteningly fun time!
URL:https://www.grandscape.com/event/nfms-halloween-spooktacular/
CATEGORIES:Kid Friendly
ATTACH;FMTTYPE=image/png:https://www.grandscape.com/wp-content/uploads/2022/10/MicrosoftTeams-image-8.png
END:VEVENT
END:VCALENDAR