BEGIN:VCALENDAR
VERSION:2.0
PRODID:-//Grandscape - ECPv6.15.16//NONSGML v1.0//EN
CALSCALE:GREGORIAN
METHOD:PUBLISH
X-WR-CALNAME:Grandscape
X-ORIGINAL-URL:https://www.grandscape.com
X-WR-CALDESC:Events for Grandscape
REFRESH-INTERVAL;VALUE=DURATION:PT1H
X-Robots-Tag:noindex
X-PUBLISHED-TTL:PT1H
BEGIN:VTIMEZONE
TZID:UTC
BEGIN:STANDARD
TZOFFSETFROM:+0000
TZOFFSETTO:+0000
TZNAME:UTC
DTSTART:20200101T000000
END:STANDARD
END:VTIMEZONE
BEGIN:VEVENT
DTSTART;TZID=UTC:20210404T130000
DTEND;TZID=UTC:20210404T150000
DTSTAMP:20260423T000640
CREATED:20210313T063355Z
LAST-MODIFIED:20210313T063355Z
UID:3822-1617541200-1617548400@www.grandscape.com
SUMMARY:Live Jazz on The Stage at Grandscape
DESCRIPTION:Join us on Sunday\, April 4th at 1pm as we conclude our Grand Opening Weekend with Live Jazz on the Stage.\n\n\nCome out and enjoy our vast lawn by bringing blankets or chairs and soaking up the sun.\n\n\nWe hope to see you there!
URL:https://www.grandscape.com/event/live-jazz-on-the-stage-at-grandscape/
LOCATION:The Stage at Grandscape
ATTACH;FMTTYPE=image/jpeg:https://www.grandscape.com/wp-content/uploads/2021/03/Live-Jazz-April.jpg
END:VEVENT
BEGIN:VEVENT
DTSTART;TZID=UTC:20210403T190000
DTEND;TZID=UTC:20210403T210000
DTSTAMP:20260423T000640
CREATED:20210313T063838Z
LAST-MODIFIED:20210313T063838Z
UID:3827-1617476400-1617483600@www.grandscape.com
SUMMARY:Live on The Stage at Grandscape: Live 90
DESCRIPTION:Join us for our Grand Opening Weekend as Live 90 take over the Stage on Saturday\, April 3rd at 7pm!\n\n\nThis show is FREE to the public\, but VIP seating directly in front of the stage is available for purchase with a minimum purchase of 4 seats required! This ensures that individuals seated at the same table are of the same party.\n\n\nTables will be spaced 6-feet apart to allow for social distancing\, or you can enjoy the show from our vast lawn by bringing blankets or chairs.\n\n\nWe hope to see you there!
URL:https://www.grandscape.com/event/live-on-the-stage-at-grandscape-live-90-3/
LOCATION:The Stage at Grandscape
ATTACH;FMTTYPE=image/jpeg:https://www.grandscape.com/wp-content/uploads/2021/03/Live-90.jpg
END:VEVENT
BEGIN:VEVENT
DTSTART;TZID=UTC:20210403T120000
DTEND;TZID=UTC:20210403T220000
DTSTAMP:20260423T000640
CREATED:20210313T065545Z
LAST-MODIFIED:20210313T065617Z
UID:3856-1617451200-1617487200@www.grandscape.com
SUMMARY:Grand Opening Live Performers
DESCRIPTION:Join us for our Grand Opening Weekend as we have live entertainers throughout the Lifestyle Center. Performers will include acoustic musicians\, juggling acts\, dance groups\, roaming magicians and more!\n\nPerformances will vary by day and time.\n\nWe hope to see you there!
URL:https://www.grandscape.com/event/grand-opening-live-performers-3/
LOCATION:The Stage at Grandscape
ATTACH;FMTTYPE=image/jpeg:https://www.grandscape.com/wp-content/uploads/2021/03/Grand-Opening-Live-Performers.jpg
END:VEVENT
BEGIN:VEVENT
DTSTART;TZID=UTC:20210403T120000
DTEND;TZID=UTC:20210403T160000
DTSTAMP:20260423T000640
CREATED:20210313T064225Z
LAST-MODIFIED:20210313T064225Z
UID:3831-1617451200-1617465600@www.grandscape.com
SUMMARY:Spring Fling Eggstravaganza
DESCRIPTION:Come out and join us for a hoppin’ good time as we celebrate our Grand Opening Weekend with our Spring Fling Eggstravaganza event on Saturday\, April 3rd from 12pm-4pm.\n\n\nThe event will include a hop along egg hunt throughout the Lifestyle Center\, where guests will visit various locations to collect their eggs.\n\n\nOther activities include:\nA Petting Zoo\nLive DJ on the Stage\nBalloon Artist\nAirbrush Glitter Tattoos\nCaricature Artist\nBunny Ears Headband Craft\n\nAnd of course\, an appearance by the Easter Bunny who will roam around the event to visit with guests!\n\n\nThis is a FREE event that is open to all ages. We hope to see you there!\n\n\nAlso\, don’t forget to bring a basket to collect your eggs!
URL:https://www.grandscape.com/event/spring-fling-eggstravaganza/
LOCATION:The Stage at Grandscape
ATTACH;FMTTYPE=image/jpeg:https://www.grandscape.com/wp-content/uploads/2021/03/Spring-Fling-Extravaganza.jpg
END:VEVENT
BEGIN:VEVENT
DTSTART;TZID=UTC:20210402T190000
DTEND;TZID=UTC:20210402T210000
DTSTAMP:20260423T000640
CREATED:20210313T064435Z
LAST-MODIFIED:20210313T064435Z
UID:3835-1617390000-1617397200@www.grandscape.com
SUMMARY:Live on The Stage at Grandscape: Windbreakers
DESCRIPTION:Join us for our Grand Opening Weekend as Windbreakers take over the Stage on Friday\, April 2nd at 7pm!\n\n\nThis show is FREE to the public\, but VIP seating directly in front of the stage is available for purchase with a minimum purchase of 4 seats required! This ensures that individuals seated at the same table are of the same party.\n\n\nTables will be spaced 6-feet apart to allow for social distancing\, or you can enjoy the show from our vast lawn by bringing blankets or chairs.\n\n\nWe hope to see you there!
URL:https://www.grandscape.com/event/live-on-the-stage-at-grandscape-windbreakers/
LOCATION:The Stage at Grandscape
ATTACH;FMTTYPE=image/jpeg:https://www.grandscape.com/wp-content/uploads/2021/03/windbreakers.jpg
END:VEVENT
BEGIN:VEVENT
DTSTART;TZID=UTC:20210402T160000
DTEND;TZID=UTC:20210402T210000
DTSTAMP:20260423T000640
CREATED:20210313T065840Z
LAST-MODIFIED:20210313T065840Z
UID:3857-1617379200-1617397200@www.grandscape.com
SUMMARY:Grand Opening Live Performers
DESCRIPTION:Join us for our Grand Opening Weekend as we have live entertainers throughout the Lifestyle Center. Performers will include acoustic musicians\, juggling acts\, dance groups\, roaming magicians and more!\n\nPerformances will vary by day and time.\n\nWe hope to see you there!
URL:https://www.grandscape.com/event/grand-opening-live-performers-2/
LOCATION:The Stage at Grandscape
ATTACH;FMTTYPE=image/jpeg:https://www.grandscape.com/wp-content/uploads/2021/03/Grand-Opening-Live-Performers.jpg
END:VEVENT
BEGIN:VEVENT
DTSTART;TZID=UTC:20210402T120000
DTEND;TZID=UTC:20210402T170000
DTSTAMP:20260423T000640
CREATED:20210313T064922Z
LAST-MODIFIED:20210313T064922Z
UID:3843-1617364800-1617382800@www.grandscape.com
SUMMARY:Live Music on The Stage at Grandscape
DESCRIPTION:Come out to the Stage at Grandscape on Friday\, April 2nd to enjoy Live Music as part of our Grand Opening Weekend. We’ll have live acoustic acts performing on the Stage from 12pm-5pm as well as giant lawn games set up for you to enjoy.\n\n\nCome out and enjoy the day from our vast lawn by bringing blankets or chairs to soak up the fresh air.\n\n\nWe hope to see you there!
URL:https://www.grandscape.com/event/live-music-on-the-stage-at-grandscape/
LOCATION:The Stage at Grandscape
ATTACH;FMTTYPE=image/jpeg:https://www.grandscape.com/wp-content/uploads/2021/03/live-music-and-games-day.jpg
END:VEVENT
BEGIN:VEVENT
DTSTART;TZID=UTC:20210401T190000
DTEND;TZID=UTC:20210401T210000
DTSTAMP:20260423T000640
CREATED:20210313T064708Z
LAST-MODIFIED:20210313T064708Z
UID:3840-1617303600-1617310800@www.grandscape.com
SUMMARY:Live on The Stage at Grandscape: Jason Elmore & Hoodoo Witch
DESCRIPTION:Join us for our Grand Opening Weekend as we kickoff the celebrations with Jason Elmore and Hoodoo Witch taking over the Stage on Thursday\, April 1st at 7pm!\n\nThis show is FREE to the public\, but VIP seating directly in front of the stage is available for purchase with a minimum purchase of 4 seats required! This ensures that individuals seated at the same table are of the same party.\n\nTables will be spaced 6-feet apart to allow for social distancing\, or you can enjoy the show from our vast lawn by bringing blankets or chairs.\n\nWe hope to see you there!
URL:https://www.grandscape.com/event/live-on-the-stage-at-grandscape-jason-elmore-hoodoo-witch/
LOCATION:The Stage at Grandscape
ATTACH;FMTTYPE=image/jpeg:https://www.grandscape.com/wp-content/uploads/2021/03/jason-elmore-april-1st.jpg
END:VEVENT
BEGIN:VEVENT
DTSTART;TZID=UTC:20210401T160000
DTEND;TZID=UTC:20210401T210000
DTSTAMP:20260423T000640
CREATED:20210313T065154Z
LAST-MODIFIED:20210313T065849Z
UID:3848-1617292800-1617310800@www.grandscape.com
SUMMARY:Grand Opening Live Performers
DESCRIPTION:Join us for our Grand Opening Weekend as we have live entertainers throughout the Lifestyle Center. Performers will include acoustic musicians\, juggling acts\, dance groups\, roaming magicians and more!\n\nPerformances will vary by day and time.\n\nWe hope to see you there!
URL:https://www.grandscape.com/event/grand-opening-live-performers/
LOCATION:The Homestead
ATTACH;FMTTYPE=image/jpeg:https://www.grandscape.com/wp-content/uploads/2021/03/Grand-Opening-Live-Performers.jpg
END:VEVENT
BEGIN:VEVENT
DTSTART;TZID=UTC:20210327T203000
DTEND;TZID=UTC:20210327T220000
DTSTAMP:20260423T000640
CREATED:20210226T073801Z
LAST-MODIFIED:20210325T001456Z
UID:3650-1616877000-1616882400@www.grandscape.com
SUMMARY:Live on The Stage at Grandscape: Monte Montgomery
DESCRIPTION:Monte Montgomery takes over The Stage at Grandscape on Saturday\, March 27th at 8:30pm!\n\n\nThis show is free to the public\, but VIP seating directly in front of the stage is available for purchase with a minimum purchase of 4 seats required! This ensures that individuals seated at the same table are of the same party.\n\nTables will be spaced 6 feet apart to allow for social distancing\, or you can enjoy the show from our vast lawn by bringing a blanket or lawn chairs!
URL:https://www.grandscape.com/event/live-on-the-stage-at-grandscape-monte-montgomery/
LOCATION:The Stage at Grandscape
ATTACH;FMTTYPE=image/jpeg:https://www.grandscape.com/wp-content/uploads/2021/02/Monte-Montgomery.jpg
END:VEVENT
BEGIN:VEVENT
DTSTART;TZID=UTC:20210327T180000
DTEND;TZID=UTC:20210327T194500
DTSTAMP:20260423T000640
CREATED:20210303T233323Z
LAST-MODIFIED:20210324T235532Z
UID:3714-1616868000-1616874300@www.grandscape.com
SUMMARY:Live on The Stage at Grandscape: Lost Shaker of Salt
DESCRIPTION:Lost Shaker of Salt takes over The Stage at Grandscape on Saturday\, March 27th at 7:00pm!\n\n\nThis show is free to the public\, but VIP seating directly in front of the stage is available for purchase with a minimum purchase of 4 seats required! This ensures that individuals seated at the same table are of the same party.\n\nTables will be spaced 6 feet apart to allow for social distancing\, or you can enjoy the show from our vast lawn by bringing a blanket or lawn chairs!
URL:https://www.grandscape.com/event/live-on-the-stage-at-grandscape-lost-shaker-of-salt/
LOCATION:The Stage at Grandscape
ATTACH;FMTTYPE=image/jpeg:https://www.grandscape.com/wp-content/uploads/2021/03/lost-shaker-of-salt-march-27th.jpg
END:VEVENT
BEGIN:VEVENT
DTSTART;TZID=UTC:20210326T190000
DTEND;TZID=UTC:20210326T220000
DTSTAMP:20260423T000640
CREATED:20210303T233128Z
LAST-MODIFIED:20210303T233128Z
UID:3710-1616785200-1616796000@www.grandscape.com
SUMMARY:Live on The Stage at Grandscape: Party Machine
DESCRIPTION:Party Machine takes over The Stage at Grandscape on Friday\, March 26th at 7:00pm!\ns\nThis show is free to the public\, but VIP seating directly in front of the stage is available for purchase with a minimum purchase of 4 seats required! This ensures that individuals seated at the same table are of the same party.\n\nTables will be spaced 6 feet apart to allow for social distancing\, or you can enjoy the show from our vast lawn by bringing a blanket or lawn chairs!
URL:https://www.grandscape.com/event/live-on-the-stage-at-grandscape-party-machine-4/
LOCATION:The Stage at Grandscape
ATTACH;FMTTYPE=image/jpeg:https://www.grandscape.com/wp-content/uploads/2021/03/party-machine-march-26th.jpg
END:VEVENT
BEGIN:VEVENT
DTSTART;TZID=UTC:20210325T190000
DTEND;TZID=UTC:20210325T220000
DTSTAMP:20260423T000640
CREATED:20210303T232905Z
LAST-MODIFIED:20210303T232922Z
UID:3706-1616698800-1616709600@www.grandscape.com
SUMMARY:Live on The Stage at Grandscape: Limelight
DESCRIPTION:Limelight takes over The Stage at Grandscape on Thursday\, March 25th at 7:00pm!\n\n\nThis show is free to the public\, but VIP seating directly in front of the stage is available for purchase with a minimum purchase of 4 seats required! This ensures that individuals seated at the same table are of the same party.\n\nTables will be spaced 6 feet apart to allow for social distancing\, or you can enjoy the show from our vast lawn by bringing a blanket or lawn chairs!
URL:https://www.grandscape.com/event/live-on-the-stage-at-grandscape-limelight-2/
LOCATION:The Stage at Grandscape
ATTACH;FMTTYPE=image/jpeg:https://www.grandscape.com/wp-content/uploads/2021/03/limelight-march-25th.jpg
END:VEVENT
BEGIN:VEVENT
DTSTART;TZID=UTC:20210320T190000
DTEND;TZID=UTC:20210320T210000
DTSTAMP:20260423T000640
CREATED:20210303T232700Z
LAST-MODIFIED:20210312T041446Z
UID:3700-1616266800-1616274000@www.grandscape.com
SUMMARY:Live on The Stage at Grandscape: The Molly Ringwalds
DESCRIPTION:The Molly Ringwalds take over The Stage at Grandscape on Saturday\, March 20th at 7:00pm!\n\n\nThis show is free to the public\, but VIP seating directly in front of the stage is available for purchase with a minimum purchase of 4 seats required! This ensures that individuals seated at the same table are of the same party.\n\nTables will be spaced 6 feet apart to allow for social distancing\, or you can enjoy the show from our vast lawn by bringing a blanket or lawn chairs!
URL:https://www.grandscape.com/event/live-on-the-stage-at-grandscape-the-molly-ringwalds/
LOCATION:The Stage at Grandscape
ATTACH;FMTTYPE=image/jpeg:https://www.grandscape.com/wp-content/uploads/2021/03/molly-ringwalds.jpg
END:VEVENT
BEGIN:VEVENT
DTSTART;TZID=UTC:20210319T190000
DTEND;TZID=UTC:20210319T220000
DTSTAMP:20260423T000640
CREATED:20210303T232429Z
LAST-MODIFIED:20210303T232429Z
UID:3696-1616180400-1616191200@www.grandscape.com
SUMMARY:Live on The Stage at Grandscape: Raised Right Men
DESCRIPTION:Raised Right Men takes over The Stage at Grandscape on Friday\, March 19th at 7:00pm!\n\n\nThis show is free to the public\, but VIP seating directly in front of the stage is available for purchase with a minimum purchase of 4 seats required! This ensures that individuals seated at the same table are of the same party.\n\nTables will be spaced 6 feet apart to allow for social distancing\, or you can enjoy the show from our vast lawn by bringing a blanket or lawn chairs!
URL:https://www.grandscape.com/event/live-on-the-stage-at-grandscape-raised-right-men-2/
LOCATION:The Stage at Grandscape
ATTACH;FMTTYPE=image/jpeg:https://www.grandscape.com/wp-content/uploads/2021/03/Raised-right-men-march-19th.jpg
END:VEVENT
BEGIN:VEVENT
DTSTART;TZID=UTC:20210319T110000
DTEND;TZID=UTC:20210319T123000
DTSTAMP:20260423T000640
CREATED:20210226T073523Z
LAST-MODIFIED:20210226T073523Z
UID:3647-1616151600-1616157000@www.grandscape.com
SUMMARY:Creative Kids Workshop - Jellyfish Craft
DESCRIPTION:Come out to The Fountain Courtyard at Grandscape to participate in a FREE kids craft on Friday\, March 19th at 11am! Supplies will be provided for guests to decorate a craft on property or we have prepackaged options that you can take home. Crafts will be available while supplies last.\n\nAll safety and COVID guidelines will be in place throughout the event.\n\nCraft courtesy of: https://www.simpleeverydaymom.com
URL:https://www.grandscape.com/event/creative-kids-workshop-jellyfish-craft/
ATTACH;FMTTYPE=image/jpeg:https://www.grandscape.com/wp-content/uploads/2021/02/Jellyfish-craft-creative-kids-workshop.jpg
END:VEVENT
BEGIN:VEVENT
DTSTART;TZID=UTC:20210318T190000
DTEND;TZID=UTC:20210318T220000
DTSTAMP:20260423T000640
CREATED:20210303T231810Z
LAST-MODIFIED:20210303T231858Z
UID:3692-1616094000-1616104800@www.grandscape.com
SUMMARY:Live on The Stage at Grandscape: Emerald City Band
DESCRIPTION:Emerald City Band takes over The Stage at Grandscape on Thursday\, March 18th at 7:00pm!\n\n\nThis show is free to the public\, but VIP seating directly in front of the stage is available for purchase with a minimum purchase of 4 seats required! This ensures that individuals seated at the same table are of the same party.\n\nTables will be spaced 6 feet apart to allow for social distancing\, or you can enjoy the show from our vast lawn by bringing a blanket or lawn chairs!
URL:https://www.grandscape.com/event/live-on-the-stage-at-grandscape-emerald-city-band-2/
LOCATION:The Stage at Grandscape
ATTACH;FMTTYPE=image/jpeg:https://www.grandscape.com/wp-content/uploads/2021/03/emerald-city-band-march.jpg
END:VEVENT
BEGIN:VEVENT
DTSTART;TZID=UTC:20210317T190000
DTEND;TZID=UTC:20210317T203000
DTSTAMP:20260423T000640
CREATED:20210305T043844Z
LAST-MODIFIED:20210305T043844Z
UID:3763-1616007600-1616013000@www.grandscape.com
SUMMARY:Grandscape Red Dirt Concert Series: Mike Ryan
DESCRIPTION:Come out to the Stage at Grandscape to enjoy our Red Dirt Concert Series! We’re having some of the very best Red Dirt bands perform on our stage as part of our spring break concert programming.\n\n\nThis show is free to the public\, but VIP seating available directly in front of the stage is available for purchase with a minimum purchase of 4 seats required! This ensures that individuals seated at the same table are of the same party.\n\n\nEach ticket covers VIP entry for BOTH the 5:00pm and 7:00pm shows!\n\n\nTables will be spaced 6 feet apart to allow for social distancing\, or you can enjoy the show from our vast lawn by bringing a blanket or lawn chairs!
URL:https://www.grandscape.com/event/grandscape-red-dirt-concert-series-mike-ryan/
LOCATION:The Stage at Grandscape
ATTACH;FMTTYPE=image/jpeg:https://www.grandscape.com/wp-content/uploads/2021/03/mike-ryan-red-dirt.jpg
END:VEVENT
BEGIN:VEVENT
DTSTART;TZID=UTC:20210317T170000
DTEND;TZID=UTC:20210317T183000
DTSTAMP:20260423T000640
CREATED:20210305T043638Z
LAST-MODIFIED:20210305T043638Z
UID:3756-1616000400-1616005800@www.grandscape.com
SUMMARY:Grandscape Red Dirt Concert Series: Johnny Cooper
DESCRIPTION:Come out to the Stage at Grandscape to enjoy our Red Dirt Concert Series! We’re having some of the very best Red Dirt bands perform on our stage as part of our spring break concert programming.\n\nJohnny Cooper will be taking the stage Wednesday\, March 17th at 5:00pm!
URL:https://www.grandscape.com/event/grandscape-red-dirt-concert-series-johnny-cooper/
LOCATION:The Stage at Grandscape
ATTACH;FMTTYPE=image/jpeg:https://www.grandscape.com/wp-content/uploads/2021/03/johnny-cooper-red-dirt.jpg
END:VEVENT
BEGIN:VEVENT
DTSTART;TZID=UTC:20210317T150000
DTEND;TZID=UTC:20210317T163000
DTSTAMP:20260423T000640
CREATED:20210305T043442Z
LAST-MODIFIED:20210305T043442Z
UID:3752-1615993200-1615998600@www.grandscape.com
SUMMARY:Grandscape Red Dirt Concert Series: Shawn Fussell
DESCRIPTION:Come out to the Stage at Grandscape to enjoy our Red Dirt Concert Series! We’re having some of the very best Red Dirt bands perform on our stage as part of our spring break concert programming!\n\n\nShawn Fussell will be taking the stage Wednesday\, March 17th at 3:00pm!
URL:https://www.grandscape.com/event/grandscape-red-dirt-concert-series-shawn-fussell/
LOCATION:The Stage at Grandscape
ATTACH;FMTTYPE=image/jpeg:https://www.grandscape.com/wp-content/uploads/2021/03/shawn-fussel-red-dirt.jpg
END:VEVENT
BEGIN:VEVENT
DTSTART;TZID=UTC:20210317T110000
DTEND;TZID=UTC:20210317T140000
DTSTAMP:20260423T000640
CREATED:20210226T042542Z
LAST-MODIFIED:20210226T042805Z
UID:3624-1615978800-1615989600@www.grandscape.com
SUMMARY:St. Patrick's Day: Four Leaf Clover Hunt
DESCRIPTION:Join us at Grandscape on Wednesday\, March 17th to participate in our St. Patrick’s Day: Four Leaf Clover Hunt! Four leaf clovers will be scattered throughout the Lifestyle Center for you and your kiddos to go and find. After you find all the clovers you will then turn in your stops and receive a St. Patrick’s Day themed goodie bag with prizes.\n\nCheck-in and instructions will be located in the Stylon Courtyard\, next to P.F. Chang’s and Galaxy Theatres.
URL:https://www.grandscape.com/event/st-patricks-day-four-leaf-clover-hunt/
LOCATION:The Stylon at Grandscape
ATTACH;FMTTYPE=image/jpeg:https://www.grandscape.com/wp-content/uploads/2021/02/Four-leaf-clover-hunt.jpg
END:VEVENT
BEGIN:VEVENT
DTSTART;TZID=UTC:20210316T190000
DTEND;TZID=UTC:20210316T203000
DTSTAMP:20260423T000640
CREATED:20210305T043302Z
LAST-MODIFIED:20210305T044028Z
UID:3749-1615921200-1615926600@www.grandscape.com
SUMMARY:Grandscape Red Dirt Concert Series: Cody Canada
DESCRIPTION:Come out to the Stage at Grandscape to enjoy our Red Dirt Concert Series! We’re having some of the very best Red Dirt bands perform on our stage as part of our spring break concert programming.\n\n\n\n\nThis show is free to the public\, but VIP seating available directly in front of the stage is available for purchase with a minimum purchase of 4 seats required! This ensures that individuals seated at the same table are of the same party.\n\n\n\n\nEach ticket covers VIP entry for BOTH the 5:00pm and 7:00pm shows!\n\n\nTables will be spaced 6 feet apart to allow for social distancing\, or you can enjoy the show from our vast lawn by bringing a blanket or lawn chairs!
URL:https://www.grandscape.com/event/grandscape-red-dirt-concert-series-cody-canada/
LOCATION:The Stage at Grandscape
ATTACH;FMTTYPE=image/jpeg:https://www.grandscape.com/wp-content/uploads/2021/03/cody-canada-red-dirt.jpg
END:VEVENT
BEGIN:VEVENT
DTSTART;TZID=UTC:20210316T170000
DTEND;TZID=UTC:20210316T183000
DTSTAMP:20260423T000640
CREATED:20210305T043101Z
LAST-MODIFIED:20210305T043101Z
UID:3744-1615914000-1615919400@www.grandscape.com
SUMMARY:Grandscape Red Dirt Concert Series: Justin Tipton
DESCRIPTION:Come out to the Stage at Grandscape to enjoy our Red Dirt Concert Series! We’re having some of the very best Red Dirt bands perform on our stage as part of our spring break concert programming.\n\nJustin Tipton will be taking the stage Tuesday\, March 16th at 5:00pm!
URL:https://www.grandscape.com/event/grandscape-red-dirt-concert-series-justin-tipton/
LOCATION:The Stage at Grandscape
ATTACH;FMTTYPE=image/jpeg:https://www.grandscape.com/wp-content/uploads/2021/03/justin-tipton-red-dirt.jpg
END:VEVENT
BEGIN:VEVENT
DTSTART;TZID=UTC:20210316T150000
DTEND;TZID=UTC:20210316T163000
DTSTAMP:20260423T000640
CREATED:20210305T042856Z
LAST-MODIFIED:20210305T042856Z
UID:3740-1615906800-1615912200@www.grandscape.com
SUMMARY:Grandscape Red Dirt Concert Series: Raised Right Men
DESCRIPTION:Come out to the Stage at Grandscape to enjoy our Red Dirt Concert Series! We’re having some of the very best Red Dirt bands perform on our stage as part of our spring break concert programming.\n\n\nRaised Right Men will be taking the stage Tuesday\, March 16th at 3:00pm!
URL:https://www.grandscape.com/event/grandscape-red-dirt-concert-series-raised-right-men/
LOCATION:The Stage at Grandscape
ATTACH;FMTTYPE=image/jpeg:https://www.grandscape.com/wp-content/uploads/2021/03/raised-right-men-march.jpg
END:VEVENT
BEGIN:VEVENT
DTSTART;TZID=UTC:20210313T190000
DTEND;TZID=UTC:20210313T220000
DTSTAMP:20260423T000640
CREATED:20210226T075119Z
LAST-MODIFIED:20210310T014203Z
UID:3664-1615662000-1615672800@www.grandscape.com
SUMMARY:Live on The Stage at Grandscape: Legacy 4
DESCRIPTION:Legacy 4 takes over The Stage at Grandscape on Saturday\, March 13th at 7:00pm!\n\n\nThis show is free to the public\, but VIP seating directly in front of the stage is available for purchase with a minimum purchase of 4 seats required! This ensures that individuals seated at the same table are of the same party.\n\nTables will be spaced 6 feet apart to allow for social distancing\, or you can enjoy the show from our vast lawn by bringing a blanket or lawn chairs!
URL:https://www.grandscape.com/event/live-on-the-stage-at-grandscape-legacy-4-3/
LOCATION:The Stage at Grandscape
ATTACH;FMTTYPE=image/jpeg:https://www.grandscape.com/wp-content/uploads/2021/02/legacy-4-march.jpg
END:VEVENT
BEGIN:VEVENT
DTSTART;TZID=UTC:20210313T160000
DTEND;TZID=UTC:20210313T190000
DTSTAMP:20260423T000640
CREATED:20210226T042244Z
LAST-MODIFIED:20210301T215232Z
UID:3615-1615651200-1615662000@www.grandscape.com
SUMMARY:St. Patrick's Day Beer Walk
DESCRIPTION:Stroll through the Lifestyle Center and enjoy live music and drink stops as part of our St. Patrick’s Day Beer Walk on Saturday\, March 13th!\n\nTickets are $20 a person and will include a commemorative beer glass\, 10 drink samples and a map to lead you on your journey.\n\nCheck-in will be located near the Kaleidoscope\, which is located across the street from Walk On’s.\n\nDon’t forget to wear green! 
URL:https://www.grandscape.com/event/st-patricks-day-beer-walk/
LOCATION:The Stage at Grandscape
ATTACH;FMTTYPE=image/jpeg:https://www.grandscape.com/wp-content/uploads/2021/02/Beer-walk.jpg
END:VEVENT
BEGIN:VEVENT
DTSTART;TZID=UTC:20210312T190000
DTEND;TZID=UTC:20210312T210000
DTSTAMP:20260423T000640
CREATED:20210226T073258Z
LAST-MODIFIED:20210312T044952Z
UID:3642-1615575600-1615582800@www.grandscape.com
SUMMARY:Live on The Stage at Grandscape: M80s
DESCRIPTION:M80s takes over The Stage at Grandscape on Friday\, March 12th at 7:00pm!\n\n\nThis show is free to the public\, but VIP seating directly in front of the stage is available for purchase with a minimum purchase of 4 seats required! This ensures that individuals seated at the same table are of the same party.\n\nTables will be spaced 6 feet apart to allow for social distancing\, or you can enjoy the show from our vast lawn by bringing a blanket or lawn chairs!
URL:https://www.grandscape.com/event/live-on-the-stage-at-grandscape-m80s/
LOCATION:The Stage at Grandscape
ATTACH;FMTTYPE=image/jpeg:https://www.grandscape.com/wp-content/uploads/2021/02/M80s.jpg
END:VEVENT
BEGIN:VEVENT
DTSTART;TZID=UTC:20210312T110000
DTEND;TZID=UTC:20210312T123000
DTSTAMP:20260423T000640
CREATED:20210226T073019Z
LAST-MODIFIED:20210226T073019Z
UID:3638-1615546800-1615552200@www.grandscape.com
SUMMARY:Creative Kids Workshop - Water Marbling with Dallas Silk Art
DESCRIPTION:Dallas Silk Art will be leading water marbling classes for you and your kids to participate in. All supplies will be provided for guests to decorate a water marbling creation on property and crafts will be available while supplies last.\n\nWe can’t wait to see you there!
URL:https://www.grandscape.com/event/creative-kids-workshop-water-marbling-with-dallas-silk-art/
LOCATION:The Homestead
ATTACH;FMTTYPE=image/jpeg:https://www.grandscape.com/wp-content/uploads/2021/02/water-marbling-creative-kids-workshop.jpg
END:VEVENT
BEGIN:VEVENT
DTSTART;TZID=UTC:20210311T190000
DTEND;TZID=UTC:20210311T220000
DTSTAMP:20260423T000640
CREATED:20210226T041702Z
LAST-MODIFIED:20210226T072130Z
UID:3612-1615489200-1615500000@www.grandscape.com
SUMMARY:Live on The Stage at Grandscape: Downtown Fever
DESCRIPTION:Downtown Fever takes over The Stage at Grandscape on Thursday\, March 11th at 7:00pm!\n\n\nThis show is free to the public\, but VIP seating directly in front of the stage is available for purchase with a minimum purchase of 4 seats required! This ensures that individuals seated at the same table are of the same party.\n\nTables will be spaced 6 feet apart to allow for social distancing\, or you can enjoy the show from our vast lawn by bringing a blanket or lawn chairs!
URL:https://www.grandscape.com/event/live-on-the-stage-at-grandscape-downtown-fever-3/
LOCATION:The Stage at Grandscape
ATTACH;FMTTYPE=image/jpeg:https://www.grandscape.com/wp-content/uploads/2021/02/downtown-fever.jpg
END:VEVENT
BEGIN:VEVENT
DTSTART;TZID=UTC:20210311T110000
DTEND;TZID=UTC:20210311T120000
DTSTAMP:20260423T000640
CREATED:20210226T074253Z
LAST-MODIFIED:20210226T074253Z
UID:3655-1615460400-1615464000@www.grandscape.com
SUMMARY:Spring Break Storytime with The Colony Public Library
DESCRIPTION:Come out and join The Colony Public Library in the Terrace at Grandscape for our Spring Break Storytime on Thursday\, March 11th and Thursday\, March 18th from 11am-12pm. The events include readings of some of your favorite kids’ stories as well as sing-alongs and a pickup craft to take home. With plenty of space we are happy to provide a safe environment for you and your kids to have some fun outdoors during spring break.\n\nStories will be told at 11am and 11:30am each date.\n\nThe Terrace is located next to Parry’s Pizza and across from the Stage and the Lawn.
URL:https://www.grandscape.com/event/spring-break-storytime-with-the-colony-public-library/2021-03-11/
LOCATION:The Stage at Grandscape
ATTACH;FMTTYPE=image/jpeg:https://www.grandscape.com/wp-content/uploads/2021/02/story-time.jpg
END:VEVENT
END:VCALENDAR