BEGIN:VCALENDAR
VERSION:2.0
PRODID:-//Grandscape - ECPv6.15.16//NONSGML v1.0//EN
CALSCALE:GREGORIAN
METHOD:PUBLISH
X-ORIGINAL-URL:https://www.grandscape.com
X-WR-CALDESC:Events for Grandscape
REFRESH-INTERVAL;VALUE=DURATION:PT1H
X-Robots-Tag:noindex
X-PUBLISHED-TTL:PT1H
BEGIN:VTIMEZONE
TZID:America/Chicago
BEGIN:DAYLIGHT
TZOFFSETFROM:-0600
TZOFFSETTO:-0500
TZNAME:CDT
DTSTART:20230312T080000
END:DAYLIGHT
BEGIN:STANDARD
TZOFFSETFROM:-0500
TZOFFSETTO:-0600
TZNAME:CST
DTSTART:20231105T070000
END:STANDARD
BEGIN:DAYLIGHT
TZOFFSETFROM:-0600
TZOFFSETTO:-0500
TZNAME:CDT
DTSTART:20240310T080000
END:DAYLIGHT
BEGIN:STANDARD
TZOFFSETFROM:-0500
TZOFFSETTO:-0600
TZNAME:CST
DTSTART:20241103T070000
END:STANDARD
BEGIN:DAYLIGHT
TZOFFSETFROM:-0600
TZOFFSETTO:-0500
TZNAME:CDT
DTSTART:20250309T080000
END:DAYLIGHT
BEGIN:STANDARD
TZOFFSETFROM:-0500
TZOFFSETTO:-0600
TZNAME:CST
DTSTART:20251102T070000
END:STANDARD
END:VTIMEZONE
BEGIN:VEVENT
DTSTART;TZID=America/Chicago:20240405T190000
DTEND;TZID=America/Chicago:20240405T210000
DTSTAMP:20260421T062740
CREATED:20240326T141906Z
LAST-MODIFIED:20240326T141906Z
UID:11413-1712343600-1712350800@www.grandscape.com
SUMMARY:Emerald City
DESCRIPTION:Emerald City\, an entertainment cover band\, takes over the Topo Chico Hard Seltzer Stage & Lawn on Friday\, April 5 from 7:00-9:00pm! Get ready to sing and dance the night away under the stars with the amazing tunes of Emerald City!\nThis show is FREE to the public! Bring a lawn chair or blanket\, grab a beverage from The Colony Wine Bar\, and enjoy the show!\nNo outside alcohol or coolers are allowed. Please visit event faq for more information.\nGrandscape is a large outdoor shopping center with plenty of food and dining. Please feel free to shop around The Homestead and grab a bite to eat at one of our many restaurants before or after the concert!\nLooking for parking? Concert guests can utilize our free parking garage. 
URL:https://www.grandscape.com/event/emerald-city-2/2024-04-05/
LOCATION:Stage & Lawn\, 5752 Grandscape Blvd.\, The Colony\, TX\, 75056\, United States
CATEGORIES:Concert
ATTACH;FMTTYPE=image/jpeg:https://www.grandscape.com/wp-content/uploads/2022/10/Emerald-City.jpg
END:VEVENT
BEGIN:VEVENT
DTSTART;TZID=America/Chicago:20240406T120000
DTEND;TZID=America/Chicago:20240406T190000
DTSTAMP:20260421T062740
CREATED:20240403T185149Z
LAST-MODIFIED:20240403T185149Z
UID:11506-1712404800-1712430000@www.grandscape.com
SUMMARY:The Melting Pot Market: Spring Fest
DESCRIPTION:Join us for an experience that celebrates our vibrant community and cultural diversity at The Melting Pot Market on April 6th\, 2024\, from 12PM to 7PM\, hosted at Grandscape.\nWith an impressive roster of over 60+ vendors\, this market is the perfect place for everyone to come together and have fun. The event is entirely dog-friendly\, so your furry friend can join in on the fun too!\nFeaturing an array of diverse vendors\, the market is designed to cater to your every need. From handmade crafts\, from creative art to unique clothing\, vendors at The Melting Pot Market have everything you need\, and much more.
URL:https://www.grandscape.com/event/the-melting-pot-market-spring-fest/2024-04-06/
LOCATION:Stage & Lawn\, 5752 Grandscape Blvd.\, The Colony\, TX\, 75056\, United States
CATEGORIES:Vendor Market
ATTACH;FMTTYPE=image/png:https://www.grandscape.com/wp-content/uploads/2024/04/Melting-Pot-Spring-Fest.png
END:VEVENT
BEGIN:VEVENT
DTSTART;TZID=America/Chicago:20240408T120000
DTEND;TZID=America/Chicago:20240408T140000
DTSTAMP:20260421T062740
CREATED:20240311T195017Z
LAST-MODIFIED:20240311T195436Z
UID:11343-1712577600-1712584800@www.grandscape.com
SUMMARY:Solar Eclipse Watch Party
DESCRIPTION:A solar eclipse will be making its way to Dallas/Fort Worth on Monday\, April 8th. Dallas will be one of the prime location situated in the path of totality. Get ready for an opportunity to see day become night.\nPurchase Autism Speaks branded ISO certified solar eclipse glasses at the event\, and take part in this breathtaking once-in-a-lifetime experience.\nJoin Autism Speaks and New Country 96.3 for a FREE watch party and enjoy this magical moment with friends and family.  \nSchedule:  \n\n	12:00pm— Watch Party opens\n	12:23pm — Eclipse begins\n	1:40pm — Totality starts\n	1:44pm — Totality ends\n	2:00pm— Watch party closes\n\n 
URL:https://www.grandscape.com/event/solar-eclipse-watch-party/2024-04-08/
LOCATION:Stage & Lawn\, 5752 Grandscape Blvd.\, The Colony\, TX\, 75056\, United States
CATEGORIES:Watch Parties
ATTACH;FMTTYPE=image/png:https://www.grandscape.com/wp-content/uploads/2024/03/Eclipse-Grandscape-1.png
END:VEVENT
BEGIN:VEVENT
DTSTART;TZID=America/Chicago:20240410T183000
DTEND;TZID=America/Chicago:20240410T193000
DTSTAMP:20260421T062740
CREATED:20240308T205806Z
LAST-MODIFIED:20240410T193135Z
UID:11339-1712773800-1712777400@www.grandscape.com
SUMMARY:Sunset Fitness: Sunset Zumba
DESCRIPTION:CANCELLED DUE TO INCLEMENT WEATHER\nTime to move your feet to the sound of the beat!\n\nJoin us at Grandscape on Wednesday\, April 10 from 6:30-7:30pm to the dance the night away as we continue our spring Sunset Fitness series with Sunset Zumba led by Tata Brutton.\nTry and keep up as you sweat it out on the lawn. Also\, be sure to bring your own towel and water bottle to stay hydrated throughout your workout.\nEvent Location – Topo Chico Hard Seltzer Stage & Lawn\nLooking for parking?  Use our free parking garage.
URL:https://www.grandscape.com/event/sunset-fitness-sunset-zumba/2024-04-10/
LOCATION:Stage & Lawn\, 5752 Grandscape Blvd.\, The Colony\, TX\, 75056\, United States
CATEGORIES:Health & Fitness
ATTACH;FMTTYPE=image/jpeg:https://www.grandscape.com/wp-content/uploads/2024/03/GS_Sunset-Fitness_Zumba_Web-Event_960x500.jpg
END:VEVENT
BEGIN:VEVENT
DTSTART;TZID=America/Chicago:20240411T190000
DTEND;TZID=America/Chicago:20240411T203000
DTSTAMP:20260421T062740
CREATED:20240401T151230Z
LAST-MODIFIED:20240402T183416Z
UID:11473-1712862000-1712867400@www.grandscape.com
SUMMARY:Vision Board Workshop at Soul Stonz
DESCRIPTION:April’s full moon is around the corner.  It’s called the Pink Moon\, and this is the perfect time to plant seeds\, write down goals & make plans.  Each new lunar cycle gives us an opportunity to start over\, evaluate\, and plan for what is next. \nWhat do you want to manifest?  More love\, success\, adventure?  The new moon is the time to declare those intentions and work towards making them a reality. \nGet prepared for the New Moon happening Wednesday\, September 14th at 8:40pm\nThe workshop will include:\n\n	Clarity Worksheet/Exercises.\n	Materials to create a Vision Board. \n	A special crystal to match your intentions.\n\nThis is a creative workshop\, come prepared to cut\, glue\, draw & write.  \nDoors open at 6:45pm\, workshop begins promptly at 7pm\, ends at 8:30pm.  Space is limited & seats must be purchased ahead of time to prepare supplies.  Shop will be closed to the public during the event.\nAll Sales are Final.\nAll guests receive 15% off any purchases that evening.
URL:https://www.grandscape.com/event/vision-board-workshop-at-soul-stonz/2024-04-11/
LOCATION:Soul Stonz
CATEGORIES:Workshop
ATTACH;FMTTYPE=image/png:https://www.grandscape.com/wp-content/uploads/2024/04/Vison-Board-Workshop.png
END:VEVENT
BEGIN:VEVENT
DTSTART;TZID=America/Chicago:20240411T190000
DTEND;TZID=America/Chicago:20240411T210000
DTSTAMP:20260421T062740
CREATED:20240326T140922Z
LAST-MODIFIED:20240326T141141Z
UID:11410-1712862000-1712869200@www.grandscape.com
SUMMARY:Country Close Up: Warren Zeiders
DESCRIPTION:Join New Country 96.3 and 99.5 The Wolf at Grandscape on Thursday\, April 11 for a FREE Country Close Up concert featuring Warren Zeiders with Chase Matthew! \nWant to sit in our VIP Section – text PRETTY to 888-787-1963 or 888-787-1995 for your chance to be upgraded!\nOmni Las Colinas is the official hotel of Country Close Up 2024!\nThis Country Close Up is Presented By Choctaw Casino & Resort Durant! Where The Players Play!\nThis show is FREE to the public! Bring a lawn chair or blanket\, grab a beverage from The Colony Wine Bar\, and enjoy the show!\nNo outside alcohol or coolers are allowed. Please visit event faq for more information.\nGrandscape is a large outdoor shopping center with plenty of food and dining. Please feel free to shop around The Homestead and grab a bite to eat at one of our many restaurants before or after the concert!\nLooking for parking? Concert guests can utilize our free parking garage. 
URL:https://www.grandscape.com/event/country-close-up-warren-zeiders/2024-04-11/
LOCATION:Stage & Lawn\, 5752 Grandscape Blvd.\, The Colony\, TX\, 75056\, United States
CATEGORIES:Concert
ATTACH;FMTTYPE=image/jpeg:https://www.grandscape.com/wp-content/uploads/2024/03/GS_Country-Close-Up-Warren-Zeiders_Website-960x500-1.jpg
END:VEVENT
BEGIN:VEVENT
DTSTART;TZID=America/Chicago:20240412T190000
DTEND;TZID=America/Chicago:20240412T210000
DTSTAMP:20260421T062740
CREATED:20240319T154619Z
LAST-MODIFIED:20240409T184032Z
UID:11388-1712948400-1712955600@www.grandscape.com
SUMMARY:Raised Right Men
DESCRIPTION:Raised Right Men takes over the Topo Chico Hard Seltzer Stage & Lawn on Friday\, April 12 from 7:00-9:00pm! Get ready to two-step the night away under the stars with the amazing tunes of Raised Right Men!\nThis show is FREE to the public! Bring a lawn chair or blanket\, grab a beverage from The Colony Wine Bar\, and enjoy the show!\nNo outside alcohol or coolers are allowed. Please visit event faq for more information.\nGrandscape is a large outdoor shopping center with plenty of food and dining. Please feel free to shop around The Homestead and grab a bite to eat at one of our many restaurants before or after the concert!\nLooking for parking? Concert guests can utilize our free parking garage. 
URL:https://www.grandscape.com/event/raised-right-men/2024-04-12/
LOCATION:Stage & Lawn\, 5752 Grandscape Blvd.\, The Colony\, TX\, 75056\, United States
CATEGORIES:Concert
ATTACH;FMTTYPE=image/png:https://www.grandscape.com/wp-content/uploads/2024/03/Rasied-Right-Men.png
END:VEVENT
BEGIN:VEVENT
DTSTART;TZID=America/Chicago:20240413T100000
DTEND;TZID=America/Chicago:20240413T200000
DTSTAMP:20260421T062740
CREATED:20240327T171135Z
LAST-MODIFIED:20240329T200010Z
UID:11437-1713002400-1713038400@www.grandscape.com
SUMMARY:Fish & Ski Pop-Up Boat Show
DESCRIPTION:Calling all fishers\, water athletes\, and sun-loving individuals! Get ready for lake days and bronzed skin by surrounding yourself with the core of summer—boats\, of course!\nExplore top brands like Bayliner\, Heyday\, Lund\, Princecraft\, Seaborn\, and Sportsman. Whether you’re a boating newbie or a seasoned enthusiast\, each brand will have an expert on hand to answer your questions or chit chat about all things boats.\nThere are so many vessels to view! From sleek pontoons and versatile tritoons to agile fishing boats\, spacious deck boats\, versatile center consoles\, and stylish runabouts\, you’ll find a diverse range of models on display. Each one is new and offers unique features\, making the experience of exploring them all even more exciting.\nThe boats are the main attraction but the discounts steal the show! You’ll either leave in the summer spirit or owning a slice of the season. Fish and Ski Marine can’t wait to welcome you aboard on Saturday\, April 13th\, and Sunday\, April 14th\, from 10:00 AM to 8:00 PM both days.
URL:https://www.grandscape.com/event/fish-ski-pop-up-boat-show/2024-04-13/
ATTACH;FMTTYPE=image/png:https://www.grandscape.com/wp-content/uploads/2024/03/Final-Graphic.png
END:VEVENT
BEGIN:VEVENT
DTSTART;TZID=America/Chicago:20240413T190000
DTEND;TZID=America/Chicago:20240413T210000
DTSTAMP:20260421T062740
CREATED:20240405T193406Z
LAST-MODIFIED:20240405T193406Z
UID:11513-1713034800-1713042000@www.grandscape.com
SUMMARY:Live on the Stage: 4x4 Country
DESCRIPTION:4×4 Country\, a country cover band\, takes over the Topo Chico Hard Seltzer Stage & Lawn on Saturday\, April 13 from 7:00-9:00pm! Get ready to two-step the night away under the stars with the amazing tunes of 4×4 Country!\nThis show is FREE to the public! Bring a lawn chair or blanket\, grab a beverage from The Colony Wine Bar\, and enjoy the show!\nNo outside alcohol or coolers are allowed. Please visit event faq for more information \nGrandscape is a large outdoor shopping center with plenty of food and dining. Please feel free to shop around The Homestead and grab a bite to eat at one of our many restaurants before or after the concert!\nLooking for parking? Concert guests can utilize our free parking garage
URL:https://www.grandscape.com/event/live-on-the-stage-4x4-country/2024-04-13/
LOCATION:Stage & Lawn\, 5752 Grandscape Blvd.\, The Colony\, TX\, 75056\, United States
CATEGORIES:Concert
ATTACH;FMTTYPE=image/jpeg:https://www.grandscape.com/wp-content/uploads/2024/04/MicrosoftTeams-image-13.jpg
END:VEVENT
BEGIN:VEVENT
DTSTART;TZID=America/Chicago:20240413T220000
DTEND;TZID=America/Chicago:20240413T233000
DTSTAMP:20260421T062740
CREATED:20240329T164111Z
LAST-MODIFIED:20240329T164111Z
UID:11460-1713045600-1713051000@www.grandscape.com
SUMMARY:UFC 300: Pereira vs Hill at World of Beer
DESCRIPTION:Don’t miss out on the action! Join us to watch Alex Pereira defend his UFC light heavyweight title against former champ Jamahal Hill on April 13 in Las Vegas!\nESPN recognizes Pereira as the No. 7 pound-for-pound fighter\, showcasing his exceptional skills in the octagon. With a record of 9-2\, Pereira is not only the former UFC middleweight champion but also holds the distinction of being the quickest to win two divisional titles in UFC history\, achieving this feat in just seven fights.
URL:https://www.grandscape.com/event/ufc-300-pereira-vs-hill-at-world-of-beer/2024-04-13/
CATEGORIES:Food & Drink,Watch Parties
ATTACH;FMTTYPE=image/jpeg:https://www.grandscape.com/wp-content/uploads/2024/03/432768634_345071095200968_2163217641666117510_n.jpg
END:VEVENT
BEGIN:VEVENT
DTSTART;TZID=America/Chicago:20240414T100000
DTEND;TZID=America/Chicago:20240414T200000
DTSTAMP:20260421T062740
CREATED:20240327T171440Z
LAST-MODIFIED:20240329T200049Z
UID:11439-1713088800-1713124800@www.grandscape.com
SUMMARY:Fish & Ski Pop-Up Boat Show
DESCRIPTION:Calling all fishers\, water athletes\, and sun-loving individuals! Get ready for lake days and bronzed skin by surrounding yourself with the core of summer—boats\, of course!\nExplore top brands like Bayliner\, Heyday\, Lund\, Princecraft\, Seaborn\, and Sportsman. Whether you’re a boating newbie or a seasoned enthusiast\, each brand will have an expert on hand to answer your questions or chit chat about all things boats.\nThere are so many vessels to view! From sleek pontoons and versatile tritoons to agile fishing boats\, spacious deck boats\, versatile center consoles\, and stylish runabouts\, you’ll find a diverse range of models on display. Each one is new and offers unique features\, making the experience of exploring them all even more exciting.\nThe boats are the main attraction but the discounts steal the show! You’ll either leave in the summer spirit or owning a slice of the season. Fish and Ski Marine can’t wait to welcome you aboard on Saturday\, April 13th\, and Sunday\, April 14th\, from 10:00 AM to 8:00 PM both days.
URL:https://www.grandscape.com/event/fish-ski-pop-up-boat-show-2/2024-04-14/
ATTACH;FMTTYPE=image/png:https://www.grandscape.com/wp-content/uploads/2024/03/Final-Graphic.png
END:VEVENT
BEGIN:VEVENT
DTSTART;TZID=America/Chicago:20240414T150000
DTEND;TZID=America/Chicago:20240414T180000
DTSTAMP:20260421T062740
CREATED:20240312T172503Z
LAST-MODIFIED:20240312T173520Z
UID:11352-1713106800-1713117600@www.grandscape.com
SUMMARY:Grandscape and The Chocolate Factory
DESCRIPTION:Come with me\, and you’ll be in a world of pure imagination!\n\nJoin us on Sunday\, April 14 from 3:00-6:00pm for Grandscape and The Chocolate Factory! Enjoy the Scrumdiddlyumptious candy vendor market\, seeing some of your favorite characters\, or possibly finding the golden ticket within a Wonka bar! Whether you’re a kid or just a kid at heart\, this candy-filled event is a delightful afternoon you won’t want to miss!\nThis event will also include: \n\n	15+ Candy Vendor Market\n	Willy Wonka Carnival Games\n	Kids’ craft station\n	Photo Opportunity\n	Airbrush Tattoos\n\nThis event is FREE and open to the public. Lines for event activities will be cut once event capacity is reached.\nA Wonka-themed alcoholic beverage menu will be available at The Colony Wine Bar for guests 21 or older. Sip on chocolate\, unique ingredients\, and a dash of nostalgia as you journey into the magical world of Willy Wonka.\nLooking for parking? Use our free parking garage\nGrandscape is a large outdoor shopping center with plenty of food and dining. Please feel free to shop around The Homestead and grab a bite to eat at one of our many restaurants before or after the event!
URL:https://www.grandscape.com/event/grandscape-and-the-chocolate-factory/2024-04-14/
LOCATION:Stage & Lawn\, 5752 Grandscape Blvd.\, The Colony\, TX\, 75056\, United States
CATEGORIES:Kid Friendly
ATTACH;FMTTYPE=image/jpeg:https://www.grandscape.com/wp-content/uploads/2024/03/GS_Chocolate-Factory_Website-Event_960x500.jpg
END:VEVENT
BEGIN:VEVENT
DTSTART;TZID=America/Chicago:20240419T190000
DTEND;TZID=America/Chicago:20240419T210000
DTSTAMP:20260421T062740
CREATED:20240326T171112Z
LAST-MODIFIED:20240326T171112Z
UID:11422-1713553200-1713560400@www.grandscape.com
SUMMARY:80s Mix Tape
DESCRIPTION:80s Mix Tape\, the most amazing 80s concert experience in North Texas\, takes over the Topo Chico Hard Seltzer Stage & Lawn on Friday\, April 19 from 7:00-9:00pm! Get ready for a totally awesome 80s party concert experience with 80s Mix Tape. \nThis show is FREE to the public! Bring a lawn chair or blanket\, grab a beverage from The Colony Wine Bar\, and enjoy the show!\nNo outside alcohol or coolers are allowed. Please visit event faq for more information.\nGrandscape is a large outdoor shopping center with plenty of food and dining. Please feel free to shop around The Homestead and grab a bite to eat at one of our many restaurants before or after the concert!\nLooking for parking? Concert guests can utilize our free parking garage. 
URL:https://www.grandscape.com/event/80s-mix-tape-2/2024-04-19/
LOCATION:Stage & Lawn\, 5752 Grandscape Blvd.\, The Colony\, TX\, 75056\, United States
CATEGORIES:Concert
ATTACH;FMTTYPE=image/png:https://www.grandscape.com/wp-content/uploads/2023/10/80s-Mix-Tape.png
END:VEVENT
BEGIN:VEVENT
DTSTART;TZID=America/Chicago:20240420T190000
DTEND;TZID=America/Chicago:20240420T210000
DTSTAMP:20260421T062740
CREATED:20240415T184923Z
LAST-MODIFIED:20240419T145140Z
UID:11545-1713639600-1713646800@www.grandscape.com
SUMMARY:Live on the Stage: Disco Nights
DESCRIPTION:CANCELLED DUE TO WEATHER\nDisco Nights takes over the Topo Chico Hard Seltzer Stage & Lawn on Saturday\, April 20 from 7:00-9:00pm! Get ready to groove the night away on the dance floor!\nThis show is FREE to the public! Bring a lawn chair or blanket\, grab a beverage from The Colony Wine Bar\, and enjoy the show!\nNo outside alcohol or coolers are allowed. Please visit event faq for more information \nGrandscape is a large outdoor shopping center with plenty of food and dining. Please feel free to shop around The Homestead and grab a bite to eat at one of our many restaurants before or after the concert!\nLooking for parking? Concert guests can utilize our free parking garage
URL:https://www.grandscape.com/event/live-on-the-stage-disco-nights/2024-04-20/
LOCATION:Stage & Lawn\, 5752 Grandscape Blvd.\, The Colony\, TX\, 75056\, United States
CATEGORIES:Concert
ATTACH;FMTTYPE=image/jpeg:https://www.grandscape.com/wp-content/uploads/2024/04/MicrosoftTeams-image-13.jpg
END:VEVENT
BEGIN:VEVENT
DTSTART;TZID=America/Chicago:20240424T193000
DTEND;TZID=America/Chicago:20240424T213000
DTSTAMP:20260421T062740
CREATED:20240329T211607Z
LAST-MODIFIED:20240329T211758Z
UID:11465-1713987000-1713994200@www.grandscape.com
SUMMARY:Watch Party Wednesdays: Gilmore Girls
DESCRIPTION:“So\, it’s a show?” “It’s a lifestyle.” “It’s a religion.”\n\nJoin us Wednesday\, April 24 from 7:30-9:30pm as we watch some of our favorite spring episodes from Gilmore Girls as part of our Watch Party Wednesdays! Come out and enjoy the outdoor space and don’t forget to bring your lawn chairs and blankets as you enjoy the show with the Rory to your Lorelai. Plus\, don’t miss out on snapping a selfie with a fun photo op that every Gilmore Girls fan will love.\nEpisodes will be shown at 7:30pm and 8:30pm.\nEvent location – Topo Chico Hard Seltzer Lawn and Stage\nLooking for parking? Use our free parking garage.\n\nGrandscape is a large outdoor shopping center with plenty of food and dining. Please feel free to shop around The Homestead and grab a bite to eat at one of our many restaurants before or after the event!
URL:https://www.grandscape.com/event/watch-party-wednesday-gilmore-girls/2024-04-24/
LOCATION:Stage & Lawn\, 5752 Grandscape Blvd.\, The Colony\, TX\, 75056\, United States
CATEGORIES:Watch Parties
ATTACH;FMTTYPE=image/jpeg:https://www.grandscape.com/wp-content/uploads/2024/03/GS_WPW-Gilmore-Girls_Website_960x500.jpg
END:VEVENT
BEGIN:VEVENT
DTSTART;TZID=America/Chicago:20240425T180000
DTEND;TZID=America/Chicago:20240425T200000
DTSTAMP:20260421T062740
CREATED:20240401T175457Z
LAST-MODIFIED:20240401T175838Z
UID:11481-1714068000-1714075200@www.grandscape.com
SUMMARY:Singles Happy Hour Presented by Jigsaw Dating
DESCRIPTION:Arrive by 6:45 PM to check-in. Limited tickets available!\nThis Singles Happy Hour includes: \n\n	Mixer-style mingling\n	Dedicated host on site\n	Signature #DeeperDating Puzzle to help break the ice \n	Custom conversation cards\n	Free goody bags for all attendees\n	Beer and wine available for purchase\n	The Grandscape Stampede on the lawn from 7:00-10:00pm (end the night with a 2-steppin’ dance lesson)!\n	Lots of entertainment options surrounding the terrace (Puttery\, Escape Game\, Great Big Game Show\, etc…) for matches to explore after the event ends.\n\nTickets are nonrefundable. Must be single and 21+ with valid ID. NAME PROVIDED MUST MATCH ID.
URL:https://www.grandscape.com/event/singles-happy-hour-presented-by-jigsaw-dating/2024-04-25/
CATEGORIES:21+
ATTACH;FMTTYPE=image/png:https://www.grandscape.com/wp-content/uploads/2024/04/image-34.png
END:VEVENT
END:VCALENDAR