BEGIN:VCALENDAR
VERSION:2.0
PRODID:-//Grandscape - ECPv6.15.16//NONSGML v1.0//EN
CALSCALE:GREGORIAN
METHOD:PUBLISH
X-ORIGINAL-URL:https://www.grandscape.com
X-WR-CALDESC:Events for Grandscape
REFRESH-INTERVAL;VALUE=DURATION:PT1H
X-Robots-Tag:noindex
X-PUBLISHED-TTL:PT1H
BEGIN:VTIMEZONE
TZID:UTC
BEGIN:STANDARD
TZOFFSETFROM:+0000
TZOFFSETTO:+0000
TZNAME:UTC
DTSTART:20210101T000000
END:STANDARD
END:VTIMEZONE
BEGIN:VEVENT
DTSTART;TZID=UTC:20220119T180000
DTEND;TZID=UTC:20220119T200000
DTSTAMP:20260420T212252
CREATED:20220105T043503Z
LAST-MODIFIED:20220105T043503Z
UID:6154-1642615200-1642622400@www.grandscape.com
SUMMARY:Winter Sip & Shop
DESCRIPTION:Join us on Wednesday\, January 19th from 6pm-8pm as we host our Winter Sip and Shop within The Homestead at Grandscape. Explore the area while enjoying unique drink samples from The Colony Wine Bar and don’t forget to visit our local shops for special offers and activations. \nThe event will include:– 8 Italian wine samples from The Colony Wine Bar– Small bites and treats from Twigs and Julie’s Sweets– Water marbling activation at Dallas Silk Art– Swag bags and souvenir wine glasses– Live music within The Homestead– PLUS\, deals and special offers from participating shops throughout the event \nDon’t miss out on an evening of fun and shopping! We’ll see you there! \nTickets are $30 a person. \nDeals and Specials from our Participating Shops:– Triple T’s Popcorn – Buy one get one free off mini and small popcorns of equal or lesser value– Gal Clothing – 20% off clothing– Live Love Game – 20% off everything in store– Creteation – Buy one get one 50% off jewelry of equal or lesser value (no discounts on stacking)– Landry Kate – 30% off a regular priced clothing item– Bullzerk – 20% off everything in store– Willow House – 20% off each purchase \nWine sampling is for ages 21 and over. Guests will need to show a government issued ID upon check-in to participate in the event. \nGrandscape is an outdoor center\, so please dress appropriately for the weather. Depending on the temperature day of we will have heaters spaced throughout the event area.
URL:https://www.grandscape.com/event/winter-sip-shop/
LOCATION:The Homestead
ATTACH;FMTTYPE=image/jpeg:https://www.grandscape.com/wp-content/uploads/2022/01/271273943_4174904545944180_3907658587478853381_n.jpg
END:VEVENT
BEGIN:VEVENT
DTSTART;TZID=UTC:20220123T210000
DTEND;TZID=UTC:20220123T230000
DTSTAMP:20260420T212252
CREATED:20211223T030432Z
LAST-MODIFIED:20220126T183926Z
UID:6059-1642971600-1642978800@www.grandscape.com
SUMMARY:Industry Night at Twigs American Kitchen
DESCRIPTION:Every Sunday 9 – 11pm. \nHappy hour food will be served 9-10pm Happy Hour drink deals from 9 – 11pm \nALL ARE WELCOME! \nCome relax and unwind after a busy weekend. Drink menu includes:Sailor Jerry $6Bombay Dry gin $6Tito’s $6White / Green Tea Shots $6Jameson $6Angry ball $6Draft Beer $5Bottle Domestic $4.50Rumple / Fireball / Jag $5Mexican Candy Shot $6
URL:https://www.grandscape.com/event/industry-night-at-twigs-american-kitchen-2/2022-01-23/
ATTACH;FMTTYPE=image/jpeg:https://www.grandscape.com/wp-content/uploads/2021/12/235511389_366949784881013_2763171978272842694_n.jpg
END:VEVENT
BEGIN:VEVENT
DTSTART;TZID=UTC:20220124T110000
DTEND;TZID=UTC:20220131T210000
DTSTAMP:20260420T212252
CREATED:20211221T202002Z
LAST-MODIFIED:20220121T032731Z
UID:6037-1643022000-1643662800@www.grandscape.com
SUMMARY:Grandscape Restaurant Week
DESCRIPTION:January 24 – 31\, 2022\n\nFood lovers\, get your appetite ready for the Inaugural Grandscape Restaurant Week!\n\nThis culinary event invites visitors to sample the best cuisines of Grandscape. From fine dining to fast-casual\, Grandscape has award-winning spots that are first in the country\, hometown favorites and everything in between.\n\nGrandscape Restaurant Week will offer guests discounted prix fixe menus from participating restaurants.  Guests will be able to select from 2-3 course lunch and dinner menus (beverages\, tax and gratuity are not included in the fixed price). No passes or tickets required. Pull up a spot and dine out!\n\nThis year we will be partnering with Lovepacs\, a nonprofit organization that is passionate about engaging our communities to feed hungry children in Texas. 10% of each prix fixe meal purchase will be donated to Lovepacs at the end of our campaign! Dine out and help make a difference in the lives of more than 6\,000 children!\n\nParticipating restaurants include:\n\n 	Andretti Indoor Karting & Games\n 	Davio’s Northern Italian Steakhouse\n 	Heritage Pizza\n 	Lava Cantina\n 	Parry’s Pizzeria & Taphouse\n 	Puttery\n 	Seven Doors Kitchen & Cocktails\n 	Walk-On’s Sports Bistreaux\n 	Windmills\n\n \n\nAbout Lovepacs:\n\nLovepacs is a grassroots non-profit organization that is passionate about engaging our communities to feed hungry children in Texas.  Lovepacs provides breakfast\, lunch and two snacks for children when school is not in session (for school holidays).  Lovepacs currently operates in 14 communities including Aubrey\, Austin\, Carrollton/Farmers Branch\, Castle Hills\, Cy-Fair\, Denton\, Flower Mound\, Frisco\, Highland Village\, Lewisville\, Little Elm\, Plano\, Prosper\, & The Colony. Visit lovepacs.org for more information.
URL:https://www.grandscape.com/event/grandscape-restaurant-week/
ATTACH;FMTTYPE=image/jpeg:https://www.grandscape.com/wp-content/uploads/2021/12/GS_RestaurantWeek_WebsiteEventImg_960x500-2.jpg
END:VEVENT
BEGIN:VEVENT
DTSTART;TZID=UTC:20220125T190000
DTEND;TZID=UTC:20220125T220000
DTSTAMP:20260420T212252
CREATED:20220108T021618Z
LAST-MODIFIED:20220121T030239Z
UID:6164-1643137200-1643148000@www.grandscape.com
SUMMARY:Live Band Karaoke at Lava Cantina
DESCRIPTION:Live Band #Karaoke is at Lava Cantina EVERY TUESDAY as we celebrate Phat Tuesdays with #HappyHour ALL NIGHT LONG!\n\nFREE TACO BAR for all karaoke participants!\n\nLava Cantina welcomes our Host Shannon Cobb who will keep the party rolling all evening!\n\nHappy Hour All Night Long + Hurricane Special\n• $3 Domestic Draft Beer\n• $5 House Margaritas\n• $5 Hurricanes\n• $7 Top Shelf Margaritas\n• $3 Cheese Pizza by the Slice\n• $5 Chips & Queso\n• $7 Amplified Shrimp
URL:https://www.grandscape.com/event/live-band-karaoke-at-lava-cantina-2/2022-01-25/
ATTACH;FMTTYPE=image/jpeg:https://www.grandscape.com/wp-content/uploads/2021/12/259648112_2139965599476908_8427737864279440463_n.jpg
END:VEVENT
BEGIN:VEVENT
DTSTART;TZID=UTC:20220202T200000
DTEND;TZID=UTC:20220202T220000
DTSTAMP:20260420T212252
CREATED:20220108T022027Z
LAST-MODIFIED:20220225T194418Z
UID:6168-1643832000-1643839200@www.grandscape.com
SUMMARY:Live Trivia Wednesdays at Lava Cantina
DESCRIPTION:Join us EVERY Wednesday at Lava Cantina for LIVE TRIVIA with Challenge Entertainment from 8pm – 10pm! \nWe’ll have numerous themes along with some awesome prizes\, so grab your friends and get ready to dominate the house. \nExcluding ticketed event nights\, we will feature the following specials:– $3 Domestic Drafts– $5 House Margaritas– $7 Top Shelf Margaritas– $3 Cheese Pizza by the Slice– $5 Chips & Queso– $7 Amplified Shrimp \nBuckle up fellow nerds… it’s time to PARTY only the way we know how… with crazy competition of the minds!
URL:https://www.grandscape.com/event/live-trivia-wednesdays-at-lava-cantina-3/2022-02-02/
ATTACH;FMTTYPE=image/jpeg:https://www.grandscape.com/wp-content/uploads/2022/01/259824794_2139963152810486_6759989536292819567_n.jpg
END:VEVENT
BEGIN:VEVENT
DTSTART;TZID=UTC:20220210T180000
DTEND;TZID=UTC:20220210T200000
DTSTAMP:20260420T212252
CREATED:20220114T185855Z
LAST-MODIFIED:20220114T185855Z
UID:6189-1644516000-1644523200@www.grandscape.com
SUMMARY:Black History Month Movie Series: Hidden Figures
DESCRIPTION:Join us every Thursday in February as we host our Black History Month Movie Series on the Stage at Grandscape. Come out and spend your Thursday evenings with us\, while enjoying a FREE movie from the lawn.\n\nThis Thursday we’ll be showing Hidden Figures! Showtime starts at 6pm.\n\nDon’t forget to bring your chair and blanket to enjoy the movie from our lawn! We can’t wait to see you there!
URL:https://www.grandscape.com/event/black-history-month-movie-series-hidden-figures/
LOCATION:The Lawn at Grandscape\, 5752 Grandscape Blvd\, The Colony\, TX\, United States
ATTACH;FMTTYPE=image/jpeg:https://www.grandscape.com/wp-content/uploads/2022/01/GS_BHM_MovieSeries_WebsiteEventImg_960x500.jpg
END:VEVENT
BEGIN:VEVENT
DTSTART;TZID=UTC:20220212T130000
DTEND;TZID=UTC:20220212T170000
DTSTAMP:20260420T212252
CREATED:20220117T211335Z
LAST-MODIFIED:20220212T003902Z
UID:6202-1644670800-1644685200@www.grandscape.com
SUMMARY:Just the Girls: Galentine's Day
DESCRIPTION:SOLD OUT \n“What’s Galentine’s Day? Oh\, it’s only the best day of the year!” \nGrab your best gal pals and join us for an afternoon of fun and all things pink as we host our Just the Girls: Galentine’s Day in The Homestead at Grandscape! \nStroll throughout the area while enjoying fun event pop ups\, drinks and treats\, live music\, shopping\, and more! \nThe event will include:\n– Rosé wine flights at The Colony Wine Bar\n– Galentine’s Day themed waffle bar\n– Water marbling creations\n– Build your own mini succulent planter\n– Create your own bath bomb\n– BFF cookie decorating\n– Complimentary massages\n– Lavender macarons from Davio’s Northern Italian Steakhouse\n– PLUS\, Galentine’s Day swag bags \nCome out and celebrate “the best day of the year” with you and your besties! We’ll see you there! \nThis is a girls only event – no boys allowed! \nTickets are $65 a person. \nWine sampling is for ages 21 and over. Guests will need to show a government issued ID upon check-in to participate in the drink sampling portion of this event. \nGrandscape is an outdoor center\, so please dress appropriately for the weather. Depending on the temperature the day of we will have heaters spaced throughout the event area.
URL:https://www.grandscape.com/event/just-the-girls-galentines-day/
LOCATION:The Colony Wine Bar Patio
ATTACH;FMTTYPE=image/jpeg:https://www.grandscape.com/wp-content/uploads/2022/01/271987316_4206324982802136_8011602244472665386_n.jpg
END:VEVENT
BEGIN:VEVENT
DTSTART;TZID=UTC:20220213T170000
DTEND;TZID=UTC:20220213T220000
DTSTAMP:20260420T212252
CREATED:20220118T033613Z
LAST-MODIFIED:20220118T033613Z
UID:6216-1644771600-1644789600@www.grandscape.com
SUMMARY:Valentine’s Dinner at Davio’s
DESCRIPTION:Bring your date to Davio’s Northern Italian Steakhouse\, located in The Colony at Grandscape\, for a romantic dinner this Valentine’s Day. In addition to the dinner menu\, Davio’s will offer a special three-course prix-fixe menu\, which includes specially prepared items by Executive Chef Brad Albers such as the Lemon\, Ricotta Tortelloni\, Cacio e Pepe and Chilean Sea Bass\, Red Quinoa\, Heirloom Carrots\, Prezzemolata. The dessert course\, prepared by pastry chef Lena Huynh\, is a sampler of Warm Chocolate Cake; Caramel-Chocolate Tart; Strawberry Pavlova. \nThe menu will be available Sunday\, February 13th and Monday\, February 14th for $95 per guest (excluding tax & gratuity). Reservations are recommended by calling 469.772.4810. \nValentine’s Dinner Menu \nANTIPASTI \nCape Cod Oysters\, Spicy Mignonette \nor \nLemon\, Ricotta Tortelloni\, Cacio e Pepe \nPIATTI DEL GIORNO \n8 oz Center Cut Filet Mignon\, Jumbo Shrimp\, Purple Potatoes\, Bearnaise \nor \nChilean Sea Bass\, Red Quinoa\, Heirloom Carrots\, Prezzemolata \nDOLCE SAMPLER \nWarm Chocolate Cake; Caramel-Chocolate Tart; Strawberry Pavlova \n \nWHERE:        5762 Grandscape Blvd | The Colony\, TX 75056 | 469.772.4810 | www.davios.com/thecolony \nWHEN: Sunday\, February 13th & Monday\, February 14th during dinner service. \nCOST: $95 per guest (excluding tax & gratuity). Reservations are recommended. Please call 469.772.4810 for more information.
URL:https://www.grandscape.com/event/valentines-dinner-at-davios/2022-02-13/
ATTACH;FMTTYPE=image/jpeg:https://www.grandscape.com/wp-content/uploads/2022/01/VDAYTheColony_.jpg
END:VEVENT
BEGIN:VEVENT
DTSTART;TZID=UTC:20220214T110000
DTEND;TZID=UTC:20220214T200000
DTSTAMP:20260420T212252
CREATED:20220214T213851Z
LAST-MODIFIED:20220214T213851Z
UID:6416-1644836400-1644868800@www.grandscape.com
SUMMARY:Valentine's Day Combo at Parry's Pizzeria
DESCRIPTION:$39.99 Valentine’s Day Combo: \nSteal a pizza their heart this Valentine’s Day with our Valentine’s Day 3-Course Dinner for two for only $39.99\, available Friday\, February 11–Monday\, February 14.  (“Galentines”\, bros\, lonely hearts and families welcome too)… $39.99 \nVALENTINE’S COMBO: \nChoose ANY appetizer or TWO side salads \nChoose ANY TWO entrees or ONE 18” Signature Pizza or BYO Pizza (up to 3 toppings) \nChoose ANY dessert \nAdd any combination of TWO 6oz glasses of wine\, Parry’s Pints or Parry’s Signature Beers for $8
URL:https://www.grandscape.com/event/valentines-day-combo-at-parrys-pizzeria/
ATTACH;FMTTYPE=image/jpeg:https://www.grandscape.com/wp-content/uploads/2022/02/Parrys-Pizza-web.jpg
END:VEVENT
BEGIN:VEVENT
DTSTART;TZID=UTC:20220214T190000
DTEND;TZID=UTC:20220214T220000
DTSTAMP:20260420T212252
CREATED:20220211T215512Z
LAST-MODIFIED:20220211T215512Z
UID:6401-1644865200-1644876000@www.grandscape.com
SUMMARY:Valentine's Day Trivia at Heritage Pizza
DESCRIPTION:Bring your loved one to eat\, drink\, think and win some awesome prizes!\n\nOrder your pizza and beer upfront then sit back\, relax\, and get your trivia on. There’s no need to get-up during the game. We’ll take care of your pizza and beer orders.
URL:https://www.grandscape.com/event/valentines-day-trivia-at-heritage-pizza/
ATTACH;FMTTYPE=image/jpeg:https://www.grandscape.com/wp-content/uploads/2021/12/16819096_1620149051358391_9019301922213801754_o.jpg
END:VEVENT
BEGIN:VEVENT
DTSTART;TZID=UTC:20220217T180000
DTEND;TZID=UTC:20220217T200000
DTSTAMP:20260420T212252
CREATED:20220114T190247Z
LAST-MODIFIED:20220114T190247Z
UID:6192-1645120800-1645128000@www.grandscape.com
SUMMARY:Black History Month Movie Series: Akeelah and the Bee
DESCRIPTION:Join us every Thursday in February as we host our Black History Month Movie Series on the Stage at Grandscape. Come out and spend your Thursday evenings with us\, while enjoying a FREE movie from the lawn.\n\nThis Thursday we’ll be showing Akeelah and the Bee! Showtime starts at 6pm.\n\nDon’t forget to bring your chair and blanket to enjoy the movie from our lawn! We can’t wait to see you there!
URL:https://www.grandscape.com/event/black-history-month-movie-series-akeelah-and-the-bee/
LOCATION:The Lawn at Grandscape\, 5752 Grandscape Blvd\, The Colony\, TX\, United States
ATTACH;FMTTYPE=image/jpeg:https://www.grandscape.com/wp-content/uploads/2022/01/GS_BHM_MovieSeries_WebsiteEventImg_960x500.jpg
END:VEVENT
BEGIN:VEVENT
DTSTART;TZID=UTC:20220219T140000
DTEND;TZID=UTC:20220219T160000
DTSTAMP:20260420T212252
CREATED:20220121T024545Z
LAST-MODIFIED:20220209T183919Z
UID:6237-1645279200-1645286400@www.grandscape.com
SUMMARY:Lunar New Year
DESCRIPTION:It’s the year of the tiger! \nJoin us on Saturday\, February 19th for an afternoon of traditional performances as we celebrate the Lunar New Year! \nIt’s a festival that marks the beginning of spring\, a time to shed the hardships of winter and prepare for a season of change and hope. \nActivities include: \n– Lion Dance Performance– Asian Tiko Drummers– Asian Ribbon Dancing Fusion Show– Dragon Dance Parade– Martial Arts Demo \nAnd\, more! \nCome celebrate the Year of the Tiger at Grandscape!
URL:https://www.grandscape.com/event/chinese-lunar-new-year/
LOCATION:The Lawn at Grandscape\, 5752 Grandscape Blvd\, The Colony\, TX\, United States
ATTACH;FMTTYPE=image/jpeg:https://www.grandscape.com/wp-content/uploads/2022/01/GS_LunarNewYearFestival_WebsiteEventImg_960x500-1.jpg
END:VEVENT
BEGIN:VEVENT
DTSTART;TZID=UTC:20220224T200000
DTEND;TZID=UTC:20220224T220000
DTSTAMP:20260420T212252
CREATED:20220114T190729Z
LAST-MODIFIED:20220224T193042Z
UID:6195-1645732800-1645740000@www.grandscape.com
SUMMARY:Black History Month Movie Series: Black Panther
DESCRIPTION:Join us every Thursday in February as we host our Black History Month Movie Series on the Stage at Grandscape. Come out and spend your Friday evening with us\, while enjoying a FREE movie from the lawn.\n\nThis Friday we’ll be showing Black Panther! Showtime starts at 8pm.\n\nDon’t forget to bring your chair and blanket to enjoy the movie from our lawn! We can’t wait to see you there!
URL:https://www.grandscape.com/event/black-history-month-movie-series-black-panther/
LOCATION:The Lawn at Grandscape\, 5752 Grandscape Blvd\, The Colony\, TX\, United States
ATTACH;FMTTYPE=image/jpeg:https://www.grandscape.com/wp-content/uploads/2022/01/GS_BHM_MovieSeries_WebsiteEventImg_960x500.jpg
END:VEVENT
BEGIN:VEVENT
DTSTART;TZID=UTC:20220226T100000
DTEND;TZID=UTC:20220226T113000
DTSTAMP:20260420T212252
CREATED:20220209T035858Z
LAST-MODIFIED:20220218T020050Z
UID:6382-1645869600-1645875000@www.grandscape.com
SUMMARY:Crunch & Munch - Soul Food Style!
DESCRIPTION:Join us every month as we bring you the best in fitness & food with our Crunch & Munch Series. \nThis month\, we’re highlighting Black fitness instructors and Black restaurant owners! \nDo a HIIT workout with trainers from Steadfast Fitness and then relax through meditation and sound healing from Emmy Winner & Certified Meditation Teacher Leah Frazier. \nTickets are $20 and include:– 30 minute workout– 30 minute meditation class– Appetizers from B&R Waffle Bar and Flatrock Smokehouse BBQ– Grandscape branded swag bag \n10am Check-In10:15am HIIT cardio class from Steadfast Fitness11am Meditation Training with Leah Frazier
URL:https://www.grandscape.com/event/crunch-munch-soul-food-style/
LOCATION:The Lawn at Grandscape\, 5752 Grandscape Blvd\, The Colony\, TX\, United States
ATTACH;FMTTYPE=image/jpeg:https://www.grandscape.com/wp-content/uploads/2022/02/GS_CrunchAndMunch_WebsiteEventImg_960x500_BHM-2.jpg
END:VEVENT
BEGIN:VEVENT
DTSTART;TZID=UTC:20220227T140000
DTEND;TZID=UTC:20220227T180000
DTSTAMP:20260420T212252
CREATED:20220126T234916Z
LAST-MODIFIED:20220215T025557Z
UID:6331-1645970400-1645984800@www.grandscape.com
SUMMARY:Mardi Gras Pardi
DESCRIPTION:LET THE GOOD TIMES ROLL!It’s a Mardi Gras Pardi at Grandscape presented by SYNLawn on Sunday\, February 27\, 2022! \nThis event will include:• Performances by the N’Awlins Gumbo Kings• Cajun food from Lava Cantina & Walk-Ons (available for purchase)• Crawfish boil by the Cajun Crawfish Co. (ticket required)• Kid’s mask decorating contest• Crawfish eating contest• Airbrush tattoo artist• Fortune teller• LOTS of Instagram-worthy photo opportunities• PLUS\, multiple chances for you to win an authentic King Cake from New Orleans! \nThis is a free event and open to the public with ticket options available for additional experiences. \nGET TICKETS NOW FOR THE CRAWFISH BOIL \nVIP Table Includes:• a reserved picnic table for 6• 18lbs of Crawfish• 6 branded souvenir hurricane glasses• 6 frozen drinks from The Colony Wine Bar• 12 mini beignets \nVIP Table is 21&up only (guests will show ID at check-in) \nReserved Seat Includes:• Single reserved seat at a picnic table on the lawn (tables seat up to 6 people)• 3lbs of Crawfish• A branded souvenir hurricane glass \nCrawfish Boil Ticket Includes:• 3lbs of Crawfish. No reserved seat. High top tables will be open on a first come\, first served basis. \nSAFETY INFO: Crawfish will be served in individual containers.
URL:https://www.grandscape.com/event/mardi-gras-pardi/
LOCATION:The Lawn at Grandscape\, 5752 Grandscape Blvd\, The Colony\, TX\, United States
ATTACH;FMTTYPE=image/jpeg:https://www.grandscape.com/wp-content/uploads/2022/01/GS_MardiGrasPardi_WebsiteEventImg_960x500-2.jpg
END:VEVENT
BEGIN:VEVENT
DTSTART;TZID=UTC:20220228T190000
DTEND;TZID=UTC:20220228T220000
DTSTAMP:20260420T212252
CREATED:20220108T021126Z
LAST-MODIFIED:20220225T194020Z
UID:6161-1646074800-1646085600@www.grandscape.com
SUMMARY:Monday Nite Trivia at Heritage Pizza
DESCRIPTION:Eat. Drink. Think. And Win some awesome prizes!\n\nMonday Night Trivia is BACK! Order your pizza and beer upfront then sit back\, relax\, and get your trivia on. There’s no need to get-up during the game. We’ll take care of your pizza and beer orders.
URL:https://www.grandscape.com/event/monday-nite-trivia-at-heritage-pizza-2/2022-02-28/
ATTACH;FMTTYPE=image/jpeg:https://www.grandscape.com/wp-content/uploads/2021/12/16819096_1620149051358391_9019301922213801754_o.jpg
END:VEVENT
END:VCALENDAR