BEGIN:VCALENDAR
VERSION:2.0
PRODID:-//Grandscape - ECPv6.15.16//NONSGML v1.0//EN
CALSCALE:GREGORIAN
METHOD:PUBLISH
X-ORIGINAL-URL:https://www.grandscape.com
X-WR-CALDESC:Events for Grandscape
REFRESH-INTERVAL;VALUE=DURATION:PT1H
X-Robots-Tag:noindex
X-PUBLISHED-TTL:PT1H
BEGIN:VTIMEZONE
TZID:UTC
BEGIN:STANDARD
TZOFFSETFROM:+0000
TZOFFSETTO:+0000
TZNAME:UTC
DTSTART:20210101T000000
END:STANDARD
END:VTIMEZONE
BEGIN:VEVENT
DTSTART;TZID=UTC:20220415T173000
DTEND;TZID=UTC:20220415T203000
DTSTAMP:20260421T033539
CREATED:20220318T183308Z
LAST-MODIFIED:20220318T183308Z
UID:6669-1650043800-1650054600@www.grandscape.com
SUMMARY:Spring Fling Eggstravaganza
DESCRIPTION:Hoppy Easter!\n\n \n\nJoin us for an egg-citing time at Grandscape as we host our Spring Fling Eggstravaganza\, presented by SYNLawn\, on Friday\, April 15th from 5:30pm-8:30pm!\n\n \n\nThe event will include:\n\n \n\n 	Photos with the Easter Bunny\n 	Train rides through the center\n 	Springtime petting zoo\n 	Take-home craft\n 	Face painting\n 	Golden egg hunt\n 	PLUS\, Easter eggs will be handed out to event attendees at participating Grandscape stores and restaurants\n\n \n\nTickets are $15 per child.\n\n \n\n*Tickets are only required for children participating in the event. Adults will not need to purchase additional tickets for themselves unless they want to participate in the activities.\n\n \n\nDon’t forget to bring your Easter baskets! We’ll see every-bunny there!
URL:https://www.grandscape.com/event/spring-fling-eggstravaganza-2/
LOCATION:The Lawn at Grandscape\, 5752 Grandscape Blvd\, The Colony\, TX\, United States
ATTACH;FMTTYPE=image/jpeg:https://www.grandscape.com/wp-content/uploads/2022/03/GS_SpringFling_WebsiteEventImg_960x500.jpg
END:VEVENT
BEGIN:VEVENT
DTSTART;TZID=UTC:20220416T110000
DTEND;TZID=UTC:20220416T140000
DTSTAMP:20260421T033539
CREATED:20220411T220727Z
LAST-MODIFIED:20220411T220727Z
UID:6820-1650106800-1650117600@www.grandscape.com
SUMMARY:Selfie with the Easter Bunny at NFM
DESCRIPTION:Take a selfie with the Easter Bunny in the Event Center at NFM! Kid’s Crafter Bags available for grab and go for the first 200 kids. Kid’s Crafter Bag will include an Easter themed craft + goodies!\n\nSponsored by GE Appliances.
URL:https://www.grandscape.com/event/selfie-with-the-easter-bunny-at-nfm/
ATTACH;FMTTYPE=image/png:https://www.grandscape.com/wp-content/uploads/2022/04/MicrosoftTeams-image-11.png
END:VEVENT
BEGIN:VEVENT
DTSTART;TZID=UTC:20220416T190000
DTEND;TZID=UTC:20220416T210000
DTSTAMP:20260421T033539
CREATED:20220329T212540Z
LAST-MODIFIED:20220329T212540Z
UID:6762-1650135600-1650142800@www.grandscape.com
SUMMARY:Petty Theft
DESCRIPTION:Petty Theft takes over the Stage at Grandscape on Saturday\, April 16th! Bring a chair or blanket\, grab a beverage from The Colony Wine Bar\, and enjoy the sounds of Tom Petty & The Heartbreakers.\n\n \n\nThis show is free to the public. No outside alcohol or coolers are allowed. Please visit www.grandscape.com/event-faq/ for more information.
URL:https://www.grandscape.com/event/petty-theft-2/
LOCATION:The Stage at Grandscape
ATTACH;FMTTYPE=image/jpeg:https://www.grandscape.com/wp-content/uploads/2022/03/Petty-Theft.jpg
END:VEVENT
BEGIN:VEVENT
DTSTART;TZID=UTC:20220422T190000
DTEND;TZID=UTC:20220422T210000
DTSTAMP:20260421T033539
CREATED:20220329T212921Z
LAST-MODIFIED:20220414T190549Z
UID:6766-1650654000-1650661200@www.grandscape.com
SUMMARY:DALE 305
DESCRIPTION:DALE 305 takes over the Stage at Grandscape on Friday\, April 22nd! Bring a chair or blanket\, grab a beverage from The Colony Wine Bar\, and enjoy the show. \n\n\n\nThis show is free to the public. No outside alcohol or coolers are allowed. Please visit www.grandscape.com/event-faq/ for more information.
URL:https://www.grandscape.com/event/dale-305-2/
LOCATION:The Stage at Grandscape
ATTACH;FMTTYPE=image/jpeg:https://www.grandscape.com/wp-content/uploads/2022/03/dale-305.jpg
END:VEVENT
BEGIN:VEVENT
DTSTART;TZID=UTC:20220423T190000
DTEND;TZID=UTC:20220423T210000
DTSTAMP:20260421T033539
CREATED:20220329T213450Z
LAST-MODIFIED:20220329T231123Z
UID:6770-1650740400-1650747600@www.grandscape.com
SUMMARY:King George
DESCRIPTION:Come 2-step to the music of George Strait with tribute band King George\, live on The Stage at Grandscape in The Colony\, TX on Saturday\, April 23rd! Come and experience all that is Grandscape with this family-friendly concert out on the lawn at 7pm! \nThis show is FREE to the public\, but a VIP upgrade is available for purchase for an elevated experience. \n\n\n\n\n\nVIP Tickets include: \n\n\n\n– Reserved seating at our VIP high top tables – 1 drink ticket redeemable at The Colony Wine Bar \n\n\n\nVIP seating is directly in front of the stage and available for purchase\, or you can enjoy the show from our vast lawn by bringing a blanket or lawn chair! \n\n\n\nNo outside alcohol or coolers are allowed. Please visit www.grandscape.com/event-faq/ for more information.
URL:https://www.grandscape.com/event/king-george/
LOCATION:The Stage at Grandscape
ATTACH;FMTTYPE=image/jpeg:https://www.grandscape.com/wp-content/uploads/2022/03/King-George.jpg
END:VEVENT
BEGIN:VEVENT
DTSTART;TZID=UTC:20220429T190000
DTEND;TZID=UTC:20220429T210000
DTSTAMP:20260421T033539
CREATED:20220420T201223Z
LAST-MODIFIED:20220420T201223Z
UID:6844-1651258800-1651266000@www.grandscape.com
SUMMARY:The Zeppelin Project
DESCRIPTION:Come out and Rock and Roll at Grandscape with the music of Led Zeppelin performed by tribute band The Zeppelin Project! Live on The Stage Friday\, April 29th! Experience all that is Grandscape with this family-friendly concert out on the lawn at 7pm!\n\nThis show is FREE to the public\, but a VIP upgrade is available for purchase for an elevated experience.\n\nVIP Tickets include:\n\n 	Reserved seating at our VIP high top tables\n 	1 drink ticket redeemable at The Colony Wine Bar\n\nVIP seating is directly in front of the stage and available for purchase\, or you can enjoy the show from our vast lawn by bringing a blanket or lawn chair!
URL:https://www.grandscape.com/event/the-zeppelin-project/
LOCATION:The Stage at Grandscape
ATTACH;FMTTYPE=image/jpeg:https://www.grandscape.com/wp-content/uploads/2022/04/278933941_4486912328076732_1636455853739930283_n.jpg
END:VEVENT
BEGIN:VEVENT
DTSTART;TZID=UTC:20220430T190000
DTEND;TZID=UTC:20220430T230000
DTSTAMP:20260421T033539
CREATED:20220407T051235Z
LAST-MODIFIED:20220407T051235Z
UID:6810-1651345200-1651359600@www.grandscape.com
SUMMARY:It's Gonna Be MAY
DESCRIPTION:Say “Bye\, Bye\, Bye” to April\, because… “IT’S GONNA BE MAY!”\nJoin us on Saturday\, April 30th at 7pm as we celebrate the best decade ever with our It’s Gonna Be May: 2000s Party!\n\nLarger Than Life: Boy Band Tribute will take the stage at 7pm to perform some of the greatest boy band anthems of all time! Followed by our Y2K Silent Disco\, which will kick off at 9pm.\n\nThe event will also include:\n• A “Sexyback” photo booth\n• Airbrush tattoos\n• Dippin’ Dots food truck pop-up\n• Photo ops\n• PLUS\, we’re handing out prizes to the best individual\, best couple\, and best group costumes!\n\nCome out and “Drop It Like It’s Hot” and make sure to grab your best trucker hat for what’s bound to be an unforgettable night! We’ll see you there!\n\nEvent Schedule:\n7pm-8:30pm – Larger Than Life Boyband Tribute\n9pm-11pm – Y2K Silent Disco\n\nThis event is FREE and open to the public.\nEvent Location – The Stage and Lawn at Grandscape\n**Event attendees will need to have a valid driver’s license present in order to exchange for headphones at the silent disco. Headphones will be handed out on a first come first serve basis 15-minutes prior to the silent disco start time. There are a limited number of headphones available\, so please check in early to receive your pair.
URL:https://www.grandscape.com/event/its-gonna-be-may/
LOCATION:The Stage at Grandscape
ATTACH;FMTTYPE=image/jpeg:https://www.grandscape.com/wp-content/uploads/2022/04/GS_ItsGonnaBeMay_FBEventImg_1920x1080.jpg
END:VEVENT
BEGIN:VEVENT
DTSTART;TZID=UTC:20220505T190000
DTEND;TZID=UTC:20220505T210000
DTSTAMP:20260421T033539
CREATED:20220419T212932Z
LAST-MODIFIED:20220419T212932Z
UID:6836-1651777200-1651784400@www.grandscape.com
SUMMARY:Cinco de Mayo with Selena Forever
DESCRIPTION:It’s a tribute to one of the best Latina singers ever! Selena Forever Tribute takes The Stage at Grandscape in The Colony\, TX on Thursday\, May 5th starting at 7pm! You’ll be dancing the night away with this unforgettable performance! Come and experience all that is Grandscape with this Cinco de Mayo celebratory concert!\n\nThis show is FREE to the public\, but a VIP upgrade is available for purchase for an elevated experience.\n\nVIP Tickets include:\n\n 	Reserved seating at our VIP high top tables\n 	One (1) drink ticket redeemable at The Colony Wine Bar\n\nVIP seating is directly in front of the stage and available for purchase\, or you can enjoy the show from our vast lawn by bringing a blanket or lawn chair!
URL:https://www.grandscape.com/event/cinco-de-mayo-with-selena-forever/
LOCATION:The Stage at Grandscape
ATTACH;FMTTYPE=image/jpeg:https://www.grandscape.com/wp-content/uploads/2022/04/GS_CincoDeMayo_FBPost_1200x630.jpg
END:VEVENT
BEGIN:VEVENT
DTSTART;TZID=UTC:20220506T190000
DTEND;TZID=UTC:20220506T210000
DTSTAMP:20260421T033539
CREATED:20220502T190907Z
LAST-MODIFIED:20220502T190907Z
UID:6887-1651863600-1651870800@www.grandscape.com
SUMMARY:Texas Bluesmen
DESCRIPTION:The Texas Bluesmen take over The Stage at Grandscape in The Colony\, TX on Friday\, May 6th! Bring a chair or blanket\, grab a beverage from The Colony Wine Bar\, and enjoy the show!\n\nThis show is free to the public. No outside alcohol or coolers are allowed. Please visit www.grandscape.com/event-faq/ for more information.
URL:https://www.grandscape.com/event/texas-bluesmen/
LOCATION:The Stage at Grandscape
ATTACH;FMTTYPE=image/jpeg:https://www.grandscape.com/wp-content/uploads/2022/05/Texas-Bluesmen.jpg
END:VEVENT
BEGIN:VEVENT
DTSTART;TZID=UTC:20220507T190000
DTEND;TZID=UTC:20220507T210000
DTSTAMP:20260421T033539
CREATED:20220502T191230Z
LAST-MODIFIED:20220502T191230Z
UID:6891-1651950000-1651957200@www.grandscape.com
SUMMARY:For Love & Country
DESCRIPTION:For Love & Country takes over The Stage at Grandscape in The Colony\, TX on Saturday\, May 7th! Bring a chair or blanket\, grab a beverage from The Colony Wine Bar\, and enjoy the show!\n\nThis show is free to the public. No outside alcohol or coolers are allowed. Please visit www.grandscape.com/event-faq/ for more information.
URL:https://www.grandscape.com/event/for-love-country/
LOCATION:The Stage at Grandscape
ATTACH;FMTTYPE=image/jpeg:https://www.grandscape.com/wp-content/uploads/2022/05/For-Love-Country.jpg
END:VEVENT
BEGIN:VEVENT
DTSTART;TZID=UTC:20220511T183000
DTEND;TZID=UTC:20220511T203000
DTSTAMP:20260421T033539
CREATED:20220510T031445Z
LAST-MODIFIED:20220510T031445Z
UID:6918-1652293800-1652301000@www.grandscape.com
SUMMARY:Jazz on the Lawn
DESCRIPTION:Join us on Wednesday evenings in May to enjoy some Jazz on the Lawn!\n\n \n\nBring a chair or blanket\, grab a beverage from The Colony Wine Bar\, and enjoy the music.\n\n \n\nSCHEDULE\n\n \n\n5/4: Aaron Whitman\n5/11: Terrance Bradford\n5/18: Aaron Whitman\n5/25: Vandell Andrew\n\n \n\nThese shows are free to the public. No outside alcohol or coolers are allowed. Please visit www.grandscape.com/event-faq/ for more information.
URL:https://www.grandscape.com/event/jazz-on-the-lawn/
LOCATION:The Stage at Grandscape
ATTACH;FMTTYPE=image/jpeg:https://www.grandscape.com/wp-content/uploads/2022/03/Jazz-on-the-Lawn.jpg
END:VEVENT
BEGIN:VEVENT
DTSTART;TZID=UTC:20220514T190000
DTEND;TZID=UTC:20220514T210000
DTSTAMP:20260421T033539
CREATED:20220502T191854Z
LAST-MODIFIED:20220502T191854Z
UID:6899-1652554800-1652562000@www.grandscape.com
SUMMARY:Live 90
DESCRIPTION:Live 90 takes over The Stage at Grandscape in The Colony\, TX on Saturday\, May 14th! Bring a chair or blanket\, grab a beverage from The Colony Wine Bar\, and enjoy the show!\n\nThis show is free to the public. No outside alcohol or coolers are allowed. Please visit www.grandscape.com/event-faq/ for more information.
URL:https://www.grandscape.com/event/live-90/
LOCATION:The Stage at Grandscape
ATTACH;FMTTYPE=image/jpeg:https://www.grandscape.com/wp-content/uploads/2022/05/Live-90.jpg
END:VEVENT
BEGIN:VEVENT
DTSTART;TZID=UTC:20220518T183000
DTEND;TZID=UTC:20220518T203000
DTSTAMP:20260421T033539
CREATED:20220510T031539Z
LAST-MODIFIED:20220510T031539Z
UID:6919-1652898600-1652905800@www.grandscape.com
SUMMARY:Jazz on the Lawn
DESCRIPTION:Join us on Wednesday evenings in May to enjoy some Jazz on the Lawn!\n\n \n\nBring a chair or blanket\, grab a beverage from The Colony Wine Bar\, and enjoy the music.\n\n \n\nSCHEDULE\n\n \n\n5/4: Aaron Whitman\n5/11: Terrance Bradford\n5/18: Aaron Whitman\n5/25: Vandell Andrew\n\n \n\nThese shows are free to the public. No outside alcohol or coolers are allowed. Please visit www.grandscape.com/event-faq/ for more information.
URL:https://www.grandscape.com/event/jazz-on-the-lawn-2/
LOCATION:The Stage at Grandscape
ATTACH;FMTTYPE=image/jpeg:https://www.grandscape.com/wp-content/uploads/2022/03/Jazz-on-the-Lawn.jpg
END:VEVENT
BEGIN:VEVENT
DTSTART;TZID=UTC:20220520T190000
DTEND;TZID=UTC:20220522T203000
DTSTAMP:20260421T033539
CREATED:20220510T224816Z
LAST-MODIFIED:20220510T224816Z
UID:6925-1653073200-1653251400@www.grandscape.com
SUMMARY:DFW South Asian Film Festival
DESCRIPTION:The 8th annual DFW South Asian Film Festival\, presented by Toyota Motor North America\, will host its first-ever weekend of screenings at the main stage on the Grandscape (May 20)\, followed by the Galaxy Theatres (May 21 & 22). The festival boasts 33 titles over 3 days: shorts\, documentaries\, feature films and all five episodes of a television series\, followed by Q&A sessions with the directors and actors. Each night\, there will be an after-party with food & cocktails\, and the closing night will end with an awards ceremony and live dance performance on the stage at the Windmills Restaurant. For the entire schedule and to purchase tickets\, please visit www.dfwsaff.com/schedule.\n\n \n\nFriday\, May 20th Opening Night\n\n \n\n 	7pm Red Carpet Cocktail Reception at The Terraces\n 	8pm Opening remarks and screenings on The Stage\n 	10pm – Midnight Afterparty event in The Grotto\n\n \n\nSaturday\, May 21st\n\n \n\n 	11:30am – 10pm Screenings all day at Galaxy Theatres\n 	10:30pm – Midnight Centerpiece Party at Galaxy Theatres\n\n \n\nSunday\, May 22nd\n\n \n\n 	11am – 8pm Screenings all day at Galaxy Theatres\n 	8:30pm Closing Night Ceremony & Afterparty at Windmills
URL:https://www.grandscape.com/event/dfw-south-asian-film-festival/
ATTACH;FMTTYPE=image/png:https://www.grandscape.com/wp-content/uploads/2022/05/DFW-SAFF-Toyota-Hor-Date.png
END:VEVENT
BEGIN:VEVENT
DTSTART;TZID=UTC:20220521T110000
DTEND;TZID=UTC:20220521T150000
DTSTAMP:20260421T033539
CREATED:20220513T085626Z
LAST-MODIFIED:20220513T085626Z
UID:6941-1653130800-1653145200@www.grandscape.com
SUMMARY:Summer Kickoff at NFM
DESCRIPTION:Get set for the perfect Summer with our Summer Kickoff on Saturday\, May 21!\n\nThere’ll be food and all sorts of family-friendly fun. Plus\, make sure to grab your little one a Kid’s Craft kit sponsored by Maytag.\n\nSo what are you waiting for\, let’s start the season with a bang!
URL:https://www.grandscape.com/event/summer-kickoff-at-nfm/
ATTACH;FMTTYPE=image/jpeg:https://www.grandscape.com/wp-content/uploads/2022/05/Summer-Kickoff-at-NFM.jpg
END:VEVENT
BEGIN:VEVENT
DTSTART;TZID=UTC:20220521T124500
DTEND;TZID=UTC:20220521T193000
DTSTAMP:20260421T033539
CREATED:20220513T090644Z
LAST-MODIFIED:20220513T090937Z
UID:6945-1653137100-1653161400@www.grandscape.com
SUMMARY:Afternoon Tea & Downton Abbey at Galaxy Theatres
DESCRIPTION:SPECIAL EVENT!\nThe London Baker will be serving Mini Sandwiches\, Savories\, Scones\, Dessert and Hot English Tea\, then enjoy the movie all for only $55.\n\n2 Showtimes Only\n12:45 pm Check-in for 1:30 pm Showing\n4:15 pm Check-in for 5:00 pm Showing
URL:https://www.grandscape.com/event/afternoon-tea-downton-abbey-at-galaxy-theatres/
ATTACH;FMTTYPE=image/jpeg:https://www.grandscape.com/wp-content/uploads/2022/05/Galaxy-Theatres-Downton-Abbey.jpg
END:VEVENT
END:VCALENDAR