BEGIN:VCALENDAR
VERSION:2.0
PRODID:-//Grandscape - ECPv6.15.16//NONSGML v1.0//EN
CALSCALE:GREGORIAN
METHOD:PUBLISH
X-WR-CALNAME:Grandscape
X-ORIGINAL-URL:https://www.grandscape.com
X-WR-CALDESC:Events for Grandscape
REFRESH-INTERVAL;VALUE=DURATION:PT1H
X-Robots-Tag:noindex
X-PUBLISHED-TTL:PT1H
BEGIN:VTIMEZONE
TZID:America/Chicago
BEGIN:DAYLIGHT
TZOFFSETFROM:-0600
TZOFFSETTO:-0500
TZNAME:CDT
DTSTART:20230312T080000
END:DAYLIGHT
BEGIN:STANDARD
TZOFFSETFROM:-0500
TZOFFSETTO:-0600
TZNAME:CST
DTSTART:20231105T070000
END:STANDARD
BEGIN:DAYLIGHT
TZOFFSETFROM:-0600
TZOFFSETTO:-0500
TZNAME:CDT
DTSTART:20240310T080000
END:DAYLIGHT
BEGIN:STANDARD
TZOFFSETFROM:-0500
TZOFFSETTO:-0600
TZNAME:CST
DTSTART:20241103T070000
END:STANDARD
BEGIN:DAYLIGHT
TZOFFSETFROM:-0600
TZOFFSETTO:-0500
TZNAME:CDT
DTSTART:20250309T080000
END:DAYLIGHT
BEGIN:STANDARD
TZOFFSETFROM:-0500
TZOFFSETTO:-0600
TZNAME:CST
DTSTART:20251102T070000
END:STANDARD
END:VTIMEZONE
BEGIN:VEVENT
DTSTART;TZID=America/Chicago:20241016T180000
DTEND;TZID=America/Chicago:20241016T210000
DTSTAMP:20260419T084929
CREATED:20240930T142513Z
LAST-MODIFIED:20241016T145805Z
UID:12496-1729101600-1729112400@www.grandscape.com
SUMMARY:Gilmore Girls Takeover
DESCRIPTION:It’s that time of the year again Gilmore Girls fans!\nGet ready to join us for the ultimate watch party on Wednesday\, October 16 from 6:00–9:00pm as we cozy up and enjoy some fall themed episodes of Gilmore Girls.\nEvent includes: \n\n	A fun Gilmore Girls themed photo op\n	 Snacks available for purchase \n\nBring your blankets and lawn chairs\, grab a coffee from Scheels or Liberation\, and snuggle up on the lawn with the Rory to your Lorelai. We’ll see you there! \nEpisodes: \n\n	S1E7 Kiss and Tell\n	S4E9 Ted Koppel’s Big Night out\n	S5E2 A Messenger\, Nothing More\n\nEvent location – The Stage and Lawn at Grandscape\nLooking for parking? Use our free parking garage! 
URL:https://www.grandscape.com/event/gilmore-girls-takeover-2/2024-10-16/
LOCATION:Stage & Lawn\, 5752 Grandscape Blvd.\, The Colony\, TX\, 75056\, United States
CATEGORIES:Watch Parties
ATTACH;FMTTYPE=image/jpeg:https://www.grandscape.com/wp-content/uploads/2024/09/GS_Gilmore-Girls_Website_960x500.jpg
END:VEVENT
BEGIN:VEVENT
DTSTART;TZID=America/Chicago:20241017T180000
DTEND;TZID=America/Chicago:20241017T210000
DTSTAMP:20260419T084929
CREATED:20241001T164330Z
LAST-MODIFIED:20241016T192101Z
UID:12518-1729188000-1729198800@www.grandscape.com
SUMMARY:Halloween Spirits Walk
DESCRIPTION:TICKETS SOLD OUT.\nGet ready for some EERIE-sistable craft cocktails at our third annual Spirits Walk on Thursday\, October 17 from 6:00-9:00pm! Join us for some adult trick-or-treating with Halloween cocktail samples from your favorite Grandscape restaurants and shops.\nTickets for your tasting journey are $25+tax and include:\n\n	10+ Drink Samples\n	Photo Ops\n\nThis event is 21 & up. Photo ID required at check-in.\nLooking for parking? Use our free parking garage.
URL:https://www.grandscape.com/event/halloween-spirits-walk-2/2024-10-17/
LOCATION:Stage & Lawn\, 5752 Grandscape Blvd.\, The Colony\, TX\, 75056\, United States
CATEGORIES:21+
ATTACH;FMTTYPE=image/jpeg:https://www.grandscape.com/wp-content/uploads/2024/10/GS_Halloween-Spirits-Walk_Website_960x500.jpg
END:VEVENT
BEGIN:VEVENT
DTSTART;TZID=America/Chicago:20241018T190000
DTEND;TZID=America/Chicago:20241018T210000
DTSTAMP:20260419T084929
CREATED:20241008T204109Z
LAST-MODIFIED:20241014T184320Z
UID:12553-1729278000-1729285200@www.grandscape.com
SUMMARY:Live on the Stage: Like Combs
DESCRIPTION:Five\, four\, three\, two\, one… too many fun concerts! \nGrab your cowboy hat and boots for a fun country night out at Grandscape! Like Combs will be LIVE on the Grandscape Stage & Lawn on Friday\, October 18 from 7:00-9:00pm\, Presented by NextCare Urgent Care. This show is FREE to the public. Enjoy the concert from our vast lawn by bringing a blanket or lawn chair!\nNo outside alcohol or coolers are allowed. Please visit event faq for more information.\nLooking for parking? Use our free parking garage\nGrandscape is a large outdoor shopping center with plenty of food and dining options to enjoy before the concert.\n 
URL:https://www.grandscape.com/event/live-on-the-stage-like-combs/2024-10-18/
LOCATION:Stage & Lawn\, 5752 Grandscape Blvd.\, The Colony\, TX\, 75056\, United States
CATEGORIES:Concert
ATTACH;FMTTYPE=image/jpeg:https://www.grandscape.com/wp-content/uploads/2024/09/GS_Live-on-the-Stage_Website_960x500_NextCare.jpg
END:VEVENT
BEGIN:VEVENT
DTSTART;TZID=America/Chicago:20241019T190000
DTEND;TZID=America/Chicago:20241019T210000
DTSTAMP:20260419T084929
CREATED:20241016T152753Z
LAST-MODIFIED:20241016T152902Z
UID:12588-1729364400-1729371600@www.grandscape.com
SUMMARY:Live on the Stage: Fleetwood Journey
DESCRIPTION:Get ready for an unforgettable night! Fleetwood Journey is set to light up the Grandscape Stage & Lawn on Saturday\, October 19 from 7:00-9:00pm\, Presented by NextCare Urgent Care. This show is FREE to the public. Enjoy the concert from our vast lawn by bringing a blanket or lawn chair! And trust us\, nobody brings the magic of Journey to life quite like Fleetwood Journey!\nNo outside alcohol or coolers are allowed. Please visit event faq for more information.\nLooking for parking? Use our free parking garage\nGrandscape is a large outdoor shopping center with plenty of food and dining options to enjoy before the concert.
URL:https://www.grandscape.com/event/live-on-the-stage-fleetwood-journey/2024-10-19/
LOCATION:Stage & Lawn\, 5752 Grandscape Blvd.\, The Colony\, TX\, 75056\, United States
CATEGORIES:Concert
ATTACH;FMTTYPE=image/jpeg:https://www.grandscape.com/wp-content/uploads/2024/09/GS_Live-on-the-Stage_Website_960x500_NextCare.jpg
END:VEVENT
BEGIN:VEVENT
DTSTART;TZID=America/Chicago:20241020T120000
DTEND;TZID=America/Chicago:20241020T190000
DTSTAMP:20260419T084929
CREATED:20240911T183500Z
LAST-MODIFIED:20240911T183500Z
UID:12444-1729425600-1729450800@www.grandscape.com
SUMMARY:10th Annual Drummathon
DESCRIPTION:Join us during Breast Cancer Awareness month for our 10th Annual Drummathon! Drummathon is a FREE event at Grandscape\, benefiting Breast Cancer Can Stick It!\, an official 501c3 nonprofit founded by Dallas-area drummer and breast cancer survivor\, April Samuels. The event will feature live music interspersed with drum solos as well as performances by celebrity rock star drummers – with a chance for guests to drum alongside them! Simultaneously\, attendees to this free family-friendly event can visit shops\, restaurants\, vendor booths\, and autograph booths as well as browse and sign up for auctions. While at the show\, emcees will also throw out an array of giveaways! Proceeds go towards mammograms\, research and trials\, as well as towards financial assistance for breast cancer treatment. Join us in making an impact in the fight against breast cancer.\nFor more information\, and for a video glimpse into the spirit of Drummathon\, please visit drummathon.org
URL:https://www.grandscape.com/event/10th-annual-drummathon/2024-10-20/
LOCATION:Stage & Lawn\, 5752 Grandscape Blvd.\, The Colony\, TX\, 75056\, United States
CATEGORIES:Charities & Fundraising,Concert
ATTACH;FMTTYPE=image/png:https://www.grandscape.com/wp-content/uploads/2024/09/Drummaton-X-grandscape-site.png
END:VEVENT
BEGIN:VEVENT
DTSTART;TZID=America/Chicago:20241022T183000
DTEND;TZID=America/Chicago:20241022T220000
DTSTAMP:20260419T084929
CREATED:20240930T143146Z
LAST-MODIFIED:20240930T143240Z
UID:12499-1729621800-1729634400@www.grandscape.com
SUMMARY:Mercado Night at Seven Doors Kitchen & Cocktails
DESCRIPTION:4 STREET FOOD STATIONS &\n4 COCKTAIL PAIRINGS \nUpon arrival\, receive 4 tokens\, walk around our “mercado” and enjoy Executive Chef Jake Quintana’s collection of traditional Jalisco Street food carts with Elotes\, Birria\, Tacos\, Gorditas & Mexican Dulces – each cart paired with a themed cocktail.\nLIVE MUSIC & DANCING\nSoak up the Día de Los Muertos atmosphere with live Mexican music and dancing under the stars! Plus\, hand-rolled cigars by elite master craftsman Williams Cigars. 
URL:https://www.grandscape.com/event/mercado-night-at-seven-doors-kitchen-cocktails/2024-10-22/
LOCATION:Seven Doors Kitchen & Cocktails
CATEGORIES:Food & Drink
ATTACH;FMTTYPE=image/jpeg:https://www.grandscape.com/wp-content/uploads/2024/09/thumbnail_7D-Mercado-Night-960x500-1.jpg
END:VEVENT
BEGIN:VEVENT
DTSTART;TZID=America/Chicago:20241023T090000
DTEND;TZID=America/Chicago:20241023T170000
DTSTAMP:20260419T084929
CREATED:20240812T160133Z
LAST-MODIFIED:20240812T160328Z
UID:12265-1729674000-1729702800@www.grandscape.com
SUMMARY:METRO-City Clash Choir Contest
DESCRIPTION:The METRO-City Clash Choir Contest is open to all middle and high school treble\, tenor-bass\, and mixed choirs. Each choir will prepare 2 pieces\, any style\, and must be sung a cappella. The purpose of the METRO-City Clash is to provide an opportunity for middle school & high school choirs to perform a cappella music for outstanding judges in the fall semester\, all while strengthening student relationships and building your choral team!\nHIGH SCHOOL – Complete the form\, one per choir\, via Google Form. Click HERE\nMIDDLE SCHOOL – Complete the form\, one per choir\, via Google Form. Click HERE\n 
URL:https://www.grandscape.com/event/metro-city-clash-choir-contest/2024-10-23/
LOCATION:Stage & Lawn\, 5752 Grandscape Blvd.\, The Colony\, TX\, 75056\, United States
CATEGORIES:Performing & Visual Arts
ATTACH;FMTTYPE=image/png:https://www.grandscape.com/wp-content/uploads/2024/08/thumbnail_image001.png
END:VEVENT
BEGIN:VEVENT
DTSTART;TZID=America/Chicago:20241025T190000
DTEND;TZID=America/Chicago:20241025T210000
DTSTAMP:20260419T084929
CREATED:20241024T160535Z
LAST-MODIFIED:20241024T160535Z
UID:12647-1729882800-1729890000@www.grandscape.com
SUMMARY:MLB World Series: Yankees @ Dodgers (Game 1) at Cosm
DESCRIPTION:[Time subject to change*] Be a part of the action as the New York Yankees take on the Los Angeles Dodgers in Shared Reality at Cosm.\nExperience the MLB Playoffs like never before. It’s an all-time classic in the Fall Classic. The Los Angeles Dodgers face the New York Yankees for an MLB-record 12th time in the World Series\, but it’s the first time since 1981. It’s been 15 years since the Yankees added to their record 27 World Series titles. The Dodgers are seeking their second World Series win in four seasons. Take the World Series to a new level\, putting you right in the action on the diamond.\n*Event times hosted by Cosm may be subject to change due to scheduling conflicts. Cosm reserves the right\, at its sole discretion\, to adjust the start or end time of your event\, without notice\, which may differ from the time listed on your original ticket.
URL:https://www.grandscape.com/event/mlb-world-series-yankees-dodgers-game-1-at-cosm/2024-10-25/
LOCATION:Cosm
CATEGORIES:Sports
ATTACH;FMTTYPE=image/webp:https://www.grandscape.com/wp-content/uploads/2024/10/MLB_WorldSeries-scaled.webp
END:VEVENT
BEGIN:VEVENT
DTSTART;TZID=America/Chicago:20241025T200000
DTEND;TZID=America/Chicago:20241025T220000
DTSTAMP:20260419T084929
CREATED:20241014T155731Z
LAST-MODIFIED:20241014T155731Z
UID:12579-1729886400-1729893600@www.grandscape.com
SUMMARY:Live on the Stage: Extended Play
DESCRIPTION:Are you ready for a thriller evening?\nCome out to see Extended Play give a spooky performance on the Grandscape Stage & Lawn on Friday\, October 25 from 8:00-10:00pm\, Presented by NextCare Urgent Care. Before the show\, make sure to catch Plano West’s Showcase of The Little Mermaid. This show is FREE to the public. Enjoy the concert from our vast lawn by bringing a blanket or lawn chair!\nNo outside alcohol or coolers are allowed. Please visit event faq for more information.\nLooking for parking? Use our free parking garage!\nGrandscape is a large outdoor shopping center with plenty of food and dining options to enjoy before the concert.
URL:https://www.grandscape.com/event/live-on-the-stage-extended-play-2/2024-10-25/
LOCATION:Stage & Lawn\, 5752 Grandscape Blvd.\, The Colony\, TX\, 75056\, United States
CATEGORIES:Concert
ATTACH;FMTTYPE=image/jpeg:https://www.grandscape.com/wp-content/uploads/2024/10/GS_Live-on-the-Stage_Website_960x500_Extended-Play.jpg
END:VEVENT
BEGIN:VEVENT
DTSTART;VALUE=DATE:20241026
DTEND;VALUE=DATE:20241027
DTSTAMP:20260419T084929
CREATED:20240924T174653Z
LAST-MODIFIED:20240924T174653Z
UID:12480-1729900800-1729987199@www.grandscape.com
SUMMARY:Halloween Party at Truck Yard
DESCRIPTION:Trick or Treat Yourself at Truck Yard’s annual Halloween party on Saturday\, October 26. Wear a costume and bring your dog for a chance to win a prize! Enjoy free live music\, killer food trucks\, and spooky cocktails that’ll make you boo-ze it up all night long.\nCONTESTS & ACTIVITIES:\n\n	3:30PM Kids Costume Contest\n	6:00PM Dog Costume Contest\n	6:00-9:00PM Spooky Photo Booth\n	7:30PM Adult Contest\n	8:00-10:00PM Fortune Teller\n\nLIVE MUSIC\n\n	Noon-3:00PM\n	4:00-7:30PM\n	8:30-11:30PM\n\nCOSTUME CONTEST INFO\nDog Costume Contest: You know your dog’s a star—now prove it! $100 Gift Card for 1st place\, $50 for 2nd\, $20 for 3rd + Trophies for 1st-3rd & Doggie Swag Bags.\nAdult Costume Contest: Whether you’re channeling creepy\, comical\, or just plain crazy\, it’s your time to shine. $250 Gift Card for 1st place\, $50 for 2nd\, $20 for 3rd + Trophies for 1st-3rd & Swag Bags.\nKids Costume Contest: They may be little\, but the competition is fierce! With categories for 0-5\, 6-9\, and 10-13 years old\, each 1st place winner gets a trophy\, with all contestants walking away with a participation prize!\nBasically\, show up\, eat\, drink\, and compete for the crown of Halloween greatness. Costumes are mandatory. Ghosting is not.\nCOSTUME CONTEST – HOW TO ENTER\nPre-registration available online. 1 ticket per entry. If online tickets show ‘SOLD OUT’\, you can sign up onsite day of the party while spots last. Contest signups are available on a first come\, first served basis so get there early to save yourself a spot.\n****This event is free and family friendly. At 9PM we go 21+
URL:https://www.grandscape.com/event/halloween-party-at-truck-yard/2024-10-26/
LOCATION:Truck Yard
CATEGORIES:Food & Drink,Parties
ATTACH;FMTTYPE=image/png:https://www.grandscape.com/wp-content/uploads/2024/09/2410-Halloween_Grandscape-960x500-1.png
END:VEVENT
BEGIN:VEVENT
DTSTART;TZID=America/Chicago:20241026T110000
DTEND;TZID=America/Chicago:20241026T130000
DTSTAMP:20260419T084929
CREATED:20241022T134748Z
LAST-MODIFIED:20241022T134748Z
UID:12614-1729940400-1729947600@www.grandscape.com
SUMMARY:Trick or Treat at Scheels
DESCRIPTION:Join us for a FREE in-store Halloween celebration on Saturday\, October 26th from 11am – 1pm.\nGet dressed in your Halloween costumes\, and bring a candy bag or bucket! Come ready to fill it to the top with sweet treats! \n\n	10 Trick-or-Treat stations around the store\n	Photo ops\n	Fun for all\n\nThis event is FREE. We can’t wait to see the whole family there! \n**The health and safety of our customers and associates will remain our #1 priority during this SCHEELS event.**
URL:https://www.grandscape.com/event/trick-or-treat-at-scheels/2024-10-26/
LOCATION:Scheels
CATEGORIES:Kid Friendly
ATTACH;FMTTYPE=image/png:https://www.grandscape.com/wp-content/uploads/2024/10/1920x1080_TC_Scheels-Trick-or-Treat_2024.png
END:VEVENT
BEGIN:VEVENT
DTSTART;TZID=America/Chicago:20241026T160000
DTEND;TZID=America/Chicago:20241026T220000
DTSTAMP:20260419T084929
CREATED:20241001T151404Z
LAST-MODIFIED:20241001T151457Z
UID:12512-1729958400-1729980000@www.grandscape.com
SUMMARY:The Melting Pot Market: HallowFest
DESCRIPTION:Join The Melting Pot Market on October 26th for HALLOWFEST : A Halloween Market.\n\nFeaturing 70+ Vendors\, Brand Activations\, Free Trick Or’ Treating Stations\, A Spooky Photobooth\, Lawn Games\, Dj Sets\, Exclusive Drops and much more! \nGet Free Tickets to event here : LINK \n\nThis event is free and open to the public\, but guests can purchase items from our vendor market throughout the event.\nLooking for parking? Use our free parking garage\n\nGrandscape is a large outdoor shopping center with endless food and dining. Please feel free to shop around The Homestead and grab a bite to eat at one of our many restaurants before or after the event!
URL:https://www.grandscape.com/event/the-melting-pot-market-hallowfest/2024-10-26/
LOCATION:Stage & Lawn\, 5752 Grandscape Blvd.\, The Colony\, TX\, 75056\, United States
CATEGORIES:Vendor Market
ATTACH;FMTTYPE=image/png:https://www.grandscape.com/wp-content/uploads/2024/10/GetAttachmentThumbnail.png
END:VEVENT
BEGIN:VEVENT
DTSTART;TZID=America/Chicago:20241026T190000
DTEND;TZID=America/Chicago:20241026T210000
DTSTAMP:20260419T084929
CREATED:20241021T155758Z
LAST-MODIFIED:20241021T155758Z
UID:12604-1729969200-1729976400@www.grandscape.com
SUMMARY:Sgt. Splendor feat. Kate Vargas & Eric McFadden at Windmills Brewery
DESCRIPTION:Before joining forces\, Kate Vargas and Eric McFadden were already acclaimed artists. Vargas earned praise from outlets like NPR and Vice\, while McFadden built a career playing with legends like George Clinton & P-Funk and Eric Burdon.\nAs Sgt. Splendor\, they blend their talents into a unique sound\, merging alt-funk\, desert rock\, and gritty blues. Their music is groovy yet brooding\, with Vargas’ powerful vocals and McFadden’s masterful guitar creating a memorable\, intense experience.
URL:https://www.grandscape.com/event/sgt-splendor-feat-kate-vargas-eric-mcfadden-at-windmills-brewery/2024-10-26/
LOCATION:Windmills Brewery
CATEGORIES:Concert
ATTACH;FMTTYPE=image/jpeg:https://www.grandscape.com/wp-content/uploads/2024/10/Sgt.-Splendor-Kate-digital-creatives_Grandscape.jpg
END:VEVENT
BEGIN:VEVENT
DTSTART;TZID=America/Chicago:20241027T150000
DTEND;TZID=America/Chicago:20241027T170000
DTSTAMP:20260419T084929
CREATED:20241024T160149Z
LAST-MODIFIED:20241024T160149Z
UID:12645-1730041200-1730048400@www.grandscape.com
SUMMARY:NFL: Bills @ Seahawks at Cosm
DESCRIPTION:[Time subject to change*] Catch the Buffalo Bills take on the Seattle Seahawks on FOX NFL Sunday on Sunday\, 10/27 at 3:00p CT in Shared Reality in The Dome.\nDates\, Times\, and Matchups are subject to change. If Event is delayed or suspended\, see guest services for more info.\nThe content shown at this Event is protected by copyright. The use of cell phones or any other recording devices to live-stream or otherwise copy the on-screen Event presentation is strictly prohibited. If you do so\, you consent to your immediate removal from the Event and the forfeiture of any Event content in your possession. Thank you for your understanding and cooperation\n*Event times hosted by Cosm may be subject to change due to scheduling conflicts. Cosm reserves the right\, at its sole discretion\, to adjust the start or end time of your event\, without notice\, which may differ from the time listed on your original ticket.
URL:https://www.grandscape.com/event/nfl-bills-seahawks-at-cosm/2024-10-27/
LOCATION:Cosm
CATEGORIES:Sports
ATTACH;FMTTYPE=image/webp:https://www.grandscape.com/wp-content/uploads/2024/10/NFL_BillsSeahawks-scaled.webp
END:VEVENT
BEGIN:VEVENT
DTSTART;TZID=America/Chicago:20241027T180000
DTEND;TZID=America/Chicago:20241027T210000
DTSTAMP:20260419T084929
CREATED:20240927T183737Z
LAST-MODIFIED:20241021T205130Z
UID:12490-1730052000-1730062800@www.grandscape.com
SUMMARY:Night of Freedom
DESCRIPTION:Story Bloom Events Presents: Night of Freedom!  Join us for an incredible night of hope and inspiration under the stars at Grandscape! Award winning artists Charity Gayle\, Michael Bethany and Ke’Erron will be LIVE in Concert! In addition\, there will be give-a-ways\, photo ops\, and much more! Bring your lawn chair and we hope to see you there!
URL:https://www.grandscape.com/event/night-of-freedom/2024-10-27/
LOCATION:Stage & Lawn\, 5752 Grandscape Blvd.\, The Colony\, TX\, 75056\, United States
CATEGORIES:Concert
ATTACH;FMTTYPE=image/png:https://www.grandscape.com/wp-content/uploads/2024/09/Brown-and-Orange-Collage-Music-Concert-Poster-960-x-500-px.png
END:VEVENT
BEGIN:VEVENT
DTSTART;TZID=America/Chicago:20241029T183000
DTEND;TZID=America/Chicago:20241029T210000
DTSTAMP:20260419T084929
CREATED:20241024T154955Z
LAST-MODIFIED:20241024T155519Z
UID:12640-1730226600-1730235600@www.grandscape.com
SUMMARY:NBA: Mavericks @ Timberwolves at Cosm
DESCRIPTION:[Time subject to change*] Be part of the action as the Dallas Mavericks take on the Minnesota Timberwolves in Shared Reality at Cosm.\nTake the NBA to a new level where every play comes to life\, putting you right on the court. Wrap yourself in the heart-pounding action of every foul\, three-pointer\, and dunk. Experience the game like never before.\nThe content shown at this Event is protected by copyright. The use of cell phones or any other recording devices to live-stream or otherwise materially copy the on-screen Event presentation is strictly prohibited. If you do so\, you consent to your immediate removal from the Event and the forfeiture of any Event content in your possession. Thank you for your understanding and cooperation.\nDates\, Times\, and Matchups are subject to change.\n*Event times hosted by Cosm may be subject to change due to scheduling conflicts. Cosm reserves the right\, at its sole discretion\, to adjust the start or end time of your event\, without notice\, which may differ from the time listed on your original ticket.
URL:https://www.grandscape.com/event/nba-mavericks-vs-timberwolves-at-cosm/2024-10-29/
LOCATION:Cosm
CATEGORIES:Sports
ATTACH;FMTTYPE=image/webp:https://www.grandscape.com/wp-content/uploads/2024/10/NBA_MavericksTimberwolves-scaled.webp
END:VEVENT
END:VCALENDAR