BEGIN:VCALENDAR
VERSION:2.0
PRODID:-//Grandscape - ECPv6.15.16//NONSGML v1.0//EN
CALSCALE:GREGORIAN
METHOD:PUBLISH
X-ORIGINAL-URL:https://www.grandscape.com
X-WR-CALDESC:Events for Grandscape
REFRESH-INTERVAL;VALUE=DURATION:PT1H
X-Robots-Tag:noindex
X-PUBLISHED-TTL:PT1H
BEGIN:VTIMEZONE
TZID:America/Chicago
BEGIN:DAYLIGHT
TZOFFSETFROM:-0600
TZOFFSETTO:-0500
TZNAME:CDT
DTSTART:20240310T080000
END:DAYLIGHT
BEGIN:STANDARD
TZOFFSETFROM:-0500
TZOFFSETTO:-0600
TZNAME:CST
DTSTART:20241103T070000
END:STANDARD
BEGIN:DAYLIGHT
TZOFFSETFROM:-0600
TZOFFSETTO:-0500
TZNAME:CDT
DTSTART:20250309T080000
END:DAYLIGHT
BEGIN:STANDARD
TZOFFSETFROM:-0500
TZOFFSETTO:-0600
TZNAME:CST
DTSTART:20251102T070000
END:STANDARD
BEGIN:DAYLIGHT
TZOFFSETFROM:-0600
TZOFFSETTO:-0500
TZNAME:CDT
DTSTART:20260308T080000
END:DAYLIGHT
BEGIN:STANDARD
TZOFFSETFROM:-0500
TZOFFSETTO:-0600
TZNAME:CST
DTSTART:20261101T070000
END:STANDARD
END:VTIMEZONE
BEGIN:VEVENT
DTSTART;TZID=America/Chicago:20250721T203000
DTEND;TZID=America/Chicago:20250721T223000
DTSTAMP:20260421T063859
CREATED:20250718T162818Z
LAST-MODIFIED:20250718T162818Z
UID:14814-1753129800-1753137000@www.grandscape.com
SUMMARY:The Matrix in Shared Reality at Cosm
DESCRIPTION:Are you ready to question reality? We’ll show you the door. Enter “The Matrix” in Shared Reality—a mind-bending\, fully immersive experience like no other.\nIn partnership with Warner Bros. Pictures and Emmy-nominated studio Little Cinema\, Cosm is bringing “The Matrix” to life in a groundbreaking celebration of its 25th anniversary. Experience the film as it unfolds around you on Cosm’s massive 87-foot LED dome\, with visuals that dynamically interact with the action on screen.\nUnfortunately\, no one can be told what the Matrix is. You have to see it for yourself. Free your mind and experience the true magnitude of “The Matrix” in this exclusive cinematic event.\nEnhance your journey with curated food and drink available for purchase. Ask about the tasting menu when you arrive to ignite your senses and dive even deeper into the world of “The Matrix”.\nContains adult material; under 17 requires accompanying parent or adult guardian. Please keep in mind that some parts of this event may include flashing lights\, strobing effects\, or other visual elements that may cause discomfort for photosensitive individuals. Feel free to contact our customer service team if you need any assistance. We are committed to making sure your experience is enjoyable.
URL:https://www.grandscape.com/event/the-matrix-in-shared-reality-at-cosm-6/2025-07-21/
LOCATION:Cosm
CATEGORIES:Food & Drink
ATTACH;FMTTYPE=image/webp:https://www.grandscape.com/wp-content/uploads/2025/07/2505_Fever_Matrix_v1-scaled.webp
END:VEVENT
BEGIN:VEVENT
DTSTART;TZID=America/Chicago:20250723T183000
DTEND;TZID=America/Chicago:20250723T203000
DTSTAMP:20260421T063859
CREATED:20250520T144417Z
LAST-MODIFIED:20250520T144417Z
UID:14365-1753295400-1753302600@www.grandscape.com
SUMMARY:Smooth Summer Jams Series
DESCRIPTION:Whether you’re winding down after work or looking for a mellow midweek hang\, The Grotto is your go-to groove spot all summer long.\nThe Smooth Summer Jams series will be bringing soulful\, jazz music by Vandell Andrews to The Grotto Wednesday\, July 23 from 6:30-8:30pm. \nCan’t make it this day? No worries! Grandscape’s Smooth Summer Jams series is every 2nd and 4th Wednesday of the month\, June through August\, from 6:30-8:30pm in The Grotto! \nThis show is FREE to the public. Enjoy the concert from one of our Grotto tenant’s patios or by bringing a lawn chair! \nNo outside alcohol or coolers are allowed. Please visit event faq for more information. \nWondering what The Grotto is? Unwind\, dine\, and delight in this outdoor oasis found at the heart of Grandscape. Explore the lower and upper levels of The Grotto with unique dining experiences and patio scenes you won’t want to miss.
URL:https://www.grandscape.com/event/smooth-summer-jams-series-4/2025-07-23/
LOCATION:The Grotto
CATEGORIES:Concert
ATTACH;FMTTYPE=image/jpeg:https://www.grandscape.com/wp-content/uploads/2025/05/GS_Smooth-Summer-Jams-Series_Website_960x500.jpg
END:VEVENT
BEGIN:VEVENT
DTSTART;TZID=America/Chicago:20250724T200000
DTEND;TZID=America/Chicago:20250724T230000
DTSTAMP:20260421T063859
CREATED:20250624T152350Z
LAST-MODIFIED:20250709T171614Z
UID:14642-1753387200-1753398000@www.grandscape.com
SUMMARY:Havana High Stakes
DESCRIPTION:Join us on Thursday\, July 24 from 8:00 – 11:00pm as we celebrate in The Grotto with an exciting Casinos Havana Night sponsored by Choctaw Casino and Resorts. Test your luck and unwind with a night full of live music\, tropical drinks\, and prizes for everyone to win.\nEvent Location – The Grotto\nEvent cost – $30.00 + taxes and fees\nYour ticket includes:\n\n	A complimentary drink from the JĀKÖ patio\n	Exclusive photo opportunities\n	A hand rolled cigar\n	Play money to use at casino tables\n	Plenty of chances to win prizes\n\nLuck is in the air\, the drinks are chill\, the games are hot\, and the memories? JACKPOT!\nCheck-in will close promptly at 10:00pm. This event is 21 & up. Photo ID required at check-in. Check-in times are limited to ensure for a smooth and easy check-in process\, so don’t miss out on buying tickets now before they sell out.\nWondering what The Grotto is? Unwind\, dine\, and delight in this outdoor oasis found at the heart of Grandscape. Experience a sunken garden\, with lush plantings\, live walls\, water features\, two levels of unique dining experiences and patio scenes you won’t want to miss.\nParking is easy in our free parking garage! In addition to the parking lot\, there is an underground garage is located right across from the Grandscape Wheel.
URL:https://www.grandscape.com/event/havana-high-stakes/2025-07-24/
LOCATION:The Grotto
CATEGORIES:21+
ATTACH;FMTTYPE=image/jpeg:https://www.grandscape.com/wp-content/uploads/2025/06/GS_Havana-High-Stakes_Website-Event_960x500.jpg
END:VEVENT
BEGIN:VEVENT
DTSTART;TZID=America/Chicago:20250724T200000
DTEND;TZID=America/Chicago:20250724T230000
DTSTAMP:20260421T063859
CREATED:20250716T185249Z
LAST-MODIFIED:20250716T185249Z
UID:14797-1753387200-1753398000@www.grandscape.com
SUMMARY:Salsa Night at JĀKÖ Cocina y Agave
DESCRIPTION:Join us every Thursday from 8–11 PM for live salsa music! Enjoy delicious dining and dance the night away with our vibrant salsa band.
URL:https://www.grandscape.com/event/salsa-night-at-jako-cocina-y-agave-2/2025-07-24/
CATEGORIES:Food & Drink
ATTACH;FMTTYPE=application/pdf:https://www.grandscape.com/wp-content/uploads/2025/07/SALSA-JAKO.pdf
END:VEVENT
BEGIN:VEVENT
DTSTART;VALUE=DATE:20250725
DTEND;VALUE=DATE:20250726
DTSTAMP:20260421T063859
CREATED:20250716T191641Z
LAST-MODIFIED:20250716T191641Z
UID:14800-1753401600-1753487999@www.grandscape.com
SUMMARY:Give Back Event at Walk-On's Sports Bistreaux
DESCRIPTION:15% of food sales will benefit Community Foundation of the Texas Hill Country on Friday\, July 25th from 11:00am-12:00am. Dine-in and to-go. \nMention Organization to a team member to support. 
URL:https://www.grandscape.com/event/give-back-event-at-walk-ons-sports-bistreaux/2025-07-25/
LOCATION:Walk-On’s Sports Bistreaux
CATEGORIES:Food & Drink
ATTACH;FMTTYPE=image/jpeg:https://www.grandscape.com/wp-content/uploads/2025/07/GetAttachmentThumbnail-3.jpg
END:VEVENT
BEGIN:VEVENT
DTSTART;TZID=America/Chicago:20250725T190000
DTEND;TZID=America/Chicago:20250725T210000
DTSTAMP:20260421T063859
CREATED:20250625T182442Z
LAST-MODIFIED:20250625T182442Z
UID:14656-1753470000-1753477200@www.grandscape.com
SUMMARY:The Funky Knuckles at Windmills Brewery
DESCRIPTION:Funky Knuckles is a Dallas based funk fusion band that have performed alongside Janet Jackson and Stanley Clarke.  They bring a unique sound and have performed at some of the biggest venues around the country.  A full menu and bar will be available throughout the entire night.\n\n	July 25\n	7:00 PM\n	Windmills – 5755 Grandscape Blvd\, The Colony\, TX 75056\n\nTickets available here
URL:https://www.grandscape.com/event/the-funky-knuckles-at-windmills-brewery-2/2025-07-25/
LOCATION:Windmills Brewery
CATEGORIES:Concert
ATTACH;FMTTYPE=image/jpeg:https://www.grandscape.com/wp-content/uploads/2025/06/GetAttachmentThumbnail-3.jpg
END:VEVENT
BEGIN:VEVENT
DTSTART;TZID=America/Chicago:20250725T200000
DTEND;TZID=America/Chicago:20250725T220000
DTSTAMP:20260421T063859
CREATED:20250605T203538Z
LAST-MODIFIED:20250717T194159Z
UID:14536-1753473600-1753480800@www.grandscape.com
SUMMARY:Sounds of Summer: Christmas in July
DESCRIPTION:We are escaping to paradise this summer with the ultimate Jimmy Buffett tribute band\, as they bring the laid-back vibes of the Tropics to a Christmas in July like no other!   \nLost Shaker of Salt will be LIVE on the stage on Friday\, July 25 from 8:00-10:00pm\, presented by Corona. All your favorite Buffett tunes combined with a holiday twist to celebrate Christmas in the sun!  \nGet ready for a jolly good time as Santa enjoys his summer vacation at Grandscape! Whether you’re naughty or nice\, don’t miss the chance to celebrate the magic of Christmas summer-style! Bring the whole family\, wear your best tropical holiday outfit\, and make mid-year memories with Santa under the sun. Don’t forget to snap a picture with Summer Santa and tag us! \nCan’t make it to this concert? No worries! Grandscape’s Sounds of Summer series is every Friday\, June through August\, from 8:00-10:00pm! \nTicketed Options: \n$14 Reserved Open Seating:\n\n	This will reserve you space on the lawn behind the Adirondack Chairs.\n	Seating NOT provided. Must bring your own lawn chairs or blankets.\n	Access to The Colony Wine Bar kiosk.\n\n$18 Adirondack Chairs:\n\n	These Adirondack Chairs are at the front of the lawn.\n	First come first serve on location of Adirondack Chair.\n	Access to The Colony Wine Bar kiosk.\n\n*Children under 5 do not need a ticket.\n**Ticket prices will increase day of event.\nOpen Seating \nThis show is FREE to the public. \nEnjoy the concert from our vast lawn by bringing a blanket or lawn chair! \nNo outside alcohol or coolers are allowed. Please visit event faq for more information. \nLooking for parking? Use our free parking garage. \nGrandscape is a large outdoor shopping center with plenty of food and dining options to enjoy before the concert. 
URL:https://www.grandscape.com/event/sounds-of-summer-christmas-in-july/2025-07-25/
LOCATION:Corona Stage & Lawn
CATEGORIES:Concert
ATTACH;FMTTYPE=image/jpeg:https://www.grandscape.com/wp-content/uploads/2025/06/GS_Sounds-of-Summer_Website_960x500_Lost-Shaker-of-Salt.jpg
END:VEVENT
BEGIN:VEVENT
DTSTART;TZID=America/Chicago:20250726T083000
DTEND;TZID=America/Chicago:20250726T093000
DTSTAMP:20260421T063859
CREATED:20250707T175918Z
LAST-MODIFIED:20250707T175918Z
UID:14719-1753518600-1753522200@www.grandscape.com
SUMMARY:Hustle House Outdoor Workout
DESCRIPTION:Join us for an outdoor workout inspired by the Hyrox competition. To beat the summer heat\, we are starting early. We will all work and sweat together.\nHYROX is a fitness competition that combines endurance training\, functional exercises\, and a high-intensity format.
URL:https://www.grandscape.com/event/hustle-house-outdoor-workout/2025-07-26/
LOCATION:Corona Stage & Lawn
CATEGORIES:Sports
ATTACH;FMTTYPE=image/png:https://www.grandscape.com/wp-content/uploads/2025/07/GetAttachmentThumbnail.png
END:VEVENT
BEGIN:VEVENT
DTSTART;TZID=America/Chicago:20250727T144500
DTEND;TZID=America/Chicago:20250727T163000
DTSTAMP:20260421T063859
CREATED:20250716T143549Z
LAST-MODIFIED:20250716T143549Z
UID:14778-1753627500-1753633800@www.grandscape.com
SUMMARY:PBR Teams: Duluth (Day 2) at Cosm
DESCRIPTION:Be a part of the action at Day 2 of PBR Teams: Duluth in Shared Reality at Cosm. Take professional bull riding to a new level\, putting you in the chute with the riders at the Gas South Arena in Georgia. [Time subject to change*]\nCome along for the ride and hang on tight as the world’s best riders team up for the ultimate bull riding competition. Surround yourself in the adrenaline-filled action of the most intense 8 seconds in sports. Experience PBR Teams like never before.\nDates\, Times\, and Matchups are subject to change.\n*Event times hosted by Cosm may be subject to change due to scheduling conflicts. Cosm reserves the right\, at its sole discretion\, to adjust the start or end time of your event\, without notice\, which may differ from the time listed on your original ticket.
URL:https://www.grandscape.com/event/pbr-teams-duluth-day-2-at-cosm/2025-07-27/
LOCATION:Cosm
CATEGORIES:Sports
ATTACH;FMTTYPE=image/webp:https://www.grandscape.com/wp-content/uploads/2025/07/250727_PBRTeams_Duluth_1920x1080-scaled.webp
END:VEVENT
BEGIN:VEVENT
DTSTART;TZID=America/Chicago:20250729T100000
DTEND;TZID=America/Chicago:20250729T123000
DTSTAMP:20260421T063859
CREATED:20250519T171800Z
LAST-MODIFIED:20250728T144718Z
UID:14357-1753783200-1753792200@www.grandscape.com
SUMMARY:Fun in the Sun: Grandscape Summer Splash Bash
DESCRIPTION:Splish\, Splash\, Party Bash!\n\nJoin us on Tuesday\, July 29 from 10:00am-12:30pm as we escape the Texas heat and dive into summer with a splash bash for every kid to enjoy\, presented by Baylor Scott & White Urgent Care+.\nAlso\, stick around as we invite the Boys and Girls Club of Collin County to take charge in a school supply drive to get ready for the upcoming year. So don’t forget to bring new and unused school supplies to be donated at the event. \nWhat to expect: \n\n	Foam Party\n	Giant Waterslide\n	Live DJ\n	Sweet treats available for purchase\n	Boys and Girls Club of Collin County\n\nDon’t forget to bring your swimsuits\, towels\, friends and energy as we make this summer one you won’t want to forget!\nThis event is FREE and open to the public!\nLocation – Stage & Lawn
URL:https://www.grandscape.com/event/fun-in-the-sun-grandscape-summer-splash-bash/2025-07-29/
LOCATION:Stage & Lawn\, 5752 Grandscape Blvd.\, The Colony\, TX\, 75056\, United States
CATEGORIES:Kid Friendly
ATTACH;FMTTYPE=image/jpeg:https://www.grandscape.com/wp-content/uploads/2025/05/GS_Fun-in-the-Sun_Website_960x500_Summer-Splash-Bash.jpg
END:VEVENT
BEGIN:VEVENT
DTSTART;TZID=America/Chicago:20250730T193000
DTEND;TZID=America/Chicago:20250730T210000
DTSTAMP:20260421T063859
CREATED:20250801T184056Z
LAST-MODIFIED:20250801T185711Z
UID:14908-1753903800-1753909200@www.grandscape.com
SUMMARY:“O” by Cirque du Soleil at Cosm
DESCRIPTION:Experience “O” by Cirque du Soleil in the groundbreaking new format of Cosm Shared Reality.\nCosm—a global leader in experiential media and immersive technology—is blending the physical space with the digital world to bring you a deeply immersive Cirque du Soleil experience in a new communal format.\n“O” in Shared Reality places you inside an 87-foot wraparound LED dome to witness the majesty of “O” in astonishing 12K+ resolution! No headsets. Just you and your friends sharing an unforgettable experience surrounded by acrobatics\, artistry\, and the dreamlike vignettes of Cirque du Soleil’s aquatic masterpiece.\nGather your friends for the visionary digital entertainment event of “O” in Cosm Shared Reality.\n\n	\nWednesday\, July 30th\, 2025 – 7:30pm\n\n	\nFriday\, August 1st\, 2025 – 4:30pm\n\n	\nSaturday\, August 9th\, 2025 – 10:30am\n\n	\nSunday\, August 10th\, 2025 – 5:00pm\n\n	\nMonday\, August 18th\, 2025 – 3:00pm\n\n	\nThursday\, August 28th\, 2025 – 2:00pm\n\n\n“O” by Cirque du Soleil is approximately 90 minutes. The show will begin promptly at the show start time listed on your ticket. Doors will open at least one hour before that time to allow you to explore The Hall and The Deck and find your seat in The Dome.\nSuitable for all ages. Please keep in mind that some parts of this event may include flashing lights\, strobing effects\, or other visual elements that may cause discomfort for photosensitive individuals. Feel free to contact our customer service team if you need any assistance. We are committed to making sure your experience is enjoyable.\nWalk-ins welcome. Subject to availability.
URL:https://www.grandscape.com/event/o-by-cirque-du-soleil-at-cosm-2/2025-07-30/
LOCATION:Cosm
ATTACH;FMTTYPE=image/webp:https://www.grandscape.com/wp-content/uploads/2025/08/2505_Fever_Cirque_v1-scaled.webp
END:VEVENT
BEGIN:VEVENT
DTSTART;TZID=America/Chicago:20250731T180000
DTEND;TZID=America/Chicago:20250731T210000
DTSTAMP:20260421T063859
CREATED:20250626T161932Z
LAST-MODIFIED:20250728T144800Z
UID:14663-1753984800-1753995600@www.grandscape.com
SUMMARY:Birdies\, Burgers & Brews at PopStroke
DESCRIPTION:PopStroke is teaming up with Union Bear Brewing Co. to host our 2nd annual Birdies\, Burgers\, and Brews Event!\nJoin us for 18 holes of mini-golf\, Union Bear Beers\, slider tastings\, giveaways\, and a sweet treat to top-off the night!\nTickets can be purchased here. PopStroke Club Members are granted FREE entry!\nMust be 21+. The event is rain or shine!
URL:https://www.grandscape.com/event/birdie-burgers-brews-at-popstroke/2025-07-31/
CATEGORIES:21+
ATTACH;FMTTYPE=image/png:https://www.grandscape.com/wp-content/uploads/2025/06/BBB-Colony.png
END:VEVENT
BEGIN:VEVENT
DTSTART;TZID=America/Chicago:20250731T200000
DTEND;TZID=America/Chicago:20250731T230000
DTSTAMP:20260421T063859
CREATED:20250716T185744Z
LAST-MODIFIED:20250728T145636Z
UID:14798-1753992000-1754002800@www.grandscape.com
SUMMARY:Salsa Night at JĀKÖ Cocina y Agave
DESCRIPTION:Join us every Thursday from 8–11 PM for live salsa music! Enjoy delicious dining and dance the night away with our vibrant salsa band.
URL:https://www.grandscape.com/event/salsa-night-at-jako-cocina-y-agave-3/2025-07-31/
CATEGORIES:Food & Drink
ATTACH;FMTTYPE=application/pdf:https://www.grandscape.com/wp-content/uploads/2025/07/SALSA-JAKO.pdf
END:VEVENT
BEGIN:VEVENT
DTSTART;VALUE=DATE:20250801
DTEND;VALUE=DATE:20250903
DTSTAMP:20260421T063859
CREATED:20250716T140458Z
LAST-MODIFIED:20250716T140458Z
UID:14772-1754006400-1756857599@www.grandscape.com
SUMMARY:A Conjuring of Scares at Galaxy Theatres
DESCRIPTION:Get ready to scream\, laugh nervously\, and clutch your popcorn—because Galaxy Theatres is dialing up the fear with A CONJURING OF SCARES\, a limited-time horror retrospective leading up to the terrifying release of THE CONJURING: LAST RITES.\nWe’re not just showing scary movies. We’re inviting you to relive the legends—on the big screen\, where every jump scare hits harder\, every creepy whisper echoes longer\, and every shadow seems a little too real.\nWhether you’re a die-hard horror fan or just looking for a thrilling night out\, this countdown is designed to give you chills in the best way possible. Trust us—it’s way more fun when you’re screaming with a crowd.\n \nThe Lineup That Haunts Your Dreams\nEach week\, we’re resurrecting a different horror favorite. Here’s the twisted timeline:\nPOLTERGEIST – August 1\, 4 & 5\nBEETLEJUICE – August 8\, 11 & 12\nCONSTANTINE – August 15\, 18 & 19 INSIDIOUS – August 22\, 25 & 26.\nFINAL DESTINATION – August 29\, September 1 & 2\n \nWhy Watch These Films at Galaxy?\nBecause horror is better with an audience. There’s something magical about the collective gasp during a jump scare\, or the shared laughter in a creepy-funny moment. At Galaxy Theatres\, you’re not just watching a movie—you’re immersed in it.\nWith our crystal-clear projection\, incredible sound systems\, comfy reclining seats\, and top-tier concessions\, you get to enjoy these films the way they were meant to be seen. Plus\, there’s just something extra scary about watching a horror film in the dark with strangers.\nAnd for a limited time\, you’ll get to relive these legends on the big screen\, exactly as they deserve.\n\nDon’t Wait—These Screenings Will Disappear\nEach film only plays on select dates\, and seats will go fast. Horror fans know: a scream is best shared. So gather your crew\, pick your favorite flick—or dare to face them all—and grab your tickets now.\n\n\nThe spirits are stirring. Are you in?\nGet your tickets now!
URL:https://www.grandscape.com/event/a-conjuring-of-scares-at-galaxy-theatres/2025-08-01/
LOCATION:Galaxy Theatres\, 5740 Grandscape Blvd\, Suite 100\, The Colony\, TX\, 75056
CATEGORIES:Watch Parties
ATTACH;FMTTYPE=image/jpeg:https://www.grandscape.com/wp-content/uploads/2025/07/thumbnail_ConjuringCountdown-Guest-Facing-1920-x-1080.jpg
END:VEVENT
BEGIN:VEVENT
DTSTART;TZID=America/Chicago:20250801T163000
DTEND;TZID=America/Chicago:20250801T180000
DTSTAMP:20260421T063859
CREATED:20250801T184056Z
LAST-MODIFIED:20250801T185713Z
UID:14922-1754065800-1754071200@www.grandscape.com
SUMMARY:“O” by Cirque du Soleil at Cosm
DESCRIPTION:Experience “O” by Cirque du Soleil in the groundbreaking new format of Cosm Shared Reality.\nCosm—a global leader in experiential media and immersive technology—is blending the physical space with the digital world to bring you a deeply immersive Cirque du Soleil experience in a new communal format.\n“O” in Shared Reality places you inside an 87-foot wraparound LED dome to witness the majesty of “O” in astonishing 12K+ resolution! No headsets. Just you and your friends sharing an unforgettable experience surrounded by acrobatics\, artistry\, and the dreamlike vignettes of Cirque du Soleil’s aquatic masterpiece.\nGather your friends for the visionary digital entertainment event of “O” in Cosm Shared Reality.\n\n	\nWednesday\, July 30th\, 2025 – 7:30pm\n\n	\nFriday\, August 1st\, 2025 – 4:30pm\n\n	\nSaturday\, August 9th\, 2025 – 10:30am\n\n	\nSunday\, August 10th\, 2025 – 5:00pm\n\n	\nMonday\, August 18th\, 2025 – 3:00pm\n\n	\nThursday\, August 28th\, 2025 – 2:00pm\n\n\n“O” by Cirque du Soleil is approximately 90 minutes. The show will begin promptly at the show start time listed on your ticket. Doors will open at least one hour before that time to allow you to explore The Hall and The Deck and find your seat in The Dome.\nSuitable for all ages. Please keep in mind that some parts of this event may include flashing lights\, strobing effects\, or other visual elements that may cause discomfort for photosensitive individuals. Feel free to contact our customer service team if you need any assistance. We are committed to making sure your experience is enjoyable.\nWalk-ins welcome. Subject to availability.
URL:https://www.grandscape.com/event/o-by-cirque-du-soleil-at-cosm-2/2025-08-01/
LOCATION:Cosm
ATTACH;FMTTYPE=image/webp:https://www.grandscape.com/wp-content/uploads/2025/08/2505_Fever_Cirque_v1-scaled.webp
END:VEVENT
BEGIN:VEVENT
DTSTART;TZID=America/Chicago:20250801T200000
DTEND;TZID=America/Chicago:20250801T220000
DTSTAMP:20260421T063859
CREATED:20250619T193813Z
LAST-MODIFIED:20250725T191218Z
UID:14621-1754078400-1754085600@www.grandscape.com
SUMMARY:Sounds of Summer: 90's Night
DESCRIPTION:Stop\, collaborate\, and listen — Emerald City’s back with a 90s mission! \nWe are gonna party like it’s 1995 with the Emerald City Band LIVE on The Grandscape Stage & Lawn on Friday\, August 1 from 8:00-10:00pm\, presented by Corona. This is one party you don’t want to miss. So grab your crew\, charge your beeper\, and let’s make it a night that’s all that and a bag of chips! \nTicketed Options: \n$10 General Admission Standing Room: \n\n	This standing room is right in front of the stage.\n	Lawn chairs or blankets are NOT allowed in this area.\n	Access to The Colony Wine Bar kiosk.\n\n$14 Reserved Open Seating: \n\n	This will reserve you space on the lawn behind the Picnic Tables.\n	Seating NOT provided. Must bring your own lawn chairs or blankets.\n	Access to The Colony Wine Bar kiosk.\n\n$90 Picnic Table for 6 People \n\n	These picnic tables are behind General Admission Standing Room.\n	Picnic table holds up to 6 people.\n	Access to The Colony Wine Bar kiosk.\n\n*Children under 5 do not need a ticket. \n**Ticket prices will increase day of event. \nCan’t make it to this concert? No worries! Grandscape’s Sounds of Summer series is every Friday\, June through August\, from 8:00-10:00pm!  \nNo outside alcohol or coolers are allowed. Please visit event faq for more information. \nLooking for parking? Use our free parking garage. \nGrandscape is a large outdoor shopping center with plenty of food and dining options to enjoy before the concert.
URL:https://www.grandscape.com/event/sounds-of-summer-90s-night/2025-08-01/
LOCATION:Corona Stage & Lawn
CATEGORIES:Concert
ATTACH;FMTTYPE=image/jpeg:https://www.grandscape.com/wp-content/uploads/2025/06/GS_Sounds-of-Summer_Generic-Website_960x500.jpg
END:VEVENT
END:VCALENDAR