BEGIN:VCALENDAR
VERSION:2.0
PRODID:-//Grandscape - ECPv6.15.16//NONSGML v1.0//EN
CALSCALE:GREGORIAN
METHOD:PUBLISH
X-WR-CALNAME:Grandscape
X-ORIGINAL-URL:https://www.grandscape.com
X-WR-CALDESC:Events for Grandscape
REFRESH-INTERVAL;VALUE=DURATION:PT1H
X-Robots-Tag:noindex
X-PUBLISHED-TTL:PT1H
BEGIN:VTIMEZONE
TZID:America/Chicago
BEGIN:DAYLIGHT
TZOFFSETFROM:-0600
TZOFFSETTO:-0500
TZNAME:CDT
DTSTART:20240310T080000
END:DAYLIGHT
BEGIN:STANDARD
TZOFFSETFROM:-0500
TZOFFSETTO:-0600
TZNAME:CST
DTSTART:20241103T070000
END:STANDARD
BEGIN:DAYLIGHT
TZOFFSETFROM:-0600
TZOFFSETTO:-0500
TZNAME:CDT
DTSTART:20250309T080000
END:DAYLIGHT
BEGIN:STANDARD
TZOFFSETFROM:-0500
TZOFFSETTO:-0600
TZNAME:CST
DTSTART:20251102T070000
END:STANDARD
BEGIN:DAYLIGHT
TZOFFSETFROM:-0600
TZOFFSETTO:-0500
TZNAME:CDT
DTSTART:20260308T080000
END:DAYLIGHT
BEGIN:STANDARD
TZOFFSETFROM:-0500
TZOFFSETTO:-0600
TZNAME:CST
DTSTART:20261101T070000
END:STANDARD
END:VTIMEZONE
BEGIN:VEVENT
DTSTART;TZID=America/Chicago:20250517T190000
DTEND;TZID=America/Chicago:20250517T210000
DTSTAMP:20260421T042045
CREATED:20250506T152107Z
LAST-MODIFIED:20250506T175319Z
UID:14221-1747508400-1747515600@www.grandscape.com
SUMMARY:Fabiola Méndez at Windmills Brewery
DESCRIPTION:Experience the vibrant sound of Fabiola Méndez as she brings the Puerto Rican cuatro to life on the Windmills stage. Rooted in folk and shaped by jazz and classical traditions\, her award winning music has moved audiences around the world.\n\n	May 16 & 17 \n	7:00 PM \n	Windmills – 5755 Grandscape Blvd\, The Colony\, TX 75056 \n\nTickets available at the door or on our website  \nEnjoy our full menu and bar before\, during\, and after the show
URL:https://www.grandscape.com/event/fabiola-mendez-at-windmills-brewery-2/2025-05-17/
LOCATION:Windmills Brewery
CATEGORIES:Concert,Food & Drink
ATTACH;FMTTYPE=image/jpeg:https://www.grandscape.com/wp-content/uploads/2025/05/thumbnail_Fabiola-Mendez_Digital_Grandscape.jpg
END:VEVENT
BEGIN:VEVENT
DTSTART;TZID=America/Chicago:20250517T150000
DTEND;TZID=America/Chicago:20250517T170000
DTSTAMP:20260421T042045
CREATED:20250422T142755Z
LAST-MODIFIED:20250422T142755Z
UID:14078-1747494000-1747501200@www.grandscape.com
SUMMARY:Preakness Stakes at Cosm
DESCRIPTION:Be a part of the action at the Preakness Stakes in Shared Reality at Cosm. Experience the race like never before as you go trackside at Pimlico Race Course for the epic sprint to the finish. [Time subject to change*]\nSurround yourself in the pageantry and spectacle of the 150th running of The Preakness as you’re transported to Baltimore for a day at the races. Witness the unparalleled speed of the finest thoroughbreds from around the globe. Immerse yourself in the historic event at Cosm by embracing the unique fashion and attire of the Preakness as you enjoy a day of races culminating in the “Middle Jewel of the Triple Crown.” Take The Preakness Stakes to a new level and be there when the winning horse crosses the finish line.\nThe content shown at this Event is protected by copyright. The use of cell phones or any other recording devices to live-stream or otherwise materially copy the on-screen Event presentation is strictly prohibited. If you do so\, you consent to your immediate removal from the Event and the forfeiture of any Event content in your possession. Thank you for your understanding and cooperation.\n*Event times hosted by Cosm may be subject to change due to scheduling conflicts. Cosm reserves the right\, at its sole discretion\, to adjust the start or end time of your event\, without notice\, which may differ from the time listed on your original ticket.
URL:https://www.grandscape.com/event/preakness-stakes-at-cosm/2025-05-17/
LOCATION:Cosm
CATEGORIES:Sports
ATTACH;FMTTYPE=image/webp:https://www.grandscape.com/wp-content/uploads/2025/04/Preakness-scaled.webp
END:VEVENT
BEGIN:VEVENT
DTSTART;TZID=America/Chicago:20250517T070000
DTEND;TZID=America/Chicago:20250517T103000
DTSTAMP:20260421T042045
CREATED:20250506T151102Z
LAST-MODIFIED:20250506T151102Z
UID:14215-1747465200-1747477800@www.grandscape.com
SUMMARY:NAMIWalks North Texas
DESCRIPTION:Step Forward with Hope: Join NAMIWalks North Texas\, Presented by Medical City Healthcare at Grandscape!\nStep forward with hope and be part of the movement to raise mental health awareness! Join us at Grandscape for NAMIWalks North Texas\, presented by Medical City Healthcare — a day full of connection\, community\, and purpose. Every step you take brings us closer to a future where mental health is recognized\, supported\, and celebrated.\nGather your friends\, family\, and coworkers\, and walk with us to spread hope across North Texas!\nRegister Here\nTogether\, we can make a difference — one step at a time!
URL:https://www.grandscape.com/event/namiwalks-north-texas/2025-05-17/
LOCATION:Stage & Lawn\, 5752 Grandscape Blvd.\, The Colony\, TX\, 75056\, United States
CATEGORIES:Charities & Fundraising,Health & Fitness
ATTACH;FMTTYPE=image/png:https://www.grandscape.com/wp-content/uploads/2025/05/GetAttachmentThumbnail.png
END:VEVENT
BEGIN:VEVENT
DTSTART;TZID=America/Chicago:20250516T190000
DTEND;TZID=America/Chicago:20250516T210000
DTSTAMP:20260421T042045
CREATED:20250506T151727Z
LAST-MODIFIED:20250506T174941Z
UID:14218-1747422000-1747429200@www.grandscape.com
SUMMARY:Fabiola Méndez at Windmills Brewery
DESCRIPTION:Experience the vibrant sound of Fabiola Méndez as she brings the Puerto Rican cuatro to life on the Windmills stage. Rooted in folk and shaped by jazz and classical traditions\, her award winning music has moved audiences around the world.\n\n	May 16 & 17 \n	7:00 PM \n	Windmills – 5755 Grandscape Blvd\, The Colony\, TX 75056\n\nTickets available at the door or on our website  \nEnjoy our full menu and bar before\, during\, and after the show
URL:https://www.grandscape.com/event/fabiola-mendez-at-windmills-brewery/2025-05-16/
LOCATION:Windmills Brewery
CATEGORIES:Concert,Food & Drink
ATTACH;FMTTYPE=image/jpeg:https://www.grandscape.com/wp-content/uploads/2025/05/thumbnail_Fabiola-Mendez_Digital_Grandscape.jpg
END:VEVENT
BEGIN:VEVENT
DTSTART;TZID=America/Chicago:20250516T140000
DTEND;TZID=America/Chicago:20250516T160000
DTSTAMP:20260421T042045
CREATED:20250506T165136Z
LAST-MODIFIED:20250506T165136Z
UID:14240-1747404000-1747411200@www.grandscape.com
SUMMARY:Premier League: Chelsea vs. Manchester United at Cosm
DESCRIPTION:Be a part of the action as Chelsea takes on Manchester United in Shared Reality at Cosm. Get ready to experience the Premier League like never before as you’re transported onto the pitch. [Time subject to change*]\nTwo Premier League giants going in opposite directions clash in the season’s penultimate match. The Blues are in a tight race for the final Champions League spots. At the same time\, the Red Devils find themselves in the bottom half of the Premier League table for the first time in history. Can Manchester United salvage what’s left of its season while dealing a blow to its longtime rival’s European ambitions?\nWrap yourself in all the action of the Premier League\, where every shot\, goal\, and save comes to life.\n*Event times hosted by Cosm may be subject to change due to scheduling conflicts. Cosm reserves the right\, at its sole discretion\, to adjust the start or end time of your event\, without notice\, which may differ from the time listed on your original ticket.
URL:https://www.grandscape.com/event/premier-league-chelsea-vs-manchester-united-at-cosm/2025-05-16/
LOCATION:Cosm
CATEGORIES:Sports
ATTACH;FMTTYPE=image/webp:https://www.grandscape.com/wp-content/uploads/2025/05/EPL_0516-CHEvMUN-scaled.webp
END:VEVENT
BEGIN:VEVENT
DTSTART;TZID=America/Chicago:20250514T183000
DTEND;TZID=America/Chicago:20250514T193000
DTSTAMP:20260421T042045
CREATED:20250509T165858Z
LAST-MODIFIED:20250509T183541Z
UID:14291-1747247400-1747251000@www.grandscape.com
SUMMARY:Beatz and Bounce: A Fitness Party
DESCRIPTION:This is what the ladies call a girls night out! Bring your girlfriends to whined up\, train and\, mingle with girlies!! Fun+Fitness+Friendship
URL:https://www.grandscape.com/event/beatz-and-bounce-a-fitness-party/2025-05-14/
LOCATION:Stage & Lawn\, 5752 Grandscape Blvd.\, The Colony\, TX\, 75056\, United States
CATEGORIES:Health & Fitness
ATTACH;FMTTYPE=application/pdf:https://www.grandscape.com/wp-content/uploads/2025/05/Promo-GS-post.pdf.pdf
END:VEVENT
BEGIN:VEVENT
DTSTART;TZID=America/Chicago:20250513T160000
DTEND;TZID=America/Chicago:20250513T170000
DTSTAMP:20260421T042045
CREATED:20250422T143415Z
LAST-MODIFIED:20250506T154309Z
UID:14081-1747152000-1747155600@www.grandscape.com
SUMMARY:Big Wave: No Room for Error at Cosm
DESCRIPTION:Submerge yourself in Tahiti’s most iconic and challenging wave — Teahupo’o. In Big Wave: No Room for Error\, experience the thrill of Earth’s most treacherous surf breaks as award-winning photographer and filmmaker Bo Bridges captures the fine line between triumph and destruction in this 60-minute documentary.\nFollow the journey of Heimiti Fierro\, a Tahitian surfer\, as she strives to overcome her fears and conquer the legendary big waves at Teahupo’o. You’ll dive into crystal clear waters\, surrounded by stunning beaches and the beauty of French Polynesia\, pulsing with life and energy\, and feel as if you’re inches away from razor-sharp coral reefs.\nIn this secluded paradise\, surfers risk it all to catch the perfect wave.\nThis thrill ride isn’t just a documentary — it’s a raw\, visceral voyage into the human spirit’s most extreme frontier. Go inside the world’s heaviest waves in Portugal\, Hawaii\, and Tahiti and into the minds of the fearless few pushing surfing to its limits. Powered by a soundtrack featuring Pearl Jam\, Glass Animals\, and the musical score of 16-time Emmy award-winning composer Didier Lean Rachou\, Big Wave: No Room for Error immerses you in the awe-inspiring beauty of big waves transporting you beneath the surface in Shared Reality.\nWhen you’re immersed in this feature\, it’s like being out there on the waves with the surfers. You may experience the feeling of bobbing in the ocean\, floating in water\, or similar sensations to being on the ocean. When choosing your seats\, anticipate that the lower you go in The Dome\, such as Level 1\, the more you’re immersed in the big waves.  If needed\, we recommend preparing for this event the way you would for going on a boat ride.\nPlease keep in mind that some parts of this event may include flashing lights\, strobing effects\, or other visual elements that may cause discomfort for photosensitive individuals.
URL:https://www.grandscape.com/event/big-wave-no-room-for-error-at-cosm-2/2025-05-13/
LOCATION:Cosm
ATTACH;FMTTYPE=image/png:https://www.grandscape.com/wp-content/uploads/2025/04/png_BigWave_Keyart_2880x1620_v3.png
END:VEVENT
BEGIN:VEVENT
DTSTART;VALUE=DATE:20250513
DTEND;VALUE=DATE:20250514
DTSTAMP:20260421T042045
CREATED:20250403T154727Z
LAST-MODIFIED:20250403T154727Z
UID:13974-1747094400-1747180799@www.grandscape.com
SUMMARY:Cruise Control: Edge of Tomorrow at Galaxy Theatres
DESCRIPTION:Your Mission: Experience Tom Cruise Like Never Before!\nAction. Adrenaline. Iconic performances. Cruise Control: A Tom Cruise Retrospective is bringing some of his greatest films back to the big screen—exactly how they were meant to be seen! Whether you’re flying at Mach 10\, racing to victory\, or battling for survival\, these films deliver an unmatched cinematic thrill that you don’t to miss.\nWhat’s Playing? \nBuckle up for a high-octane lineup filled with epic action\, unforgettable drama\, and some of the most quotable moments.\nMay 12 & 13 \nEDGE OF TOMORROW: Live. Die. Repeat. Sci-fi action at its finest! \nNothing compares to watching Tom Cruise’s most legendary action films on the big screen at Galaxy Theatres. Feel every explosion\, every high-speed chase\, and every heart-pounding moment in a premium cinematic experience that puts you right in the action!\nState-of-the-art projection & sound—immerse yourself in the adrenaline.\nLuxury recliner seating—relax in comfort while the excitement unfolds.\nCurated snacks & beverages—because epic movies deserve epic refreshments.\nShowtimes are limited—don’t let these legendary films pass you by! Lock in your seats now before they’re gone!\nFind your nearest Galaxy Theatres & book today!\n#CruiseControl #TomCruise #GalaxyTheatres #ActionOnTheBigScreen #FeelTheRush
URL:https://www.grandscape.com/event/cruise-control-edge-of-tomorrow-at-galaxy-theatres-2/2025-05-13/
LOCATION:Galaxy Theatres\, 5740 Grandscape Blvd\, Suite 100\, The Colony\, TX\, 75056
CATEGORIES:Watch Parties
ATTACH;FMTTYPE=image/jpeg:https://www.grandscape.com/wp-content/uploads/2025/04/CRUISECONTROL_CAN_1920X1080.jpg
END:VEVENT
BEGIN:VEVENT
DTSTART;VALUE=DATE:20250512
DTEND;VALUE=DATE:20250513
DTSTAMP:20260421T042045
CREATED:20250403T154446Z
LAST-MODIFIED:20250403T154446Z
UID:13972-1747008000-1747094399@www.grandscape.com
SUMMARY:Cruise Control: Edge of Tomorrow at Galaxy Theatres
DESCRIPTION:Your Mission: Experience Tom Cruise Like Never Before!\nAction. Adrenaline. Iconic performances. Cruise Control: A Tom Cruise Retrospective is bringing some of his greatest films back to the big screen—exactly how they were meant to be seen! Whether you’re flying at Mach 10\, racing to victory\, or battling for survival\, these films deliver an unmatched cinematic thrill that you don’t to miss.\nWhat’s Playing? \nBuckle up for a high-octane lineup filled with epic action\, unforgettable drama\, and some of the most quotable moments.\nMay 12 & 13 \nEDGE OF TOMORROW: Live. Die. Repeat. Sci-fi action at its finest! \nNothing compares to watching Tom Cruise’s most legendary action films on the big screen at Galaxy Theatres. Feel every explosion\, every high-speed chase\, and every heart-pounding moment in a premium cinematic experience that puts you right in the action!\nState-of-the-art projection & sound—immerse yourself in the adrenaline.\nLuxury recliner seating—relax in comfort while the excitement unfolds.\nCurated snacks & beverages—because epic movies deserve epic refreshments.\nShowtimes are limited—don’t let these legendary films pass you by! Lock in your seats now before they’re gone!\nFind your nearest Galaxy Theatres & book today!\n#CruiseControl #TomCruise #GalaxyTheatres #ActionOnTheBigScreen #FeelTheRush
URL:https://www.grandscape.com/event/cruise-control-edge-of-tomorrow-at-galaxy-theatres/2025-05-12/
LOCATION:Galaxy Theatres\, 5740 Grandscape Blvd\, Suite 100\, The Colony\, TX\, 75056
CATEGORIES:Watch Parties
ATTACH;FMTTYPE=image/jpeg:https://www.grandscape.com/wp-content/uploads/2025/04/CRUISECONTROL_CAN_1920X1080.jpg
END:VEVENT
BEGIN:VEVENT
DTSTART;TZID=America/Chicago:20250511T120000
DTEND;TZID=America/Chicago:20250511T190000
DTSTAMP:20260421T042045
CREATED:20250424T152214Z
LAST-MODIFIED:20250506T154143Z
UID:14138-1746964800-1746990000@www.grandscape.com
SUMMARY:Mother's Day at WorldSprings
DESCRIPTION:Picture yoga flows\, immersive sound baths\, and a complimentary Wander Beauty eye mask*. Enjoy a charming St-Germain cocktail with a custom drink garnish station* starting at 12 PM and take home floral bundles* from Beam Suntory beginning at 4 PM. 
URL:https://www.grandscape.com/event/mothers-day-at-worldsprings/2025-05-11/
ATTACH;FMTTYPE=image/png:https://www.grandscape.com/wp-content/uploads/2025/04/960x500-Mothers-Day-3.png
END:VEVENT
BEGIN:VEVENT
DTSTART;TZID=America/Chicago:20250511T110000
DTEND;TZID=America/Chicago:20250511T140000
DTSTAMP:20260421T042045
CREATED:20250423T160957Z
LAST-MODIFIED:20250423T161414Z
UID:14105-1746961200-1746972000@www.grandscape.com
SUMMARY:Brunch & Blooms
DESCRIPTION:Celebrate Mom this Mother’s Day at our Brunch & Blooms event! Join us Sunday\, May 11 from 11:00am-2:00pm in The Grotto and treat mom with fresh flowers\, live music and delicious brunch specials at select restaurants.\n\nBrunch & Blooms will include:\n\n	A DIY floral bar with Stemme Floral Studio\n	Enjoy the sounds of spring with live music from Serenata Strings\n	Photo Op and on-site photographer with FREE polaroid prints\n	Savor the flavors of The Grotto with special brunch menus and deals from participating restaurants\n\nStop by the Grandscape booth and present your brunch receipt to receive a FREE Mother’s Day photo frame! Limited to one free gift per receipt presented. Must show proof of purchase from one of our participating restaurants below\, while supplies last.\nParticipating Restaurants:\n\n	Tande Thai\n	JAKO Cocina y Agave\n	Windmills Brewery\n	Seven Doors Kitchen & Cocktails\n	Quartino Ristorante\n	Thirsty Lion Gastropub \n	Davio’s Northern Italian Steakhouse\n\n\nWondering what The Grotto is? Unwind\, dine\, and delight in this outdoor oasis found at the heart of Grandscape. Explore the lower and upper levels of The Grotto with unique dining experiences and patio scenes you won’t want to miss.
URL:https://www.grandscape.com/event/brunch-blooms/2025-05-11/
LOCATION:The Grotto
ATTACH;FMTTYPE=image/jpeg:https://www.grandscape.com/wp-content/uploads/2025/04/GS_Brunch-and-Blooms_Website_960x500.jpg
END:VEVENT
BEGIN:VEVENT
DTSTART;TZID=America/Chicago:20250511T103000
DTEND;TZID=America/Chicago:20250511T123000
DTSTAMP:20260421T042045
CREATED:20250506T161722Z
LAST-MODIFIED:20250506T161722Z
UID:14237-1746959400-1746966600@www.grandscape.com
SUMMARY:Premier League: Liverpool vs. Arsenal at Cosm
DESCRIPTION:Be a part of the action as Liverpool takes on Arsenal in Shared Reality at Cosm. Get ready to experience the Premier League like never before as you’re transported onto the pitch. [Time subject to change*]\nThe Premier League’s top two face off at Anfield. Arsenal has been chasing Liverpool all season\, but the Reds continue to pull away at the top. Liverpool stole a point with a late goal in a 2-2 draw in the reverse fixture. Can Arsenal make things interesting down the stretch by picking up its first league win at Liverpool since 2012?\nWrap yourself in all the action of the Premier League\, where every shot\, goal\, and save comes to life.\n*Event times hosted by Cosm may be subject to change due to scheduling conflicts. Cosm reserves the right\, at its sole discretion\, to adjust the start or end time of your event\, without notice\, which may differ from the time listed on your original ticket.
URL:https://www.grandscape.com/event/premier-league-liverpool-vs-arsenal-at-cosm/2025-05-11/
LOCATION:Cosm
CATEGORIES:Sports
ATTACH;FMTTYPE=image/webp:https://www.grandscape.com/wp-content/uploads/2025/05/EPL_0511-LIVvARS-scaled.webp
END:VEVENT
BEGIN:VEVENT
DTSTART;TZID=America/Chicago:20250511T100000
DTEND;TZID=America/Chicago:20250511T220000
DTSTAMP:20260421T042045
CREATED:20250428T171632Z
LAST-MODIFIED:20250506T154009Z
UID:14155-1746957600-1747000800@www.grandscape.com
SUMMARY:Mother's Day at Davio's Northern Italian Steakhouse
DESCRIPTION:Dinner Menu – 10 am – 10 pm\nBrunch features – 10 am – 1 pm\n\n	Scrambled Eggs\, Davio’s Pork Sausage\, Brunch Potatoes\, Cheddar Biscuit16\n	French Toast\, Strawberries\, Warm Vermont Syrup\, Chantilly Cream18\n	Baked Eggs\, Davio’s Pork Sausage\, Onions\, Peppers\, San Marzano Tomatoes\, Toasted Baguette22\n	Lump Crab\, Spinach Benedict\, Poached Eggs\, English Muffin\, Brunch Potatoes\, Hollandaise29\n	*Steak & Eggs — 8 oz 55 Day Prime Aged Flat Iron\, Fried Eggs\, Brunch Potatoes\, Prezzemolata  39 \n\nHappy Mother’s Day!
URL:https://www.grandscape.com/event/mothers-day-at-davios-northern-italian-steakhouse/2025-05-11/
CATEGORIES:Food & Drink
ATTACH;FMTTYPE=image/jpeg:https://www.grandscape.com/wp-content/uploads/2025/04/492572674_1091664916291626_8109192662240240922_n.jpg
END:VEVENT
BEGIN:VEVENT
DTSTART;VALUE=DATE:20250511
DTEND;VALUE=DATE:20250512
DTSTAMP:20260421T042045
CREATED:20250429T150658Z
LAST-MODIFIED:20250506T153832Z
UID:14161-1746921600-1747007999@www.grandscape.com
SUMMARY:Mother's Day Brunch Buffet at Puttery
DESCRIPTION:Mother’s Day Brunch \n\n	Adults $40\n	Kids 12 and under $20\n\nBrunch Includes:\n\n	French toast\n	Bacon/Turkey bacon\n	Sausage\n	Eggs\n	Breakfast Potatoes\n	Biscuits and Gravy\n	Chicken/Waffles\n	Danish\n	Fresh Fruit bowl\n\n**Unlimited Golf**\nChocolate covered Strawberries\n Four Reservation time slots(Arrive promptly 10 minutes prior to dining time)\n10am\, 1130am\, 1pm\, 230pm ending at 4pm\n**all dining time slots are for 1 hour**\n$10 deposit required
URL:https://www.grandscape.com/event/mothers-day-brunch-buffet-at-puttery/2025-05-11/
LOCATION:Puttery
CATEGORIES:Food & Drink
ATTACH;FMTTYPE=image/png:https://www.grandscape.com/wp-content/uploads/2025/04/Mothers-Day-Puttery.png
END:VEVENT
BEGIN:VEVENT
DTSTART;VALUE=DATE:20250511
DTEND;VALUE=DATE:20250512
DTSTAMP:20260421T042045
CREATED:20250416T190033Z
LAST-MODIFIED:20250416T190033Z
UID:14056-1746921600-1747007999@www.grandscape.com
SUMMARY:Mother's Day at Rock & Brews
DESCRIPTION:Serving Moms Who Rock this Mother’s Day! Bring Mom in to enjoy brunch favorites + kids eat free with purchase of an adult entree. Mom’s will also receive a complimentary wine glass while supplies last and enjoy $15 Bottomless Bloody Mary & Mimosa specials! 
URL:https://www.grandscape.com/event/mothers-day-at-rock-brews/2025-05-11/
CATEGORIES:Food & Drink
ATTACH;FMTTYPE=image/jpeg:https://www.grandscape.com/wp-content/uploads/2025/04/Mothers-Day-2025-Untappd-Horizontal-1.jpg
END:VEVENT
BEGIN:VEVENT
DTSTART;TZID=America/Chicago:20250510T210000
DTEND;TZID=America/Chicago:20250510T230000
DTSTAMP:20260421T042045
CREATED:20250509T214225Z
LAST-MODIFIED:20250509T214225Z
UID:14296-1746910800-1746918000@www.grandscape.com
SUMMARY:Fight Night: Muhammad VS Della Maddalena at Gas Monkey Icehouse
DESCRIPTION:WATCH UFC 315 @ Gas Monkey Icehouse⁠ this Saturday (5/10)⁠\nWe’ve got the fights\, the food\, and the fandom—live all night at the Icehouse. No cover\, so be sure to bring the squad 
URL:https://www.grandscape.com/event/fight-night-muhammad-vs-della-maddalena-at-gas-monkey-icehouse/2025-05-10/
CATEGORIES:Sports
ATTACH;FMTTYPE=image/jpeg:https://www.grandscape.com/wp-content/uploads/2025/05/thumbnail_UFC-Fightnight-at-Icehouse-FINAL-Graphic-960-x-500-px.jpg
END:VEVENT
END:VCALENDAR