BEGIN:VCALENDAR
VERSION:2.0
PRODID:-//Grandscape - ECPv6.15.16//NONSGML v1.0//EN
CALSCALE:GREGORIAN
METHOD:PUBLISH
X-WR-CALNAME:Grandscape
X-ORIGINAL-URL:https://www.grandscape.com
X-WR-CALDESC:Events for Grandscape
REFRESH-INTERVAL;VALUE=DURATION:PT1H
X-Robots-Tag:noindex
X-PUBLISHED-TTL:PT1H
BEGIN:VTIMEZONE
TZID:America/Chicago
BEGIN:DAYLIGHT
TZOFFSETFROM:-0600
TZOFFSETTO:-0500
TZNAME:CDT
DTSTART:20240310T080000
END:DAYLIGHT
BEGIN:STANDARD
TZOFFSETFROM:-0500
TZOFFSETTO:-0600
TZNAME:CST
DTSTART:20241103T070000
END:STANDARD
BEGIN:DAYLIGHT
TZOFFSETFROM:-0600
TZOFFSETTO:-0500
TZNAME:CDT
DTSTART:20250309T080000
END:DAYLIGHT
BEGIN:STANDARD
TZOFFSETFROM:-0500
TZOFFSETTO:-0600
TZNAME:CST
DTSTART:20251102T070000
END:STANDARD
BEGIN:DAYLIGHT
TZOFFSETFROM:-0600
TZOFFSETTO:-0500
TZNAME:CDT
DTSTART:20260308T080000
END:DAYLIGHT
BEGIN:STANDARD
TZOFFSETFROM:-0500
TZOFFSETTO:-0600
TZNAME:CST
DTSTART:20261101T070000
END:STANDARD
END:VTIMEZONE
BEGIN:VTIMEZONE
TZID:America/New_York
BEGIN:DAYLIGHT
TZOFFSETFROM:-0500
TZOFFSETTO:-0400
TZNAME:EDT
DTSTART:20240310T070000
END:DAYLIGHT
BEGIN:STANDARD
TZOFFSETFROM:-0400
TZOFFSETTO:-0500
TZNAME:EST
DTSTART:20241103T060000
END:STANDARD
BEGIN:DAYLIGHT
TZOFFSETFROM:-0500
TZOFFSETTO:-0400
TZNAME:EDT
DTSTART:20250309T070000
END:DAYLIGHT
BEGIN:STANDARD
TZOFFSETFROM:-0400
TZOFFSETTO:-0500
TZNAME:EST
DTSTART:20251102T060000
END:STANDARD
BEGIN:DAYLIGHT
TZOFFSETFROM:-0500
TZOFFSETTO:-0400
TZNAME:EDT
DTSTART:20260308T070000
END:DAYLIGHT
BEGIN:STANDARD
TZOFFSETFROM:-0400
TZOFFSETTO:-0500
TZNAME:EST
DTSTART:20261101T060000
END:STANDARD
END:VTIMEZONE
BEGIN:VEVENT
DTSTART;TZID=America/Chicago:20250831T183000
DTEND;TZID=America/Chicago:20250831T203000
DTSTAMP:20260421T050530
CREATED:20250731T195108Z
LAST-MODIFIED:20250731T195108Z
UID:14877-1756665000-1756672200@www.grandscape.com
SUMMARY:NCAAF: Notre Dame @ Miami at Cosm
DESCRIPTION:Tickets are coming soon. Click the “Notify Me” button now to receive an alert as soon as they go on sale.\nBe a part of the action as Notre Dame takes on Miami in Shared Reality at Cosm. Experience the game like never before as you’re immersed in every tackle\, interception\, and touchdown. [Time subject to change*]\nGo between the hash marks when College Football Playoff runner-up Notre Dame faces Miami at Hard Rock Stadium. Level up your gameday experience\, show your school spirit\, and be there for all the action at Cosm.\nThe content shown at this Event is protected by copyright. The use of cell phones or any other recording devices to live-stream or otherwise materially copy the on-screen Event presentation is strictly prohibited. If you do so\, you consent to your immediate removal from the Event and the forfeiture of any Event content in your possession. Thank you for your understanding and cooperation.\n*Event times hosted by Cosm may be subject to change due to scheduling conflicts. Cosm reserves the right\, at its sole discretion\, to adjust the start or end time of your event\, without notice\, which may differ from the time listed on your original ticket.
URL:https://www.grandscape.com/event/ncaaf-notre-dame-miami-at-cosm/2025-08-31/
LOCATION:Cosm
CATEGORIES:Sports,Watch Parties
ATTACH;FMTTYPE=image/webp:https://www.grandscape.com/wp-content/uploads/2025/07/083125-NCAAFB-NDvMIA-scaled.webp
END:VEVENT
BEGIN:VEVENT
DTSTART;TZID=America/Chicago:20250831T150000
DTEND;TZID=America/Chicago:20250831T163000
DTSTAMP:20260421T050530
CREATED:20250812T053346Z
LAST-MODIFIED:20250823T162639Z
UID:14972-1756652400-1756657800@www.grandscape.com
SUMMARY:Plant & Sip: Moss Art Frame at Tande Thai
DESCRIPTION:Join us for a relaxing afternoon as you design your very own modern Moss Art Frame\, a stunning and low-maintenance piece that brings the outdoors in. Your first drink is on us! Advance registration required. No prior experience is needed; all supplies will be provided. Plan on spending 1.5–2 hours laughing\, designing\, and making memories!\n\n\nAs a bonus\, attendees who dine for brunch before the event will receive a sweet treat.
URL:https://www.grandscape.com/event/plant-sip-moss-art-frame/2025-08-31/
LOCATION:Tande Thai
ATTACH;FMTTYPE=image/jpeg:https://www.grandscape.com/wp-content/uploads/2025/08/Aug-31-Moss-Art.jpg
END:VEVENT
BEGIN:VEVENT
DTSTART;TZID=America/Chicago:20250830T183000
DTEND;TZID=America/Chicago:20250830T203000
DTSTAMP:20260421T050530
CREATED:20250731T194652Z
LAST-MODIFIED:20250731T194652Z
UID:14874-1756578600-1756585800@www.grandscape.com
SUMMARY:NCAAF: LSU @ Clemson at Cosm
DESCRIPTION:Tickets are coming soon. Click the “Notify Me” button now to receive an alert as soon as they go on sale.\nBe a part of the action as LSU takes on Clemson in Shared Reality at Cosm. Experience the game like never before as you’re immersed in every tackle\, interception\, and touchdown. [Time subject to change*]\nGo between the hash marks from “Death Valley” when LSU faces Clemson. Level up your gameday experience\, show your school spirit\, and be there for all the action at Cosm.\nThe content shown at this Event is protected by copyright. The use of cell phones or any other recording devices to live-stream or otherwise materially copy the on-screen Event presentation is strictly prohibited. If you do so\, you consent to your immediate removal from the Event and the forfeiture of any Event content in your possession. Thank you for your understanding and cooperation.\n*Event times hosted by Cosm may be subject to change due to scheduling conflicts. Cosm reserves the right\, at its sole discretion\, to adjust the start or end time of your event\, without notice\, which may differ from the time listed on your original ticket.
URL:https://www.grandscape.com/event/ncaaf-lsu-clemson-at-cosm/2025-08-30/
LOCATION:Cosm
CATEGORIES:Sports,Watch Parties
ATTACH;FMTTYPE=image/webp:https://www.grandscape.com/wp-content/uploads/2025/07/083025-NCAAFB-LSUvCLEM-scaled.webp
END:VEVENT
BEGIN:VEVENT
DTSTART;TZID=America/Chicago:20250830T120000
DTEND;TZID=America/Chicago:20250830T130000
DTSTAMP:20260421T050530
CREATED:20250826T192321Z
LAST-MODIFIED:20250829T150339Z
UID:15062-1756555200-1756558800@www.grandscape.com
SUMMARY:Dereck Lively II FREE Meet-and-Greet at NFM
DESCRIPTION:Dallas Mavericks star\, Dereck Lively II\, will be at NFM in The Colony on Saturday\, August 30th from 12pm-1pm to meet fans\, sign autographs\, and take pictures… all courtesy of Bedgear.\nRSVP HERE to reserve your spot.\nThis is a free event\, and participation is on a first-come\, first-served basis. So\, RSVP is preferred.\nWhile you’re here\, enter to win an amazing prize pack\, courtesy of Bedgear and NFM\, which includes:\n\n	\n2 Tickets to an upcoming Dallas Mavericks game\n\n	\nAutographed Dereck Lively II basketball\n\n	\nBedgear sheet set\n\n	\nBedgear body pillow\n\n	\n$200 NFM gift card
URL:https://www.grandscape.com/event/dereck-lively-free-meet-and-greet-at-nfm/2025-08-30/
LOCATION:NFM
ATTACH;FMTTYPE=image/jpeg:https://www.grandscape.com/wp-content/uploads/2025/08/EWO_569215_BedgearDerekLivelyMeet-and-Greet_0818-0830_2025_FBE_1920_1080_tx-1.jpg
END:VEVENT
BEGIN:VEVENT
DTSTART;TZID=America/Chicago:20250830T110000
DTEND;TZID=America/Chicago:20250830T130000
DTSTAMP:20260421T050530
CREATED:20250731T194303Z
LAST-MODIFIED:20250731T194442Z
UID:14871-1756551600-1756558800@www.grandscape.com
SUMMARY:NCAAF: Texas @ Ohio State at Cosm
DESCRIPTION:Tickets are coming soon. Click the “Notify Me” button now to receive an alert as soon as they go on sale.\nBe a part of the action as Texas takes on Ohio State in Shared Reality at Cosm. Experience the game like never before as you’re immersed in every tackle\, interception\, and touchdown. [Time subject to change*]\nGo between the hash marks for a rematch of the College Football Playoff semifinal when Texas faces Ohio State. Level up your gameday experience\, show your school spirit\, and be there for all the action at Cosm.\nThe content shown at this Event is protected by copyright. The use of cell phones or any other recording devices to live-stream or otherwise materially copy the on-screen Event presentation is strictly prohibited. If you do so\, you consent to your immediate removal from the Event and the forfeiture of any Event content in your possession. Thank you for your understanding and cooperation.\n*Event times hosted by Cosm may be subject to change due to scheduling conflicts. Cosm reserves the right\, at its sole discretion\, to adjust the start or end time of your event\, without notice\, which may differ from the time listed on your original ticket.
URL:https://www.grandscape.com/event/ncaaf-texas-ohio-state-at-cosm/2025-08-30/
LOCATION:Cosm
CATEGORIES:Sports,Watch Parties
ATTACH;FMTTYPE=image/webp:https://www.grandscape.com/wp-content/uploads/2025/07/083025-NCAAFB-TEXvOSU-1-scaled.webp
END:VEVENT
BEGIN:VEVENT
DTSTART;TZID=America/Chicago:20250829T200000
DTEND;TZID=America/Chicago:20250829T220000
DTSTAMP:20260421T050530
CREATED:20250625T180215Z
LAST-MODIFIED:20250625T180439Z
UID:14650-1756497600-1756504800@www.grandscape.com
SUMMARY:Sounds of Summer: White Out Party
DESCRIPTION:We are closing out our Summer concert series in style… with a white out party! \nGet ready to end the summer with the Spazmatics LIVE on the stage on Friday\, August 29 from 8:00-10:00pm\, presented by Corona. Don’t forget to wear your best white outfits and let’s make this an unforgettable night! \nThis show is FREE to the public. Enjoy the concert from our vast lawn by bringing a blanket or lawn chair! \nNo outside alcohol or coolers are allowed. Please visit event faq for more information. \nLooking for parking? Use our free parking garage. \nGrandscape is a large outdoor shopping center with plenty of food and dining options to enjoy before the concert. 
URL:https://www.grandscape.com/event/sounds-of-summer-spazmatics-2/2025-08-29/
LOCATION:Corona Stage & Lawn
CATEGORIES:Concert
ATTACH;FMTTYPE=image/jpeg:https://www.grandscape.com/wp-content/uploads/2025/06/GS_Sounds-of-Summer_Website_960x500_The-Spazmatics.jpg
END:VEVENT
BEGIN:VEVENT
DTSTART;TZID=America/New_York:20250829T190000
DTEND;TZID=America/New_York:20250829T210000
DTSTAMP:20260421T050530
CREATED:20250805T155532Z
LAST-MODIFIED:20250806T055648Z
UID:14935-1756494000-1756501200@www.grandscape.com
SUMMARY:Nick Finzer Quartet at Windmills Brewery
DESCRIPTION:Nick Finzer is a Grammy-nominated trombonist and rising star in the Dallas-Fort Worth music scene. He brings deep swing\, sharp precision\, and original compositions that push jazz forward. Finzer has headlined at venues like Carnegie Hall and Birdland\, and now brings that same clarity to the Windmills stage. \n\n	August 29\n	7:00pm\n	Windmills – 5755 Grandscape Blvd\, The Colony\, TX 75056\n	Tickets available here or at the door\n	Full menu and bar service available before and during the show
URL:https://www.grandscape.com/event/nick-finzer-quartet-at-windmills-brewery/2025-08-29/
LOCATION:Windmills Brewery
CATEGORIES:Concert,Food & Drink
ATTACH;FMTTYPE=image/jpeg:https://www.grandscape.com/wp-content/uploads/2025/08/Nick-Finzer-Quartet_Digital_Grandscape.jpg
END:VEVENT
BEGIN:VEVENT
DTSTART;TZID=America/Chicago:20250829T190000
DTEND;TZID=America/Chicago:20250829T210000
DTSTAMP:20260421T050530
CREATED:20250731T193916Z
LAST-MODIFIED:20250731T193916Z
UID:14868-1756494000-1756501200@www.grandscape.com
SUMMARY:NCAAF: Auburn @ Baylor at Cosm
DESCRIPTION:Tickets are coming soon. Click the “Notify Me” button now to receive an alert as soon as they go on sale.\nBe a part of the action as Auburn takes on Baylor in Shared Reality at Cosm. Experience the game like never before as you’re immersed in every tackle\, interception\, and touchdown. [Time subject to change*]\nGo between the hash marks from McLane Stadium when the Tigers face the Bears. Level up your gameday experience\, show your school spirit\, and be there for all the action at Cosm.\nThe content shown at this Event is protected by copyright. The use of cell phones or any other recording devices to live-stream or otherwise materially copy the on-screen Event presentation is strictly prohibited. If you do so\, you consent to your immediate removal from the Event and the forfeiture of any Event content in your possession. Thank you for your understanding and cooperation.\n*Event times hosted by Cosm may be subject to change due to scheduling conflicts. Cosm reserves the right\, at its sole discretion\, to adjust the start or end time of your event\, without notice\, which may differ from the time listed on your original ticket.
URL:https://www.grandscape.com/event/ncaaf-auburn-baylor-at-cosm/2025-08-29/
LOCATION:Cosm
CATEGORIES:Sports,Watch Parties
ATTACH;FMTTYPE=image/webp:https://www.grandscape.com/wp-content/uploads/2025/07/082925-NCAAFB-AUBvBAY-scaled.webp
END:VEVENT
BEGIN:VEVENT
DTSTART;TZID=America/Chicago:20250828T180000
DTEND;TZID=America/Chicago:20250828T200000
DTSTAMP:20260421T050530
CREATED:20250819T194305Z
LAST-MODIFIED:20250819T194305Z
UID:15023-1756404000-1756411200@www.grandscape.com
SUMMARY:US Open: Men’s & Women’s Singles (2nd Round) at Cosm
DESCRIPTION:Go courtside from the second round of the US Open Tennis Championship in Shared Reality at Cosm. Surround yourself in the action as you’re immersed in every ace\, rally\, and set point. [Time subject to change*]\nBe a part of the action from the 2025 US Open. The world’s best tennis players will be in New York City for the final Grand Slam event of the season. Be there when reigning singles champions Jannik Sinner and Aryna Sabalenka defend their titles against top contenders Novak Djokovic\, Carlos Alcaraz\, Iga Swiatek\, Coco Gauff\, and more. Experience tennis like never before.\nThe content shown at this Event is protected by copyright. The use of cell phones or any other recording devices to live-stream or otherwise materially copy the on-screen Event presentation is strictly prohibited. If you do so\, you consent to your immediate removal from the Event and the forfeiture of any Event content in your possession. Thank you for your understanding and cooperation.\n \n*Event times hosted by Cosm may be subject to change due to scheduling conflicts. Cosm reserves the right\, at its sole discretion\, to adjust the start or end time of your event\, without notice\, which may differ from the time listed on your original ticket.
URL:https://www.grandscape.com/event/us-open-mens-womens-singles-2nd-round-at-cosm/2025-08-28/
LOCATION:Cosm
ATTACH;FMTTYPE=image/webp:https://www.grandscape.com/wp-content/uploads/2025/08/USOpen_2025_v1-1-scaled.webp
END:VEVENT
BEGIN:VEVENT
DTSTART;TZID=America/Chicago:20250828T140000
DTEND;TZID=America/Chicago:20250828T153000
DTSTAMP:20260421T050530
CREATED:20250801T184056Z
LAST-MODIFIED:20250801T185722Z
UID:14920-1756389600-1756395000@www.grandscape.com
SUMMARY:“O” by Cirque du Soleil at Cosm
DESCRIPTION:Experience “O” by Cirque du Soleil in the groundbreaking new format of Cosm Shared Reality.\nCosm—a global leader in experiential media and immersive technology—is blending the physical space with the digital world to bring you a deeply immersive Cirque du Soleil experience in a new communal format.\n“O” in Shared Reality places you inside an 87-foot wraparound LED dome to witness the majesty of “O” in astonishing 12K+ resolution! No headsets. Just you and your friends sharing an unforgettable experience surrounded by acrobatics\, artistry\, and the dreamlike vignettes of Cirque du Soleil’s aquatic masterpiece.\nGather your friends for the visionary digital entertainment event of “O” in Cosm Shared Reality.\n\n	\nWednesday\, July 30th\, 2025 – 7:30pm\n\n	\nFriday\, August 1st\, 2025 – 4:30pm\n\n	\nSaturday\, August 9th\, 2025 – 10:30am\n\n	\nSunday\, August 10th\, 2025 – 5:00pm\n\n	\nMonday\, August 18th\, 2025 – 3:00pm\n\n	\nThursday\, August 28th\, 2025 – 2:00pm\n\n\n“O” by Cirque du Soleil is approximately 90 minutes. The show will begin promptly at the show start time listed on your ticket. Doors will open at least one hour before that time to allow you to explore The Hall and The Deck and find your seat in The Dome.\nSuitable for all ages. Please keep in mind that some parts of this event may include flashing lights\, strobing effects\, or other visual elements that may cause discomfort for photosensitive individuals. Feel free to contact our customer service team if you need any assistance. We are committed to making sure your experience is enjoyable.\nWalk-ins welcome. Subject to availability.
URL:https://www.grandscape.com/event/o-by-cirque-du-soleil-at-cosm-2/2025-08-28/
LOCATION:Cosm
ATTACH;FMTTYPE=image/webp:https://www.grandscape.com/wp-content/uploads/2025/08/2505_Fever_Cirque_v1-scaled.webp
END:VEVENT
BEGIN:VEVENT
DTSTART;TZID=America/Chicago:20250827T183000
DTEND;TZID=America/Chicago:20250827T203000
DTSTAMP:20260421T050530
CREATED:20250520T144808Z
LAST-MODIFIED:20250813T204709Z
UID:14367-1756319400-1756326600@www.grandscape.com
SUMMARY:Smooth Summer Jams Series
DESCRIPTION:Whether you’re winding down after work or looking for a mellow midweek hang\, The Grotto is your go-to groove spot all summer long.\nThe Smooth Summer Jams series will be bringing soulful\, jazz music by Vandell Andrew to The Grotto Wednesday\, August 27 from 6:30-8:30pm. \nCan’t make it this day? No worries! Grandscape’s Smooth Summer Jams series is every 2nd and 4th Wednesday of the month\, June through August\, from 6:30-8:30pm in The Grotto! \nThis show is FREE to the public. Enjoy the concert from one of our Grotto tenant’s patios or by bringing a lawn chair! \nNo outside alcohol or coolers are allowed. Please visit our Event FAQ for more information. \nWondering what The Grotto is? Unwind\, dine\, and delight in this outdoor oasis located between the Kaleidoscope and Grandscape Blvd. Explore the lower and upper levels of The Grotto with unique dining experiences and patio scenes you won’t want to miss.
URL:https://www.grandscape.com/event/smooth-summer-jams-series-6/2025-08-27/
LOCATION:The Grotto
CATEGORIES:Concert
ATTACH;FMTTYPE=image/jpeg:https://www.grandscape.com/wp-content/uploads/2025/05/GS_Smooth-Summer-Jams-Series_Website_960x500.jpg
END:VEVENT
BEGIN:VEVENT
DTSTART;TZID=America/Chicago:20250827T173000
DTEND;TZID=America/Chicago:20250827T183000
DTSTAMP:20260421T050530
CREATED:20250801T202900Z
LAST-MODIFIED:20250801T202946Z
UID:14929-1756315800-1756319400@www.grandscape.com
SUMMARY:Big Wave: No Room for Error at Cosm
DESCRIPTION:Submerge yourself in Tahiti’s most iconic and challenging wave — Teahupo’o. In Big Wave: No Room for Error\, experience the thrill of Earth’s most treacherous surf breaks as award-winning photographer and filmmaker Bo Bridges captures the fine line between triumph and destruction.\nFollow the journey of Heimiti Fierro\, a Tahitian surfer\, as she strives to overcome her fears and conquer the legendary big waves at Teahupo’o. You’ll dive into crystal clear waters\, surrounded by stunning beaches and the beauty of French Polynesia\, pulsing with life and energy\, and feel as if you’re inches away from razor-sharp coral reefs.\nIn this secluded paradise\, surfers risk it all to catch the perfect wave.\n\n	\nWednesday\, August 6th\, 2025 – 7:00pm\n\n	\nSaturday\, August 9th\, 2025 – 5:00pm\n\n	\nThursday\, August 14th\, 2025 – 6:00pm\n\n	\nTuesday\, August 19th\, 2025 – 5:30pm\n\n	\nWednesday\, August 27th\, 2025 – 5:30pm\n\n\nThis thrill ride isn’t just a documentary — it’s a raw\, visceral voyage into the human spirit’s most extreme frontier. Go inside the world’s heaviest waves in Portugal\, Hawaii\, and Tahiti and into the minds of the fearless few pushing surfing to its limits. Powered by a soundtrack featuring Pearl Jam\, Glass Animals\, and the musical score of 16-time Emmy award-winning composer Didier Lean Rachou\, Big Wave: No Room for Error immerses you in the awe-inspiring beauty of big waves transporting you beneath the surface in Shared Reality.\nThere are multiple areas to explore within Cosm:\nTHE DOME: Step inside this Shared Reality space and surround yourself in the event. The Dome hosts fully immersive views\, making you feel like you’re there\nTHE HALL: Witness all the thrills and excitement with wall-to-wall entertainment\nTHE DECK: Relax with friends in the open air and enjoy breathtaking views of Grandscape.
URL:https://www.grandscape.com/event/big-wave-no-room-for-error-at-cosm-13/2025-08-27/
LOCATION:Cosm
ATTACH;FMTTYPE=image/png:https://www.grandscape.com/wp-content/uploads/2025/08/png_BigWave_Keyart_2880x1620_v3-scaled.png
END:VEVENT
BEGIN:VEVENT
DTSTART;TZID=America/New_York:20250826T180000
DTEND;TZID=America/New_York:20250826T200000
DTSTAMP:20260421T050530
CREATED:20250805T162123Z
LAST-MODIFIED:20250805T162123Z
UID:14943-1756231200-1756238400@www.grandscape.com
SUMMARY:Live Music at Tande Thai
DESCRIPTION:Join us every Tuesday from 6pm-8pm for live music and enjoy Happy Hour all night long\, from 4pm to close.
URL:https://www.grandscape.com/event/live-music-at-tande-thai/2025-08-26/
LOCATION:Tande Thai
CATEGORIES:Concert,Food & Drink
ATTACH;FMTTYPE=image/png:https://www.grandscape.com/wp-content/uploads/2025/07/Live-Music-Tuesdays.png
END:VEVENT
BEGIN:VEVENT
DTSTART;TZID=America/Chicago:20250824T180000
DTEND;TZID=America/Chicago:20250824T200000
DTSTAMP:20260421T050530
CREATED:20250731T201540Z
LAST-MODIFIED:20250804T182903Z
UID:14883-1756058400-1756065600@www.grandscape.com
SUMMARY:New Moon Vision Board Workshop at Soul Stonz
DESCRIPTION:Join us for a magical evening of intention-setting\, creativity\, and self-discovery just one day after the August New Moon—a powerful time to plant the seeds for your next chapter.\nIn this soulful\, hands-on workshop\, you’ll receive everything you need to create a beautiful vision board\, plus:\n🌟 Self-discovery exercises to help you clarify your goals\n💎 A special crystal intuitively chosen to support your intentions\n🖼️ Guided support to build a vision board that speaks to your heart\n🌓 New moon wisdom and practices to amplify your manifesting energy\nWhether you’re craving a fresh start or want to stay aligned with your dreams\, this evening will leave you inspired\, grounded\, and connected to your inner vision.\nThis workshop will be a creative practice to help you identify your goals\, understand your whys\, and begin crafting a life you love.\nCome prepared for self some self discovery work\, honest evaluations\, and preparing yourself for your next steps.  You will cut\, glue\, draw\, write\, and visualize a life you’re excited by. \nA great activity to do for yourself\, with a friend\, spouse or even a mature child. Become comfortable with talking about your goals out loud and to others – the universe is listening.\nExperience:\n\n	Sound Bowl.\n	Leave with a special crystal and intuitive message to help guide your journey.\n	All Materials needed to create your beautiful Vision Board. (not cheap magazine pics)\n	Clarity & Visualizing Exercises including worksheets.\n	All guests receive 15% OFF anything purchased in store during event.
URL:https://www.grandscape.com/event/new-moon-vision-board-workshop-at-soul-stonz/2025-08-24/
LOCATION:Soul Stonz
CATEGORIES:Workshop
ATTACH;FMTTYPE=image/png:https://www.grandscape.com/wp-content/uploads/2025/07/image008.png
END:VEVENT
BEGIN:VEVENT
DTSTART;TZID=America/New_York:20250824T144500
DTEND;TZID=America/New_York:20250824T163000
DTSTAMP:20260421T050530
CREATED:20250716T144753Z
LAST-MODIFIED:20250716T144753Z
UID:14787-1756046700-1756053000@www.grandscape.com
SUMMARY:PBR Teams: Gambler Days (Day 3) at Cosm
DESCRIPTION:Be a part of the action at Day 3 of PBR Teams: Gambler Days in Shared Reality at Cosm. Take professional bull riding to a new level\, putting you in the chute with the riders at the Moody Center in Austin. [Time subject to change*]\nCome along for the ride and hang on tight as the world’s best riders team up for the ultimate bull riding competition. Surround yourself in the adrenaline-filled action of the most intense 8 seconds in sports. Experience PBR Teams like never before.\nDates\, Times\, and Matchups are subject to change.\n*Event times hosted by Cosm may be subject to change due to scheduling conflicts. Cosm reserves the right\, at its sole discretion\, to adjust the start or end time of your event\, without notice\, which may differ from the time listed on your original ticket.
URL:https://www.grandscape.com/event/pbr-teams-gambler-days-day-3-at-cosm/2025-08-24/
LOCATION:Cosm
CATEGORIES:Sports
ATTACH;FMTTYPE=image/webp:https://www.grandscape.com/wp-content/uploads/2025/07/250824_PBRTeams_Austin_1920x1080-scaled.webp
END:VEVENT
BEGIN:VEVENT
DTSTART;TZID=America/Chicago:20250823T193000
DTEND;TZID=America/Chicago:20250823T213000
DTSTAMP:20260421T050530
CREATED:20250819T193911Z
LAST-MODIFIED:20250819T193911Z
UID:15020-1755977400-1755984600@www.grandscape.com
SUMMARY:MLB: Dodgers @ Padres at Cosm
DESCRIPTION:Be a part of the action as the Los Angeles Dodgers take on the San Diego Padres in Shared Reality at Cosm. Surround yourself in the action as you’re immersed in every pitch\, hit\, and home run. [Time subject to change*]\nGo beyond the front row\, putting you right in the action on the diamond. Catch the Dodgers and Padres as they compete for NL West dominance at Petco Park. Take the game to a new level and experience Major League Baseball like never before.\n*Event times hosted by Cosm may be subject to change due to scheduling conflicts. Cosm reserves the right\, at its sole discretion\, to adjust the start or end time of your event\, without notice\, which may differ from the time listed on your original ticket.
URL:https://www.grandscape.com/event/mlb-dodgers-padres-at-cosm/2025-08-23/
LOCATION:Cosm
ATTACH;FMTTYPE=image/webp:https://www.grandscape.com/wp-content/uploads/2025/08/082325_MLB_LADvSD-1-scaled.webp
END:VEVENT
END:VCALENDAR