BEGIN:VCALENDAR
VERSION:2.0
PRODID:-//Grandscape - ECPv6.15.16//NONSGML v1.0//EN
CALSCALE:GREGORIAN
METHOD:PUBLISH
X-WR-CALNAME:Grandscape
X-ORIGINAL-URL:https://www.grandscape.com
X-WR-CALDESC:Events for Grandscape
REFRESH-INTERVAL;VALUE=DURATION:PT1H
X-Robots-Tag:noindex
X-PUBLISHED-TTL:PT1H
BEGIN:VTIMEZONE
TZID:America/Chicago
BEGIN:DAYLIGHT
TZOFFSETFROM:-0600
TZOFFSETTO:-0500
TZNAME:CDT
DTSTART:20240310T080000
END:DAYLIGHT
BEGIN:STANDARD
TZOFFSETFROM:-0500
TZOFFSETTO:-0600
TZNAME:CST
DTSTART:20241103T070000
END:STANDARD
BEGIN:DAYLIGHT
TZOFFSETFROM:-0600
TZOFFSETTO:-0500
TZNAME:CDT
DTSTART:20250309T080000
END:DAYLIGHT
BEGIN:STANDARD
TZOFFSETFROM:-0500
TZOFFSETTO:-0600
TZNAME:CST
DTSTART:20251102T070000
END:STANDARD
BEGIN:DAYLIGHT
TZOFFSETFROM:-0600
TZOFFSETTO:-0500
TZNAME:CDT
DTSTART:20260308T080000
END:DAYLIGHT
BEGIN:STANDARD
TZOFFSETFROM:-0500
TZOFFSETTO:-0600
TZNAME:CST
DTSTART:20261101T070000
END:STANDARD
END:VTIMEZONE
BEGIN:VTIMEZONE
TZID:America/New_York
BEGIN:DAYLIGHT
TZOFFSETFROM:-0500
TZOFFSETTO:-0400
TZNAME:EDT
DTSTART:20240310T070000
END:DAYLIGHT
BEGIN:STANDARD
TZOFFSETFROM:-0400
TZOFFSETTO:-0500
TZNAME:EST
DTSTART:20241103T060000
END:STANDARD
BEGIN:DAYLIGHT
TZOFFSETFROM:-0500
TZOFFSETTO:-0400
TZNAME:EDT
DTSTART:20250309T070000
END:DAYLIGHT
BEGIN:STANDARD
TZOFFSETFROM:-0400
TZOFFSETTO:-0500
TZNAME:EST
DTSTART:20251102T060000
END:STANDARD
BEGIN:DAYLIGHT
TZOFFSETFROM:-0500
TZOFFSETTO:-0400
TZNAME:EDT
DTSTART:20260308T070000
END:DAYLIGHT
BEGIN:STANDARD
TZOFFSETFROM:-0400
TZOFFSETTO:-0500
TZNAME:EST
DTSTART:20261101T060000
END:STANDARD
END:VTIMEZONE
BEGIN:VEVENT
DTSTART;TZID=America/Chicago:20250810T144500
DTEND;TZID=America/Chicago:20250810T163000
DTSTAMP:20260423T124518
CREATED:20250716T144039Z
LAST-MODIFIED:20250716T144039Z
UID:14781-1754837100-1754843400@www.grandscape.com
SUMMARY:PBR Teams: Freedom Days (Day 3) at Cosm
DESCRIPTION:Be a part of the action at Day 3 of PBR Teams: Freedom Days in Shared Reality at Cosm. Take professional bull riding to a new level\, putting you in the chute with the riders at Amerant Bank Arena in Florida. [Time subject to change*]\nCome along for the ride and hang on tight as the world’s best riders team up for the ultimate bull riding competition. Surround yourself in the adrenaline-filled action of the most intense 8 seconds in sports. Experience PBR Teams like never before.\nDates\, Times\, and Matchups are subject to change.\n*Event times hosted by Cosm may be subject to change due to scheduling conflicts. Cosm reserves the right\, at its sole discretion\, to adjust the start or end time of your event\, without notice\, which may differ from the time listed on your original ticket.
URL:https://www.grandscape.com/event/pbr-teams-freedom-days-day-3-at-cosm/2025-08-10/
LOCATION:Cosm
CATEGORIES:Sports
ATTACH;FMTTYPE=image/webp:https://www.grandscape.com/wp-content/uploads/2025/07/250810_PBRTeams_Florida_1920x1080-scaled.webp
END:VEVENT
BEGIN:VEVENT
DTSTART;TZID=America/New_York:20250810T110000
DTEND;TZID=America/New_York:20250810T150000
DTSTAMP:20260423T124518
CREATED:20250730T133219Z
LAST-MODIFIED:20250730T133219Z
UID:14857-1754823600-1754838000@www.grandscape.com
SUMMARY:Give Back Event at Tande Thai
DESCRIPTION:Tande Thai will be donating 10% of food sales to benefit the Kerr County Flood Relief Fund with Community Foundation of the Texas Hill Country. To support\, dine in or order takeout during brunch and mention Flood Relief Fund to a team member.
URL:https://www.grandscape.com/event/give-back-event-at-tande-thai-2/2025-08-10/
LOCATION:Tande Thai
CATEGORIES:Charities & Fundraising,Food & Drink
ATTACH;FMTTYPE=image/png:https://www.grandscape.com/wp-content/uploads/2025/07/GIve-Back-Kerr-County-Flood-Aug9-and-Aug10.png
END:VEVENT
BEGIN:VEVENT
DTSTART;TZID=America/Chicago:20250809T170000
DTEND;TZID=America/Chicago:20250809T180000
DTSTAMP:20260423T124518
CREATED:20250801T202900Z
LAST-MODIFIED:20250801T202940Z
UID:14926-1754758800-1754762400@www.grandscape.com
SUMMARY:Big Wave: No Room for Error at Cosm
DESCRIPTION:Submerge yourself in Tahiti’s most iconic and challenging wave — Teahupo’o. In Big Wave: No Room for Error\, experience the thrill of Earth’s most treacherous surf breaks as award-winning photographer and filmmaker Bo Bridges captures the fine line between triumph and destruction.\nFollow the journey of Heimiti Fierro\, a Tahitian surfer\, as she strives to overcome her fears and conquer the legendary big waves at Teahupo’o. You’ll dive into crystal clear waters\, surrounded by stunning beaches and the beauty of French Polynesia\, pulsing with life and energy\, and feel as if you’re inches away from razor-sharp coral reefs.\nIn this secluded paradise\, surfers risk it all to catch the perfect wave.\n\n	\nWednesday\, August 6th\, 2025 – 7:00pm\n\n	\nSaturday\, August 9th\, 2025 – 5:00pm\n\n	\nThursday\, August 14th\, 2025 – 6:00pm\n\n	\nTuesday\, August 19th\, 2025 – 5:30pm\n\n	\nWednesday\, August 27th\, 2025 – 5:30pm\n\n\nThis thrill ride isn’t just a documentary — it’s a raw\, visceral voyage into the human spirit’s most extreme frontier. Go inside the world’s heaviest waves in Portugal\, Hawaii\, and Tahiti and into the minds of the fearless few pushing surfing to its limits. Powered by a soundtrack featuring Pearl Jam\, Glass Animals\, and the musical score of 16-time Emmy award-winning composer Didier Lean Rachou\, Big Wave: No Room for Error immerses you in the awe-inspiring beauty of big waves transporting you beneath the surface in Shared Reality.\nThere are multiple areas to explore within Cosm:\nTHE DOME: Step inside this Shared Reality space and surround yourself in the event. The Dome hosts fully immersive views\, making you feel like you’re there\nTHE HALL: Witness all the thrills and excitement with wall-to-wall entertainment\nTHE DECK: Relax with friends in the open air and enjoy breathtaking views of Grandscape.
URL:https://www.grandscape.com/event/big-wave-no-room-for-error-at-cosm-13/2025-08-09/
LOCATION:Cosm
ATTACH;FMTTYPE=image/png:https://www.grandscape.com/wp-content/uploads/2025/08/png_BigWave_Keyart_2880x1620_v3-scaled.png
END:VEVENT
BEGIN:VEVENT
DTSTART;TZID=America/New_York:20250809T110000
DTEND;TZID=America/New_York:20250809T150000
DTSTAMP:20260423T124518
CREATED:20250730T133219Z
LAST-MODIFIED:20250730T133219Z
UID:14854-1754737200-1754751600@www.grandscape.com
SUMMARY:Give Back Event at Tande Thai
DESCRIPTION:Tande Thai will be donating 10% of food sales to benefit the Kerr County Flood Relief Fund with Community Foundation of the Texas Hill Country. To support\, dine in or order takeout during brunch and mention Flood Relief Fund to a team member.
URL:https://www.grandscape.com/event/give-back-event-at-tande-thai-2/2025-08-09/
LOCATION:Tande Thai
CATEGORIES:Charities & Fundraising,Food & Drink
ATTACH;FMTTYPE=image/png:https://www.grandscape.com/wp-content/uploads/2025/07/GIve-Back-Kerr-County-Flood-Aug9-and-Aug10.png
END:VEVENT
BEGIN:VEVENT
DTSTART;TZID=America/Chicago:20250809T103000
DTEND;TZID=America/Chicago:20250809T120000
DTSTAMP:20260423T124518
CREATED:20250801T184056Z
LAST-MODIFIED:20250801T185715Z
UID:14917-1754735400-1754740800@www.grandscape.com
SUMMARY:“O” by Cirque du Soleil at Cosm
DESCRIPTION:Experience “O” by Cirque du Soleil in the groundbreaking new format of Cosm Shared Reality.\nCosm—a global leader in experiential media and immersive technology—is blending the physical space with the digital world to bring you a deeply immersive Cirque du Soleil experience in a new communal format.\n“O” in Shared Reality places you inside an 87-foot wraparound LED dome to witness the majesty of “O” in astonishing 12K+ resolution! No headsets. Just you and your friends sharing an unforgettable experience surrounded by acrobatics\, artistry\, and the dreamlike vignettes of Cirque du Soleil’s aquatic masterpiece.\nGather your friends for the visionary digital entertainment event of “O” in Cosm Shared Reality.\n\n	\nWednesday\, July 30th\, 2025 – 7:30pm\n\n	\nFriday\, August 1st\, 2025 – 4:30pm\n\n	\nSaturday\, August 9th\, 2025 – 10:30am\n\n	\nSunday\, August 10th\, 2025 – 5:00pm\n\n	\nMonday\, August 18th\, 2025 – 3:00pm\n\n	\nThursday\, August 28th\, 2025 – 2:00pm\n\n\n“O” by Cirque du Soleil is approximately 90 minutes. The show will begin promptly at the show start time listed on your ticket. Doors will open at least one hour before that time to allow you to explore The Hall and The Deck and find your seat in The Dome.\nSuitable for all ages. Please keep in mind that some parts of this event may include flashing lights\, strobing effects\, or other visual elements that may cause discomfort for photosensitive individuals. Feel free to contact our customer service team if you need any assistance. We are committed to making sure your experience is enjoyable.\nWalk-ins welcome. Subject to availability.
URL:https://www.grandscape.com/event/o-by-cirque-du-soleil-at-cosm-2/2025-08-09/
LOCATION:Cosm
ATTACH;FMTTYPE=image/webp:https://www.grandscape.com/wp-content/uploads/2025/08/2505_Fever_Cirque_v1-scaled.webp
END:VEVENT
BEGIN:VEVENT
DTSTART;TZID=America/Chicago:20250808T200000
DTEND;TZID=America/Chicago:20250808T220000
DTSTAMP:20260423T124518
CREATED:20250619T202120Z
LAST-MODIFIED:20250619T202650Z
UID:14623-1754683200-1754690400@www.grandscape.com
SUMMARY:Sounds of Summer: Champagne Yacht Club
DESCRIPTION:Come for the vibes\, stay for the escape—it’s smooth sailing all night long!  \nSet sail on a smooth wave of sound as Champagne Yacht Club brings their signature yacht rock vibes LIVE on the stage on Friday\, August 8 from 8:00-10:00pm\, presented by Corona. \nCan’t make it to this concert? No worries! Grandscape’s Sounds of Summer series is every Friday\, June through August\, from 8:00-10:00pm! \nThis show is FREE to the public. Enjoy the concert from our vast lawn by bringing a blanket or lawn chair! \nNo outside alcohol or coolers are allowed. Please visit event faq for more information. \nLooking for parking? Use our free parking garage. \nGrandscape is a large outdoor shopping center with plenty of food and dining options to enjoy before the concert. 
URL:https://www.grandscape.com/event/sounds-of-summer-champagne-yacht-club-3/2025-08-08/
LOCATION:Corona Stage & Lawn
CATEGORIES:Concert
ATTACH;FMTTYPE=image/jpeg:https://www.grandscape.com/wp-content/uploads/2025/06/GS_Sounds-of-Summer_Generic-Website_960x500.jpg
END:VEVENT
BEGIN:VEVENT
DTSTART;TZID=America/Chicago:20250806T190000
DTEND;TZID=America/Chicago:20250806T200000
DTSTAMP:20260423T124518
CREATED:20250801T202900Z
LAST-MODIFIED:20250801T202940Z
UID:14923-1754506800-1754510400@www.grandscape.com
SUMMARY:Big Wave: No Room for Error at Cosm
DESCRIPTION:Submerge yourself in Tahiti’s most iconic and challenging wave — Teahupo’o. In Big Wave: No Room for Error\, experience the thrill of Earth’s most treacherous surf breaks as award-winning photographer and filmmaker Bo Bridges captures the fine line between triumph and destruction.\nFollow the journey of Heimiti Fierro\, a Tahitian surfer\, as she strives to overcome her fears and conquer the legendary big waves at Teahupo’o. You’ll dive into crystal clear waters\, surrounded by stunning beaches and the beauty of French Polynesia\, pulsing with life and energy\, and feel as if you’re inches away from razor-sharp coral reefs.\nIn this secluded paradise\, surfers risk it all to catch the perfect wave.\n\n	\nWednesday\, August 6th\, 2025 – 7:00pm\n\n	\nSaturday\, August 9th\, 2025 – 5:00pm\n\n	\nThursday\, August 14th\, 2025 – 6:00pm\n\n	\nTuesday\, August 19th\, 2025 – 5:30pm\n\n	\nWednesday\, August 27th\, 2025 – 5:30pm\n\n\nThis thrill ride isn’t just a documentary — it’s a raw\, visceral voyage into the human spirit’s most extreme frontier. Go inside the world’s heaviest waves in Portugal\, Hawaii\, and Tahiti and into the minds of the fearless few pushing surfing to its limits. Powered by a soundtrack featuring Pearl Jam\, Glass Animals\, and the musical score of 16-time Emmy award-winning composer Didier Lean Rachou\, Big Wave: No Room for Error immerses you in the awe-inspiring beauty of big waves transporting you beneath the surface in Shared Reality.\nThere are multiple areas to explore within Cosm:\nTHE DOME: Step inside this Shared Reality space and surround yourself in the event. The Dome hosts fully immersive views\, making you feel like you’re there\nTHE HALL: Witness all the thrills and excitement with wall-to-wall entertainment\nTHE DECK: Relax with friends in the open air and enjoy breathtaking views of Grandscape.
URL:https://www.grandscape.com/event/big-wave-no-room-for-error-at-cosm-13/2025-08-06/
LOCATION:Cosm
ATTACH;FMTTYPE=image/png:https://www.grandscape.com/wp-content/uploads/2025/08/png_BigWave_Keyart_2880x1620_v3-scaled.png
END:VEVENT
BEGIN:VEVENT
DTSTART;TZID=America/New_York:20250805T180000
DTEND;TZID=America/New_York:20250805T200000
DTSTAMP:20260423T124518
CREATED:20250805T162123Z
LAST-MODIFIED:20250805T162123Z
UID:14939-1754416800-1754424000@www.grandscape.com
SUMMARY:Live Music at Tande Thai
DESCRIPTION:Join us every Tuesday from 6pm-8pm for live music and enjoy Happy Hour all night long\, from 4pm to close.
URL:https://www.grandscape.com/event/live-music-at-tande-thai/2025-08-05/
LOCATION:Tande Thai
CATEGORIES:Concert,Food & Drink
ATTACH;FMTTYPE=image/png:https://www.grandscape.com/wp-content/uploads/2025/07/Live-Music-Tuesdays.png
END:VEVENT
BEGIN:VEVENT
DTSTART;TZID=America/Chicago:20250803T123000
DTEND;TZID=America/Chicago:20250803T143000
DTSTAMP:20260423T124518
CREATED:20250718T163200Z
LAST-MODIFIED:20250718T163200Z
UID:14815-1754224200-1754231400@www.grandscape.com
SUMMARY:The Matrix in Shared Reality at Cosm
DESCRIPTION:Are you ready to question reality? We’ll show you the door. Enter “The Matrix” in Shared Reality—a mind-bending\, fully immersive experience like no other.\nIn partnership with Warner Bros. Pictures and Emmy-nominated studio Little Cinema\, Cosm is bringing “The Matrix” to life in a groundbreaking celebration of its 25th anniversary. Experience the film as it unfolds around you on Cosm’s massive 87-foot LED dome\, with visuals that dynamically interact with the action on screen.\nUnfortunately\, no one can be told what the Matrix is. You have to see it for yourself. Free your mind and experience the true magnitude of “The Matrix” in this exclusive cinematic event.\nEnhance your journey with curated food and drink available for purchase. Ask about the tasting menu when you arrive to ignite your senses and dive even deeper into the world of “The Matrix”.\nContains adult material; under 17 requires accompanying parent or adult guardian. Please keep in mind that some parts of this event may include flashing lights\, strobing effects\, or other visual elements that may cause discomfort for photosensitive individuals. Feel free to contact our customer service team if you need any assistance. We are committed to making sure your experience is enjoyable.
URL:https://www.grandscape.com/event/the-matrix-in-shared-reality-at-cosm-7/2025-08-03/
LOCATION:Cosm
CATEGORIES:Food & Drink
ATTACH;FMTTYPE=image/webp:https://www.grandscape.com/wp-content/uploads/2025/07/2505_Fever_Matrix_v1-scaled.webp
END:VEVENT
BEGIN:VEVENT
DTSTART;TZID=America/New_York:20250803T110000
DTEND;TZID=America/New_York:20250803T150000
DTSTAMP:20260423T124518
CREATED:20250730T131500Z
LAST-MODIFIED:20250730T131802Z
UID:14849-1754218800-1754233200@www.grandscape.com
SUMMARY:Give Back Event at Tande Thai
DESCRIPTION:Tande Thai will be donating 10% of food sales to benefit Children’s Advocacy Center of Collin County. To support\, dine in or order takeout during brunch and mention CACCC to a team member. \nChildren’s Advocacy Center of Collin County is a nationally recognized nonprofit organization providing hope to children and families victimized by child abuse. Our proven approach brings experts together under one roof to ensure safety and justice for children. We are the only agency in our community offering services critical to healing\, free for life.
URL:https://www.grandscape.com/event/give-back-event-at-tande-thai/2025-08-03/
LOCATION:Tande Thai
CATEGORIES:Charities & Fundraising,Food & Drink
ATTACH;FMTTYPE=image/png:https://www.grandscape.com/wp-content/uploads/2025/07/Give-Back-CACCC-Aug2-and-Aug3.png
END:VEVENT
BEGIN:VEVENT
DTSTART;TZID=America/New_York:20250802T110000
DTEND;TZID=America/New_York:20250802T150000
DTSTAMP:20260423T124518
CREATED:20250730T131500Z
LAST-MODIFIED:20250730T131802Z
UID:14846-1754132400-1754146800@www.grandscape.com
SUMMARY:Give Back Event at Tande Thai
DESCRIPTION:Tande Thai will be donating 10% of food sales to benefit Children’s Advocacy Center of Collin County. To support\, dine in or order takeout during brunch and mention CACCC to a team member. \nChildren’s Advocacy Center of Collin County is a nationally recognized nonprofit organization providing hope to children and families victimized by child abuse. Our proven approach brings experts together under one roof to ensure safety and justice for children. We are the only agency in our community offering services critical to healing\, free for life.
URL:https://www.grandscape.com/event/give-back-event-at-tande-thai/2025-08-02/
LOCATION:Tande Thai
CATEGORIES:Charities & Fundraising,Food & Drink
ATTACH;FMTTYPE=image/png:https://www.grandscape.com/wp-content/uploads/2025/07/Give-Back-CACCC-Aug2-and-Aug3.png
END:VEVENT
BEGIN:VEVENT
DTSTART;TZID=America/Chicago:20250801T200000
DTEND;TZID=America/Chicago:20250801T220000
DTSTAMP:20260423T124518
CREATED:20250718T162147Z
LAST-MODIFIED:20250718T162147Z
UID:14809-1754078400-1754085600@www.grandscape.com
SUMMARY:The Matrix in Shared Reality w/ Tasting Menu at Cosm
DESCRIPTION:Are you ready to question reality? We’ll show you the door. Enter “The Matrix” in Shared Reality—a mind-bending\, fully immersive experience like no other.\nIn partnership with Warner Bros. Pictures and Emmy-nominated studio Little Cinema\, Cosm is bringing “The Matrix” to life in a groundbreaking celebration of its 25th anniversary. Experience the film as it unfolds around you on Cosm’s massive 87-foot LED dome\, with visuals that dynamically interact with the action on screen.\nUnfortunately\, no one can be told what the Matrix is. You have to see it for yourself. Free your mind and experience the true magnitude of “The Matrix” in this exclusive cinematic event.\nEnhance your journey with curated food and drink available for purchase. Ask about the tasting menu when you arrive to ignite your senses and dive even deeper into the world of “The Matrix”.\nContains adult material; under 17 requires accompanying parent or adult guardian. Please keep in mind that some parts of this event may include flashing lights\, strobing effects\, or other visual elements that may cause discomfort for photosensitive individuals. Feel free to contact our customer service team if you need any assistance. We are committed to making sure your experience is enjoyable.
URL:https://www.grandscape.com/event/the-matrix-in-shared-reality-w-tasting-menu-at-cosm/2025-08-01/
LOCATION:Cosm
CATEGORIES:Food & Drink
ATTACH;FMTTYPE=image/webp:https://www.grandscape.com/wp-content/uploads/2025/07/2505_Fever_Matrix_v1-scaled.webp
END:VEVENT
BEGIN:VEVENT
DTSTART;TZID=America/Chicago:20250801T200000
DTEND;TZID=America/Chicago:20250801T220000
DTSTAMP:20260423T124518
CREATED:20250619T193813Z
LAST-MODIFIED:20250725T191218Z
UID:14621-1754078400-1754085600@www.grandscape.com
SUMMARY:Sounds of Summer: 90's Night
DESCRIPTION:Stop\, collaborate\, and listen — Emerald City’s back with a 90s mission! \nWe are gonna party like it’s 1995 with the Emerald City Band LIVE on The Grandscape Stage & Lawn on Friday\, August 1 from 8:00-10:00pm\, presented by Corona. This is one party you don’t want to miss. So grab your crew\, charge your beeper\, and let’s make it a night that’s all that and a bag of chips! \nTicketed Options: \n$10 General Admission Standing Room: \n\n	This standing room is right in front of the stage.\n	Lawn chairs or blankets are NOT allowed in this area.\n	Access to The Colony Wine Bar kiosk.\n\n$14 Reserved Open Seating: \n\n	This will reserve you space on the lawn behind the Picnic Tables.\n	Seating NOT provided. Must bring your own lawn chairs or blankets.\n	Access to The Colony Wine Bar kiosk.\n\n$90 Picnic Table for 6 People \n\n	These picnic tables are behind General Admission Standing Room.\n	Picnic table holds up to 6 people.\n	Access to The Colony Wine Bar kiosk.\n\n*Children under 5 do not need a ticket. \n**Ticket prices will increase day of event. \nCan’t make it to this concert? No worries! Grandscape’s Sounds of Summer series is every Friday\, June through August\, from 8:00-10:00pm!  \nNo outside alcohol or coolers are allowed. Please visit event faq for more information. \nLooking for parking? Use our free parking garage. \nGrandscape is a large outdoor shopping center with plenty of food and dining options to enjoy before the concert.
URL:https://www.grandscape.com/event/sounds-of-summer-90s-night/2025-08-01/
LOCATION:Corona Stage & Lawn
CATEGORIES:Concert
ATTACH;FMTTYPE=image/jpeg:https://www.grandscape.com/wp-content/uploads/2025/06/GS_Sounds-of-Summer_Generic-Website_960x500.jpg
END:VEVENT
BEGIN:VEVENT
DTSTART;TZID=America/Chicago:20250801T163000
DTEND;TZID=America/Chicago:20250801T180000
DTSTAMP:20260423T124518
CREATED:20250801T184056Z
LAST-MODIFIED:20250801T185713Z
UID:14922-1754065800-1754071200@www.grandscape.com
SUMMARY:“O” by Cirque du Soleil at Cosm
DESCRIPTION:Experience “O” by Cirque du Soleil in the groundbreaking new format of Cosm Shared Reality.\nCosm—a global leader in experiential media and immersive technology—is blending the physical space with the digital world to bring you a deeply immersive Cirque du Soleil experience in a new communal format.\n“O” in Shared Reality places you inside an 87-foot wraparound LED dome to witness the majesty of “O” in astonishing 12K+ resolution! No headsets. Just you and your friends sharing an unforgettable experience surrounded by acrobatics\, artistry\, and the dreamlike vignettes of Cirque du Soleil’s aquatic masterpiece.\nGather your friends for the visionary digital entertainment event of “O” in Cosm Shared Reality.\n\n	\nWednesday\, July 30th\, 2025 – 7:30pm\n\n	\nFriday\, August 1st\, 2025 – 4:30pm\n\n	\nSaturday\, August 9th\, 2025 – 10:30am\n\n	\nSunday\, August 10th\, 2025 – 5:00pm\n\n	\nMonday\, August 18th\, 2025 – 3:00pm\n\n	\nThursday\, August 28th\, 2025 – 2:00pm\n\n\n“O” by Cirque du Soleil is approximately 90 minutes. The show will begin promptly at the show start time listed on your ticket. Doors will open at least one hour before that time to allow you to explore The Hall and The Deck and find your seat in The Dome.\nSuitable for all ages. Please keep in mind that some parts of this event may include flashing lights\, strobing effects\, or other visual elements that may cause discomfort for photosensitive individuals. Feel free to contact our customer service team if you need any assistance. We are committed to making sure your experience is enjoyable.\nWalk-ins welcome. Subject to availability.
URL:https://www.grandscape.com/event/o-by-cirque-du-soleil-at-cosm-2/2025-08-01/
LOCATION:Cosm
ATTACH;FMTTYPE=image/webp:https://www.grandscape.com/wp-content/uploads/2025/08/2505_Fever_Cirque_v1-scaled.webp
END:VEVENT
BEGIN:VEVENT
DTSTART;VALUE=DATE:20250801
DTEND;VALUE=DATE:20250903
DTSTAMP:20260423T124518
CREATED:20250716T140458Z
LAST-MODIFIED:20250716T140458Z
UID:14772-1754006400-1756857599@www.grandscape.com
SUMMARY:A Conjuring of Scares at Galaxy Theatres
DESCRIPTION:Get ready to scream\, laugh nervously\, and clutch your popcorn—because Galaxy Theatres is dialing up the fear with A CONJURING OF SCARES\, a limited-time horror retrospective leading up to the terrifying release of THE CONJURING: LAST RITES.\nWe’re not just showing scary movies. We’re inviting you to relive the legends—on the big screen\, where every jump scare hits harder\, every creepy whisper echoes longer\, and every shadow seems a little too real.\nWhether you’re a die-hard horror fan or just looking for a thrilling night out\, this countdown is designed to give you chills in the best way possible. Trust us—it’s way more fun when you’re screaming with a crowd.\n \nThe Lineup That Haunts Your Dreams\nEach week\, we’re resurrecting a different horror favorite. Here’s the twisted timeline:\nPOLTERGEIST – August 1\, 4 & 5\nBEETLEJUICE – August 8\, 11 & 12\nCONSTANTINE – August 15\, 18 & 19 INSIDIOUS – August 22\, 25 & 26.\nFINAL DESTINATION – August 29\, September 1 & 2\n \nWhy Watch These Films at Galaxy?\nBecause horror is better with an audience. There’s something magical about the collective gasp during a jump scare\, or the shared laughter in a creepy-funny moment. At Galaxy Theatres\, you’re not just watching a movie—you’re immersed in it.\nWith our crystal-clear projection\, incredible sound systems\, comfy reclining seats\, and top-tier concessions\, you get to enjoy these films the way they were meant to be seen. Plus\, there’s just something extra scary about watching a horror film in the dark with strangers.\nAnd for a limited time\, you’ll get to relive these legends on the big screen\, exactly as they deserve.\n\nDon’t Wait—These Screenings Will Disappear\nEach film only plays on select dates\, and seats will go fast. Horror fans know: a scream is best shared. So gather your crew\, pick your favorite flick—or dare to face them all—and grab your tickets now.\n\n\nThe spirits are stirring. Are you in?\nGet your tickets now!
URL:https://www.grandscape.com/event/a-conjuring-of-scares-at-galaxy-theatres/2025-08-01/
LOCATION:Galaxy Theatres\, 5740 Grandscape Blvd\, Suite 100\, The Colony\, TX\, 75056
CATEGORIES:Watch Parties
ATTACH;FMTTYPE=image/jpeg:https://www.grandscape.com/wp-content/uploads/2025/07/thumbnail_ConjuringCountdown-Guest-Facing-1920-x-1080.jpg
END:VEVENT
BEGIN:VEVENT
DTSTART;TZID=America/Chicago:20250731T200000
DTEND;TZID=America/Chicago:20250731T230000
DTSTAMP:20260423T124518
CREATED:20250716T185744Z
LAST-MODIFIED:20250728T145636Z
UID:14798-1753992000-1754002800@www.grandscape.com
SUMMARY:Salsa Night at JĀKÖ Cocina y Agave
DESCRIPTION:Join us every Thursday from 8–11 PM for live salsa music! Enjoy delicious dining and dance the night away with our vibrant salsa band.
URL:https://www.grandscape.com/event/salsa-night-at-jako-cocina-y-agave-3/2025-07-31/
CATEGORIES:Food & Drink
ATTACH;FMTTYPE=application/pdf:https://www.grandscape.com/wp-content/uploads/2025/07/SALSA-JAKO.pdf
END:VEVENT
END:VCALENDAR