BEGIN:VCALENDAR
VERSION:2.0
PRODID:-//Grandscape - ECPv6.15.16//NONSGML v1.0//EN
CALSCALE:GREGORIAN
METHOD:PUBLISH
X-ORIGINAL-URL:https://www.grandscape.com
X-WR-CALDESC:Events for Grandscape
REFRESH-INTERVAL;VALUE=DURATION:PT1H
X-Robots-Tag:noindex
X-PUBLISHED-TTL:PT1H
BEGIN:VTIMEZONE
TZID:America/Chicago
BEGIN:DAYLIGHT
TZOFFSETFROM:-0600
TZOFFSETTO:-0500
TZNAME:CDT
DTSTART:20240310T080000
END:DAYLIGHT
BEGIN:STANDARD
TZOFFSETFROM:-0500
TZOFFSETTO:-0600
TZNAME:CST
DTSTART:20241103T070000
END:STANDARD
BEGIN:DAYLIGHT
TZOFFSETFROM:-0600
TZOFFSETTO:-0500
TZNAME:CDT
DTSTART:20250309T080000
END:DAYLIGHT
BEGIN:STANDARD
TZOFFSETFROM:-0500
TZOFFSETTO:-0600
TZNAME:CST
DTSTART:20251102T070000
END:STANDARD
BEGIN:DAYLIGHT
TZOFFSETFROM:-0600
TZOFFSETTO:-0500
TZNAME:CDT
DTSTART:20260308T080000
END:DAYLIGHT
BEGIN:STANDARD
TZOFFSETFROM:-0500
TZOFFSETTO:-0600
TZNAME:CST
DTSTART:20261101T070000
END:STANDARD
END:VTIMEZONE
BEGIN:VEVENT
DTSTART;TZID=America/Chicago:20251030T180000
DTEND;TZID=America/Chicago:20251030T210000
DTSTAMP:20260423T141829
CREATED:20250911T142343Z
LAST-MODIFIED:20251028T204013Z
UID:15206-1761847200-1761858000@www.grandscape.com
SUMMARY:Halloween Spirits Walk
DESCRIPTION:This Halloween\, We’re Raising Spirits (Literally)\nThis will be a chillingly fun evening of boos\, brews\, and booze at our fourth annual Spirits Walk on Thursday\, October 30 from 6:00-9:00pm! Dress in your Halloween best and sip your way through participating venues. Join us for some adult trick-or-treating with Halloween drink samples from your favorite Grandscape restaurants and shops—each offering a unique potion sure to lift your spirits.\nTickets for your tasting journey are $30+tax and include:\n\n	\n10+ Drink Samples\n\n	\nPhoto Ops\n\n\nThis event is 21 & up. Photo ID required at check-in.\nPlease visit event faq for more information. \nLooking for parking? Use our free parking garage. \nGrandscape is a large outdoor shopping center with plenty of food and dining options to enjoy before the event. 
URL:https://www.grandscape.com/event/halloween-spirits-walk-3/2025-10-30/
CATEGORIES:21+,Holiday Events
ATTACH;FMTTYPE=image/jpeg:https://www.grandscape.com/wp-content/uploads/2025/09/GS_Halloween-Spirits-Walk_Website_960x500.jpg
END:VEVENT
BEGIN:VEVENT
DTSTART;TZID=America/Chicago:20251030T190000
DTEND;TZID=America/Chicago:20251030T213000
DTSTAMP:20260423T141829
CREATED:20251017T141552Z
LAST-MODIFIED:20251017T141552Z
UID:15515-1761850800-1761859800@www.grandscape.com
SUMMARY:NFL: Ravens @ Dolphins at Cosm
DESCRIPTION:Catch the Baltimore Ravens take on the Miami Dolphins on Thursday Night Football on Amazon Prime on Thursday\, 10/30 at 7:00p CT in Shared Reality at Cosm. [Time subject to change*]\nThe content shown at this Event is protected by copyright. The use of cell phones or any other recording devices to live-stream or otherwise copy the on-screen Event presentation is strictly prohibited. If you do so\, you consent to your immediate removal from the Event and the forfeiture of any Event content in your possession. Thank you for your understanding and cooperation\n*Event times hosted by Cosm may be subject to change due to scheduling conflicts. Cosm reserves the right\, at its sole discretion\, to adjust the start or end time of your event\, without notice\, which may differ from the time listed on your original ticket.
URL:https://www.grandscape.com/event/nfl-ravens-dolphins-at-cosm/2025-10-30/
LOCATION:Cosm
ATTACH;FMTTYPE=image/webp:https://www.grandscape.com/wp-content/uploads/2025/10/103025-NFL-BALvMIA-scaled.webp
END:VEVENT
BEGIN:VEVENT
DTSTART;TZID=America/Chicago:20251031T180000
DTEND;TZID=America/Chicago:20251031T210000
DTSTAMP:20260423T141829
CREATED:20250930T160515Z
LAST-MODIFIED:20251017T214229Z
UID:15408-1761933600-1761944400@www.grandscape.com
SUMMARY:Trick-or-Treat Extravaganza
DESCRIPTION:Costumes\, Candy\, & Creepy Fun Await!\n\n \nJoin us for a frightfully exciting evening on Friday\, October 31 from 6:00-9:00pm as your favorite villains return for a wicked celebration like no other. It’s time for all treats\, no tricks\, and spooky vibes for everyone to enjoy\, presented by Baylor Scott & White Health!\n \nThis event will include:\n\n	\nTrick or Treat stops throughout Grandscape*\n\n	\nCharacter meet and greets\n\n	\nLive DJ\n\n	\nSpooktacular live stage shows**\n\n\n \nDon’t ghost the fun when there is an exciting BOO-tastic night waiting just for you!\n \n*Candy will be available while supplies last\n \n**Stage performances will take place at 7:00pm and 8:30pm\n \nLooking for parking? Use our free parking garage.\n\nGrandscape is a large outdoor shopping center with plenty of food and dining. Please feel free to shop around The Homestead and grab a bite to eat at one of our many restaurants before or after the event!
URL:https://www.grandscape.com/event/trick-or-treat-extravaganza-2/2025-10-31/
LOCATION:Stage & Lawn\, 5752 Grandscape Blvd.\, The Colony\, TX\, 75056\, United States
ATTACH;FMTTYPE=image/jpeg:https://www.grandscape.com/wp-content/uploads/2025/09/GS_Trick-or-Treat-Extravaganza_Website_960x500.jpg
END:VEVENT
BEGIN:VEVENT
DTSTART;TZID=America/Chicago:20251031T200000
DTEND;TZID=America/Chicago:20251031T223000
DTSTAMP:20260423T141829
CREATED:20251002T192116Z
LAST-MODIFIED:20251023T204938Z
UID:15430-1761940800-1761949800@www.grandscape.com
SUMMARY:Silent Disco: Halloween Edition
DESCRIPTION:Shhh… the spirits are calling!\nJoin us on Friday\, October 31 from 8:00 – 10:30pm for a Halloween Silent Disco presented by NFM as three DJs battle for your soul with hauntingly good beats. Throw on your best costumes\, slip the glowing headphones on\, and dance like no one can hear you (because they can’t).\nEvent Location – The Grotto\nEvent Cost – $15.00\nTickets will include:\n\n	three DJs battling it out\n	glow merchandise & Halloween surprises\n	costume-friendly dance floor fun\n\nDon’t be a ghost\, join us where the silence is spooky and the beats are killer.\n**Event attendees will need to have a valid driver’s license present in order to exchange for headphones at the silent disco and will be available to receive starting at 7:00pm. Costumes must be appropriate for a family-friendly public space. No overly revealing\, offensive\, or graphic costumes. No dangerous props or weapons of any kind – real or fake.\nWondering what The Grotto is? Unwind\, dine\, and delight in this outdoor oasis located between the Kaleidoscope and Grandscape Blvd. Explore the lower and upper levels of The Grotto with unique dining experiences and patio scenes you won’t want to miss.
URL:https://www.grandscape.com/event/silent-disco-halloween-edition/2025-10-31/
LOCATION:The Grotto
CATEGORIES:Holiday Events
ATTACH;FMTTYPE=image/jpeg:https://www.grandscape.com/wp-content/uploads/2025/10/GS_Halloween-Silent-Disco_Website_960x500.jpg
END:VEVENT
BEGIN:VEVENT
DTSTART;TZID=America/Chicago:20251101T120000
DTEND;TZID=America/Chicago:20251101T140000
DTSTAMP:20260423T141829
CREATED:20251030T210459Z
LAST-MODIFIED:20251030T210459Z
UID:15619-1761998400-1762005600@www.grandscape.com
SUMMARY:NCAAF:  Penn State @ Ohio State at Cosm
DESCRIPTION:Tickets are coming soon. Click the “Notify Me” button now to receive an alert as soon as they go on sale.\nBe a part of the action as Penn State takes on Ohio State in Shared Reality at Cosm. Experience the game like never before as you’re immersed in every tackle\, interception\, and touchdown. [Time subject to change*]\nGo between the hash marks as two of last year’s College Football Playoff semifinalists go head-to-head. Level up your gameday experience\, show your school spirit\, and be there for all the action at Cosm.\nThe content shown at this Event is protected by copyright. The use of cell phones or any other recording devices to live-stream or otherwise materially copy the on-screen Event presentation is strictly prohibited. If you do so\, you consent to your immediate removal from the Event and the forfeiture of any Event content in your possession. Thank you for your understanding and cooperation.\n*Event times hosted by Cosm may be subject to change due to scheduling conflicts. Cosm reserves the right\, at its sole discretion\, to adjust the start or end time of your event\, without notice\, which may differ from the time listed on your original ticket.
URL:https://www.grandscape.com/event/ncaaf-penn-state-ohio-state-at-cosm/2025-11-01/
LOCATION:Cosm
CATEGORIES:Sports
ATTACH;FMTTYPE=image/webp:https://www.grandscape.com/wp-content/uploads/2025/10/110125-NCAAFB-PSUvOSU-scaled.webp
END:VEVENT
BEGIN:VEVENT
DTSTART;TZID=America/Chicago:20251101T150000
DTEND;TZID=America/Chicago:20251101T170000
DTSTAMP:20260423T141829
CREATED:20251030T210957Z
LAST-MODIFIED:20251030T210957Z
UID:15621-1762009200-1762016400@www.grandscape.com
SUMMARY:Premier League: Liverpool vs. Aston Villa at Cosm
DESCRIPTION:Be a part of the action as Liverpool takes on Aston Villa in Shared Reality at Cosm. Get ready to experience the Premier League like never before as you’re transported onto the pitch. [Time subject to change*]\n\nLiverpool has picked up where it left off last season. The title holders are once again setting the standard to start the Premier League season. Aston Villa have struggled to find the back of the net and to pick up points. Unai Emery’s team has the challenging task of getting back on track with a visit to Anfield. Wrap yourself in all the action of the Premier League\, where every shot\, goal\, and save comes to life.\n\n*Event times hosted by Cosm may be subject to change due to scheduling conflicts. Cosm reserves the right\, at its sole discretion\, to adjust the start or end time of your event\, without notice\, which may differ from the time listed on your original ticket.
URL:https://www.grandscape.com/event/premier-league-liverpool-vs-aston-villa-at-cosm/2025-11-01/
LOCATION:Cosm
CATEGORIES:Sports
ATTACH;FMTTYPE=image/webp:https://www.grandscape.com/wp-content/uploads/2025/10/251101_EPL_LIVvAVA-scaled.webp
END:VEVENT
BEGIN:VEVENT
DTSTART;TZID=America/Chicago:20251101T183000
DTEND;TZID=America/Chicago:20251101T203000
DTSTAMP:20260423T141829
CREATED:20251030T212104Z
LAST-MODIFIED:20251030T212104Z
UID:15623-1762021800-1762029000@www.grandscape.com
SUMMARY:NCAAF: USC @ Nebraska at Cosm
DESCRIPTION:Be a part of the action as USC takes on Nebraska in Shared Reality at Cosm. Experience the game like never before as you’re immersed in every tackle\, interception\, and touchdown. [This event may be canceled if it coincides with Game 7 of the World Series. Cosm will promptly notify fans if any changes occur.]\nGo between the hash marks from Memorial Stadium when the Trojans face the Cornhuskers. Level up your gameday experience\, show your school spirit\, and be there for all the action at Cosm.\nThe content shown at this Event is protected by copyright. The use of cell phones or any other recording devices to live-stream or otherwise materially copy the on-screen Event presentation is strictly prohibited. If you do so\, you consent to your immediate removal from the Event and the forfeiture of any Event content in your possession. Thank you for your understanding and cooperation.\n*Event times hosted by Cosm may be subject to change due to scheduling conflicts. Cosm reserves the right\, at its sole discretion\, to adjust the start or end time of your event\, without notice\, which may differ from the time listed on your original ticket.
URL:https://www.grandscape.com/event/ncaaf-usc-nebraska-at-cosm/2025-11-01/
LOCATION:Cosm
CATEGORIES:Sports
ATTACH;FMTTYPE=image/webp:https://www.grandscape.com/wp-content/uploads/2025/10/110125-NCAAFB-USCvNEB-scaled.webp
END:VEVENT
BEGIN:VEVENT
DTSTART;TZID=America/Chicago:20251101T190000
DTEND;TZID=America/Chicago:20251101T210000
DTSTAMP:20260423T141829
CREATED:20251017T164403Z
LAST-MODIFIED:20251017T164403Z
UID:15525-1762023600-1762030800@www.grandscape.com
SUMMARY:El Chanclazo at Windmills
DESCRIPTION:El Chanclazo brings the feeling of a true Latin night to the stage. Formed by Mariana Grahl and Pepe Valdez\, the group brings together musicians from across Latin America who share a deep love for their roots. Their set moves through boleros\, cumbias\, and rancheras\, each played with the kind of energy that turns a concert into a celebration.
URL:https://www.grandscape.com/event/el-chanclazo-at-windmills/2025-11-01/
LOCATION:Windmills Brewery
CATEGORIES:Concert
ATTACH;FMTTYPE=image/jpeg:https://www.grandscape.com/wp-content/uploads/2025/10/El-Chanclazo_Digital_Grandscape.jpg
END:VEVENT
BEGIN:VEVENT
DTSTART;TZID=America/Chicago:20251102T170000
DTEND;TZID=America/Chicago:20251102T200000
DTSTAMP:20260423T141829
CREATED:20250909T205135Z
LAST-MODIFIED:20251017T214414Z
UID:15197-1762102800-1762113600@www.grandscape.com
SUMMARY:Día de los Muertos
DESCRIPTION:Feliz Día de los Muertos!\nJoin us as we celebrate Día de los Muertos\, also known as Day of the Dead\, on Sunday\, November 2 from 5:00-8:00pm. Día de los Muertos is the tradition of celebrating and sharing heartfelt memories of loved ones who have passed\, and we’re celebrating throughout the evening with live entertainment and activities for everyone to enjoy\, presented by Corona.\n \nThe event will include:\n\n	\nLive music and performances\n\n	\nAltar de Recuerdo (Altar of Remembrance)\n\n	\nFood vendors\n\n	\nFace painting\n\n\nWhat is the Altar de Recuerdo (Altar of Remembrance)?\nWe warmly invite all community members and guests to take part in creating our communal Altar de Recuerdo. As part of our Día de los Muertos celebration\, this altar serves as a heartfelt tribute to those who have passed\, honoring their memory through a collective expression of love and remembrance. To contribute\, please bring a photo (4×6 inches or smaller) of a loved one you’d like to honor. We kindly ask that you provide a copy\, as original photos cannot be returned. Together\, we will create a beautiful mosaic of memories.\n \nStage Schedule:\n\n	\n5:00pm – Mexico 2000 Ballet Folkloric\n\n	\n6:30pm – Latin Party Band\n\n\n \nCome out & celebrate Día de los Muertos! We’ll see you here!\n \nThis event is FREE and open to the public\, but food and drinks will be available for purchase from each individual vendor throughout the event.\nLooking for parking? Use our free parking garage!\nGrandscape is a large outdoor shopping center with endless food and dining. Please feel free to shop around The Homestead and grab a bite to eat at one of our many restaurants before or after the event!
URL:https://www.grandscape.com/event/dia-de-los-muertos-3/2025-11-02/
LOCATION:Corona Stage & Lawn
CATEGORIES:Cultural,Holiday Events
ATTACH;FMTTYPE=image/jpeg:https://www.grandscape.com/wp-content/uploads/2025/09/GS_Dia-De-Los-Muertos_Website-Event_960x500.jpg
END:VEVENT
BEGIN:VEVENT
DTSTART;TZID=America/Chicago:20251103T180000
DTEND;TZID=America/Chicago:20251103T200000
DTSTAMP:20260423T141829
CREATED:20251030T203931Z
LAST-MODIFIED:20251030T203931Z
UID:15616-1762192800-1762200000@www.grandscape.com
SUMMARY:"O" by Cirque du Soleil at Cosm
DESCRIPTION:Stay\, relax\, and explore as the experience continues with immersive visuals and music in a carefully curated lunch setting. Savor the moment a little longer – the show may be over\, but the experience has just begun.\nExperience “O” by Cirque du Soleil in the groundbreaking new format of Cosm Shared Reality.\nCosm—a global leader in experiential media and immersive technology—is blending the physical space with the digital world to bring you a deeply immersive Cirque du Soleil experience in a new communal format.\n“O” in Shared Reality places you inside an 87-foot wraparound LED dome to witness the majesty of “O” in astonishing 12K+ resolution! No headsets. Just you and your friends sharing an unforgettable experience surrounded by acrobatics\, artistry\, and the dreamlike vignettes of Cirque du Soleil’s aquatic masterpiece.\nGather your friends for the visionary digital entertainment event of “O” in Cosm Shared Reality.\n“O” by Cirque du Soleil is approximately 90 minutes. The show will begin promptly at the show start time listed on your ticket. Doors will open at least one hour before that time to allow you to explore The Hall and The Deck and find your seat in The Dome.\nSuitable for all ages. Please keep in mind that some parts of this event may include flashing lights\, strobing effects\, or other visual elements that may cause discomfort for photosensitive individuals. Feel free to contact our customer service team if you need any assistance. We are committed to making sure your experience is enjoyable.\nWalk-ins welcome. Subject to availability.
URL:https://www.grandscape.com/event/o-by-cirque-du-soleil-at-cosm-14/2025-11-03/
LOCATION:Cosm
ATTACH;FMTTYPE=image/webp:https://www.grandscape.com/wp-content/uploads/2025/10/cirquedusoleil_eventimage_2880x1440_v3-scaled.webp
END:VEVENT
BEGIN:VEVENT
DTSTART;TZID=America/Chicago:20251103T191500
DTEND;TZID=America/Chicago:20251103T221500
DTSTAMP:20260423T141829
CREATED:20251017T141956Z
LAST-MODIFIED:20251017T141956Z
UID:15517-1762197300-1762208100@www.grandscape.com
SUMMARY:Monday Night Matchup
DESCRIPTION:Can’t make it to the stadium? No worries! Catch all the game day action FREE on our giant outdoor screen at the Corona Stage & Lawn at Grandscape! Bring your crew\, grab a bite and cheer on your team under the open sky.\n \nEnjoy happy hour deals from 4:00-6:00pm at some of our restaurants:\n\n	\nTande Thai – $5 off specialty cocktails\n\n	\nJAKO Cocina y Agave – Margarita & food specials starting at $10\n\n	\nP.F. Chang’s – $5 select beer\, wine & cocktails / $10 select full size appetizers\n\n	\nParry’s Pizza – Gametime Special pizza\, wings and parmesan bites for $29.99\n\n	\nQuartino Ristorante – ½ off all pizzas and bottles of wine\n\n	\nSeven Doors Kitchen & Cocktails – special happy hour menu pricing\n\n	\nThirsty Lion – $2 off pints\, cocktails & wine / Food menu starting at $7.95\n\n	\nWalk-Ons Sports Bistreaux – $3 drink items & $5 food specials\n\n	\nWindmills Brewery – $5-7-9 food selections\, drink specials starting at $5\n\n\n \nNo outside alcohol or coolers are allowed. Please visit our Event FAQ for more information. \nLooking for parking? Use our free parking garage. 
URL:https://www.grandscape.com/event/monday-night-matchup-9/2025-11-03/
LOCATION:Corona Stage & Lawn
CATEGORIES:Sports,Watch Parties
ATTACH;FMTTYPE=image/jpeg:https://www.grandscape.com/wp-content/uploads/2025/08/cowboys-watch-party-11-scaled.jpg
END:VEVENT
BEGIN:VEVENT
DTSTART;TZID=America/Chicago:20251104T110000
DTEND;TZID=America/Chicago:20251104T130000
DTSTAMP:20260423T141829
CREATED:20251030T203637Z
LAST-MODIFIED:20251030T203637Z
UID:15614-1762254000-1762261200@www.grandscape.com
SUMMARY:Double Feature Event: Orbital & Liquidverse at Cosm
DESCRIPTION:Prepare to be transported to two entirely different worlds with our “Double Feature” event\, where you’ll experience the immersive realms of both Orbital and LIQUIDVERSE in The Dome. There will be a 15-minute intermission between the two shows.\nORBITAL\nVoyage beyond the planet and experience our home through the eyes of Astronauts. Orbital is an epic journey from the Big Bang\, to the flourishing of life on Earth\, to low Earth orbit. A new film by Guy Reid and Planetary Collective\, Orbital transports you through an abstract landscape of light\, inspired by bioluminescent earthly beings and atmospheric aurorae. Guided by the voices of the astronauts and cosmonauts of Constellation Coalition who have looked back and experienced the awe of our place in the universe\, you will feel your own “Overview Effect” as you meditate on our planet in Shared Reality.\nLIQUIDVERSE\nFlow beyond the symphony on this beautiful voyage. LIQUIDVERSE: Microcosm & Macrocosm\, an immersive audiovisual symphony by artist and composer Ricardo Romaneiro\, delves into the profound interconnectedness of scale from the microscopic to the cosmic. Witness a captivating journey where visuals\, intricately crafted using liquid oils and chemical reactions captured on a petri dish\, come to life\, unveiling the hidden beauty and complexity of the universe and beyond. Created in collaboration with Liquid Light Lab & Metropolis Ensemble.\nSuitable for all ages. Please keep in mind that some parts of this event may include flashing lights\, strobing effects\, or other visual elements that may cause discomfort for photosensitive individuals. Feel free to contact our customer service team if you need any assistance. We are committed to making sure your experience is enjoyable.\nWalk-ins welcome. Subject to availability.
URL:https://www.grandscape.com/event/double-feature-event-orbital-liquidverse-at-cosm/2025-11-04/
LOCATION:Cosm
ATTACH;FMTTYPE=image/webp:https://www.grandscape.com/wp-content/uploads/2025/10/Orbital_Liquidverse_eventimage_2880x1620_v4-scaled.webp
END:VEVENT
BEGIN:VEVENT
DTSTART;TZID=America/Chicago:20251105T180000
DTEND;TZID=America/Chicago:20251105T210000
DTSTAMP:20260423T141829
CREATED:20251010T160900Z
LAST-MODIFIED:20251010T160900Z
UID:15448-1762365600-1762376400@www.grandscape.com
SUMMARY:Gilmore Girls Takeover
DESCRIPTION:Calling all Stars Hollow superfans! It’s time to live fast\, talk faster\, and sip coffee like Lorelai. Join us for a cozy night on Wednesday\, November 5 from 6:00-9:00pm as we celebrate all things Gilmore Girls. \n \nEvent Includes:\n\n	\nFan-favorite episodes\n\n	\nA fun Gilmore Girls photo op \n\n	\nSweet treats worthy of Sookie\n\n\n \nBring your blankets and lawn chairs\, grab a coffee from Scheels or Liberation Coffee\, and snuggle up on the lawn with the Luke to your Lorelai. We’ll see you there!\n \nEpisodes:\n\n	\nSeason 2 Episode 10 – The Bracebridge Dinner\n\n	\nSeason 3 Episode 7 – They Shoot Gilmores\, Don’t They? \n\n	\nSeason 6 Episode 13 – Friday Nights Alright for Fighting \n\n\n \nEvent location – The Stage and Lawn at Grandscape\n \nNo outside alcohol or coolers are allowed. Please visit our Event FAQ for more information. https://www.grandscape.com/visit/\n \nLooking for parking? Use our free parking garage. https://www.grandscape.com/event-faq/\n \nGrandscape is a large outdoor shopping center with plenty of food and dining options to enjoy before the concert. https://www.grandscape.com/directory-listings/dining/ 
URL:https://www.grandscape.com/event/gilmore-girls-takeover-3/2025-11-05/
LOCATION:Corona Stage & Lawn
CATEGORIES:Watch Parties
ATTACH;FMTTYPE=image/jpeg:https://www.grandscape.com/wp-content/uploads/2025/10/GS_Gilmore-Girls_Website_960x500.jpg
END:VEVENT
BEGIN:VEVENT
DTSTART;TZID=America/Chicago:20251105T183000
DTEND;TZID=America/Chicago:20251105T203000
DTSTAMP:20260423T141829
CREATED:20250926T214324Z
LAST-MODIFIED:20250926T214324Z
UID:15390-1762367400-1762374600@www.grandscape.com
SUMMARY:Smooth Sessions Jazz
DESCRIPTION:Ease into the evening with soulful sounds and signature grooves.\nThe Smooth Sessions Jazz series will be bringing soulful\, jazz music by Vandell Andrew to The Grotto Wednesday\, November 5 from 6:30-8:30pm. Whether you’re unwinding after a long week or looking for the perfect midweek escape\, this is your place to be.\n \nCan’t make it this day? No worries! Grandscape’s Smooth Sessions Jazz series is every 1st and 3rd Wednesday of the month\, September through December\, from 6:30-8:30pm in The Grotto!\n \nThis show is FREE to the public. Enjoy the concert from one of our Grotto tenant’s patios or by bringing a lawn chair!\nNo outside alcohol or coolers are allowed. Please visit our Event FAQ for more information.\nWondering what The Grotto is? Unwind\, dine\, and delight in this outdoor oasis located between the Kaleidoscope and Grandscape Blvd. Explore the lower and upper levels of The Grotto with unique dining experiences and patio scenes you won’t want to miss.
URL:https://www.grandscape.com/event/smooth-sessions-jazz-4/2025-11-05/
LOCATION:The Grotto
CATEGORIES:Concert
ATTACH;FMTTYPE=image/jpeg:https://www.grandscape.com/wp-content/uploads/2025/09/GS_Smooth-Sessions-Jazz-Series_Website_960x500.jpg
END:VEVENT
BEGIN:VEVENT
DTSTART;TZID=America/Chicago:20251106T143000
DTEND;TZID=America/Chicago:20251106T163000
DTSTAMP:20260423T141829
CREATED:20251030T204054Z
LAST-MODIFIED:20251030T204054Z
UID:15618-1762439400-1762446600@www.grandscape.com
SUMMARY:The Matrix in Shared Reality at Cosm
DESCRIPTION:Are you ready to question reality? We can show you the door. Step into The Matrix in Shared Reality and engage with its mind-bending universe in an unparalleled immersive experience.\nIn partnership with Warner Bros. Pictures and the Emmy-nominated studio Little Cinema\, Cosm is bringing The Matrix to life in a first-of-its-kind cinematic experience. This innovative and transformative experience\, celebrating the 25th anniversary of the groundbreaking film\, transports fans into the Matrix. Be a part of the action as The Matrix unfolds around you on Cosm’s 87-foot diameter LED dome. Go beyond the scene as visuals dynamically evolve to interact with what’s happening on the screen.\nUnfortunately\, no one can be told what the Matrix is. You have to see it for yourself. Free your mind and experience the true magnitude of The Matrix in this exclusive cinematic event.\nEnhance your journey with curated food and drink available for purchase. Ask about the tasting menu when you arrive to ignite your senses and dive even deeper into the world of “The Matrix”.\nContains adult material; under 17 requires accompanying parent or adult guardian.\nPlease keep in mind that some parts of this event may include flashing lights\, strobing effects\, or other visual elements that may cause discomfort for photosensitive individuals. Feel free to contact our customer service team if you need any assistance. We are committed to making sure your experience is enjoyable.\nWalk-ins welcome. Subject to availability.
URL:https://www.grandscape.com/event/the-matrix-in-shared-reality-at-cosm-12/2025-11-06/
LOCATION:Cosm
ATTACH;FMTTYPE=image/webp:https://www.grandscape.com/wp-content/uploads/2025/10/webp_thematrix_eventimage_2880x1620_v1-scaled.webp
END:VEVENT
BEGIN:VEVENT
DTSTART;TZID=America/Chicago:20251106T190000
DTEND;TZID=America/Chicago:20251106T210000
DTSTAMP:20260423T141829
CREATED:20250915T163746Z
LAST-MODIFIED:20251024T125652Z
UID:15243-1762455600-1762462800@www.grandscape.com
SUMMARY:Live on the Stage: Limelight
DESCRIPTION:Ready to turn your night into a non-stop celebration? \nStep into the spotlight with Limelight LIVE on The Grandscape Stage & Lawn on Thursday\, November 6 from 7:00-9:00pm\, presented by Corona.   \nThis show is FREE to the public. Enjoy the concert from our vast lawn by bringing a blanket or lawn chair! \nNo outside alcohol or coolers are allowed. Please visit event faq for more information. \nLooking for parking? Use our free parking garage. \nGrandscape is a large outdoor shopping center with plenty of food and dining options to enjoy before the concert. 
URL:https://www.grandscape.com/event/live-on-the-stage-limelight/2025-11-06/
LOCATION:Corona Stage & Lawn
CATEGORIES:Concert
ATTACH;FMTTYPE=image/jpeg:https://www.grandscape.com/wp-content/uploads/2025/09/GS_Live-on-the-Stage_Website_960x500_Limelight.jpg
END:VEVENT
END:VCALENDAR